BEGIN:VCALENDAR
VERSION:2.0
PRODID:-//GunStuff TV - ECPv6.15.20//NONSGML v1.0//EN
CALSCALE:GREGORIAN
METHOD:PUBLISH
X-ORIGINAL-URL:https://gunstuff.tv
X-WR-CALDESC:Events for GunStuff TV
REFRESH-INTERVAL;VALUE=DURATION:PT1H
X-Robots-Tag:noindex
X-PUBLISHED-TTL:PT1H
BEGIN:VTIMEZONE
TZID:UTC
BEGIN:STANDARD
TZOFFSETFROM:+0000
TZOFFSETTO:+0000
TZNAME:UTC
DTSTART:20250101T000000
END:STANDARD
END:VTIMEZONE
BEGIN:VEVENT
DTSTART;TZID=UTC:20260422T050000
DTEND;TZID=UTC:20260422T100000
DTSTAMP:20260421T195532
CREATED:20260421T200303Z
LAST-MODIFIED:20260421T200303Z
UID:10008143-1776834000-1776852000@gunstuff.tv
SUMMARY:NHRSA 22Team Selection Round 1
DESCRIPTION:8.13     The following criteria shall apply to determine the NHRSA Rankings which will be used to select the NHRSA team which will represent Namibia at International events:\n               8.13.1   National and Presidential teams will be selected out of the Top 30 shooters on the NHRSA rankings where the best three scores over a 12-month period will count for the Top 30. Men and Ladies can qualify for these teams.\nThe Year score will count 50% and the TOP 30 will be 2 rounds each round 25%. (50%+25%+25% = 100%)\nLadies National and Presidential teams will be selected out of the Top 20 Ladies shooters on the NHRSA rankings where the best 3 scores over 12 month period will count for the Top 20 Ladies to qualify for these teams. Ladies teams will also be selected according to rankings and Top 20 shoot. The year score will count 50% and the Top 20 Ladies will be 2 rounds each round 25%. (50%+25%+25% = 100%)\n   8.13.2	.222 / .223 National and Presidential teams will be selected out of the Top 30 shooters on the NHRSA rankings where the best three scores over a 12-month period will count for the Top 30. Men and Ladies can qualify for these teams.\nThe Year score will count 50% and the TOP 30 will be 2 rounds each round 25%. (50%+25%+25% = 100%)\n 8.13.3     .22 National teams will be selected out of the Top 15 shooters on the NHRSA rankings where the best three scores over a 12-month period will count for the Top 15. Men and Ladies can qualify for this team.\nThe Year score will count 50% and the TOP 15 will be 2 rounds each round 25%. (50%+25%+25% = 100%)\n          8.13.4       National Junior teams will be selected out of the Top 15 shooters on the NHRSA rankings where the best three scores over a 12-month period will count for the Top 15. Juniors and Penkop can qualify for this team.\nThe Year score will count 50% and the TOP 15 will be 2 rounds each round 25%. (50%+25%+25% = 100%) \n8.13.5       National Seniors teams will be selected out of the Top 15 shooters on the NHRSA rankings where the best three scores over a 12-month period will count for the Top 15. Senior and Veteran can qualify for this team.\nThe Year score will count 50% and the TOP 15 will be 2 rounds each round 25%. (50%+25%+25% = 100%)\n8.13.6      After the team selection shoot there needs to be a full commitment from each team     member to be present for all team practice events before the international event. If a full commitment can not be given the committee needs to be notified before the team selection shoot. This info needs to be sent to the secretary 15 days prior to the TOP30/20 shoot\n8.13.7      The finale selector panel will comprise of the Chairman\, Vice Chairman\, and Safety officer and reserve the right to choose upon their opinion the best teams representing the NHRSA.
URL:https://gunstuff.tv/event/nhrsa-22team-selection-round-1/
LOCATION:\, Windhoek Khomas\, Namibia
END:VEVENT
BEGIN:VEVENT
DTSTART;TZID=UTC:20260422T100000
DTEND;TZID=UTC:20260422T170000
DTSTAMP:20260421T195532
CREATED:20260421T200303Z
LAST-MODIFIED:20260421T200303Z
UID:10008142-1776852000-1776877200@gunstuff.tv
SUMMARY:NHRSA 22Team Selection Round 2
DESCRIPTION:8.13     The following criteria shall apply to determine the NHRSA Rankings which will be used to select the NHRSA team which will represent Namibia at International events:\n               8.13.1   National and Presidential teams will be selected out of the Top 30 shooters on the NHRSA rankings where the best three scores over a 12-month period will count for the Top 30. Men and Ladies can qualify for these teams.\nThe Year score will count 50% and the TOP 30 will be 2 rounds each round 25%. (50%+25%+25% = 100%)\nLadies National and Presidential teams will be selected out of the Top 20 Ladies shooters on the NHRSA rankings where the best 3 scores over 12 month period will count for the Top 20 Ladies to qualify for these teams. Ladies teams will also be selected according to rankings and Top 20 shoot. The year score will count 50% and the Top 20 Ladies will be 2 rounds each round 25%. (50%+25%+25% = 100%)\n   8.13.2	.222 / .223 National and Presidential teams will be selected out of the Top 30 shooters on the NHRSA rankings where the best three scores over a 12-month period will count for the Top 30. Men and Ladies can qualify for these teams.\nThe Year score will count 50% and the TOP 30 will be 2 rounds each round 25%. (50%+25%+25% = 100%)\n 8.13.3     .22 National teams will be selected out of the Top 15 shooters on the NHRSA rankings where the best three scores over a 12-month period will count for the Top 15. Men and Ladies can qualify for this team.\nThe Year score will count 50% and the TOP 15 will be 2 rounds each round 25%. (50%+25%+25% = 100%)\n          8.13.4       National Junior teams will be selected out of the Top 15 shooters on the NHRSA rankings where the best three scores over a 12-month period will count for the Top 15. Juniors and Penkop can qualify for this team.\nThe Year score will count 50% and the TOP 15 will be 2 rounds each round 25%. (50%+25%+25% = 100%) \n8.13.5       National Seniors teams will be selected out of the Top 15 shooters on the NHRSA rankings where the best three scores over a 12-month period will count for the Top 15. Senior and Veteran can qualify for this team.\nThe Year score will count 50% and the TOP 15 will be 2 rounds each round 25%. (50%+25%+25% = 100%)\n8.13.6      After the team selection shoot there needs to be a full commitment from each team     member to be present for all team practice events before the international event. If a full commitment can not be given the committee needs to be notified before the team selection shoot. This info needs to be sent to the secretary 15 days prior to the TOP30/20 shoot\n8.13.7      The finale selector panel will comprise of the Chairman\, Vice Chairman\, and Safety officer and reserve the right to choose upon their opinion the best teams representing the NHRSA.
URL:https://gunstuff.tv/event/nhrsa-22team-selection-round-2/
LOCATION:\, Windhoek Khomas\, Namibia
END:VEVENT
BEGIN:VEVENT
DTSTART;TZID=UTC:20260423T050000
DTEND;TZID=UTC:20260423T100000
DTSTAMP:20260421T195532
CREATED:20260421T200308Z
LAST-MODIFIED:20260421T200308Z
UID:10008187-1776920400-1776938400@gunstuff.tv
SUMMARY:NHRSA Ope Team Selection Round 1 2026
DESCRIPTION:8.13     The following criteria shall apply to determine the NHRSA Rankings which will be used to select the NHRSA team which will represent Namibia at International events:\n               8.13.1   National and Presidential teams will be selected out of the Top 30 shooters on the NHRSA rankings where the best three scores over a 12-month period will count for the Top 30. Men and Ladies can qualify for these teams.\nThe Year score will count 50% and the TOP 30 will be 2 rounds each round 25%. (50%+25%+25% = 100%)\nLadies National and Presidential teams will be selected out of the Top 20 Ladies shooters on the NHRSA rankings where the best 3 scores over 12 month period will count for the Top 20 Ladies to qualify for these teams. Ladies teams will also be selected according to rankings and Top 20 shoot. The year score will count 50% and the Top 20 Ladies will be 2 rounds each round 25%. (50%+25%+25% = 100%)\n   8.13.2	.222 / .223 National and Presidential teams will be selected out of the Top 30 shooters on the NHRSA rankings where the best three scores over a 12-month period will count for the Top 30. Men and Ladies can qualify for these teams.\nThe Year score will count 50% and the TOP 30 will be 2 rounds each round 25%. (50%+25%+25% = 100%)\n 8.13.3     .22 National teams will be selected out of the Top 15 shooters on the NHRSA rankings where the best three scores over a 12-month period will count for the Top 15. Men and Ladies can qualify for this team.\nThe Year score will count 50% and the TOP 15 will be 2 rounds each round 25%. (50%+25%+25% = 100%)\n          8.13.4       National Junior teams will be selected out of the Top 15 shooters on the NHRSA rankings where the best three scores over a 12-month period will count for the Top 15. Juniors and Penkop can qualify for this team.\nThe Year score will count 50% and the TOP 15 will be 2 rounds each round 25%. (50%+25%+25% = 100%) \n8.13.5       National Seniors teams will be selected out of the Top 15 shooters on the NHRSA rankings where the best three scores over a 12-month period will count for the Top 15. Senior and Veteran can qualify for this team.\nThe Year score will count 50% and the TOP 15 will be 2 rounds each round 25%. (50%+25%+25% = 100%)\n8.13.6      After the team selection shoot there needs to be a full commitment from each team     member to be present for all team practice events before the international event. If a full commitment can not be given the committee needs to be notified before the team selection shoot. This info needs to be sent to the secretary 15 days prior to the TOP30/20 shoot\n8.13.7      The finale selector panel will comprise of the Chairman\, Vice Chairman\, and Safety officer and reserve the right to choose upon their opinion the best teams representing the NHRSA.
URL:https://gunstuff.tv/event/nhrsa-ope-team-selection-round-1-2026/
LOCATION:\, Windhoek Khomas\, Namibia
END:VEVENT
BEGIN:VEVENT
DTSTART;TZID=UTC:20260423T100000
DTEND;TZID=UTC:20260423T170000
DTSTAMP:20260421T195532
CREATED:20260421T200308Z
LAST-MODIFIED:20260421T200308Z
UID:10008191-1776938400-1776963600@gunstuff.tv
SUMMARY:NHRSA Ope Team Selection Round 2 2026
DESCRIPTION:8.13     The following criteria shall apply to determine the NHRSA Rankings which will be used to select the NHRSA team which will represent Namibia at International events:\n               8.13.1   National and Presidential teams will be selected out of the Top 30 shooters on the NHRSA rankings where the best three scores over a 12-month period will count for the Top 30. Men and Ladies can qualify for these teams.\nThe Year score will count 50% and the TOP 30 will be 2 rounds each round 25%. (50%+25%+25% = 100%)\nLadies National and Presidential teams will be selected out of the Top 20 Ladies shooters on the NHRSA rankings where the best 3 scores over 12 month period will count for the Top 20 Ladies to qualify for these teams. Ladies teams will also be selected according to rankings and Top 20 shoot. The year score will count 50% and the Top 20 Ladies will be 2 rounds each round 25%. (50%+25%+25% = 100%)\n   8.13.2	.222 / .223 National and Presidential teams will be selected out of the Top 30 shooters on the NHRSA rankings where the best three scores over a 12-month period will count for the Top 30. Men and Ladies can qualify for these teams.\nThe Year score will count 50% and the TOP 30 will be 2 rounds each round 25%. (50%+25%+25% = 100%)\n 8.13.3     .22 National teams will be selected out of the Top 15 shooters on the NHRSA rankings where the best three scores over a 12-month period will count for the Top 15. Men and Ladies can qualify for this team.\nThe Year score will count 50% and the TOP 15 will be 2 rounds each round 25%. (50%+25%+25% = 100%)\n          8.13.4       National Junior teams will be selected out of the Top 15 shooters on the NHRSA rankings where the best three scores over a 12-month period will count for the Top 15. Juniors and Penkop can qualify for this team.\nThe Year score will count 50% and the TOP 15 will be 2 rounds each round 25%. (50%+25%+25% = 100%) \n8.13.5       National Seniors teams will be selected out of the Top 15 shooters on the NHRSA rankings where the best three scores over a 12-month period will count for the Top 15. Senior and Veteran can qualify for this team.\nThe Year score will count 50% and the TOP 15 will be 2 rounds each round 25%. (50%+25%+25% = 100%)\n8.13.6      After the team selection shoot there needs to be a full commitment from each team     member to be present for all team practice events before the international event. If a full commitment can not be given the committee needs to be notified before the team selection shoot. This info needs to be sent to the secretary 15 days prior to the TOP30/20 shoot\n8.13.7      The finale selector panel will comprise of the Chairman\, Vice Chairman\, and Safety officer and reserve the right to choose upon their opinion the best teams representing the NHRSA.
URL:https://gunstuff.tv/event/nhrsa-ope-team-selection-round-2-2026/
LOCATION:\, Windhoek Khomas\, Namibia
END:VEVENT
BEGIN:VEVENT
DTSTART;TZID=UTC:20260424T050000
DTEND;TZID=UTC:20260424T100000
DTSTAMP:20260421T195532
CREATED:20260421T200313Z
LAST-MODIFIED:20260421T200313Z
UID:10008235-1777006800-1777024800@gunstuff.tv
SUMMARY:NHRSA 222 - 223 Team Selection Round 1
DESCRIPTION:8.13     The following criteria shall apply to determine the NHRSA Rankings which will be used to select the NHRSA team which will represent Namibia at International events:\n               8.13.1   National and Presidential teams will be selected out of the Top 30 shooters on the NHRSA rankings where the best three scores over a 12-month period will count for the Top 30. Men and Ladies can qualify for these teams.\nThe Year score will count 50% and the TOP 30 will be 2 rounds each round 25%. (50%+25%+25% = 100%)\nLadies National and Presidential teams will be selected out of the Top 20 Ladies shooters on the NHRSA rankings where the best 3 scores over 12 month period will count for the Top 20 Ladies to qualify for these teams. Ladies teams will also be selected according to rankings and Top 20 shoot. The year score will count 50% and the Top 20 Ladies will be 2 rounds each round 25%. (50%+25%+25% = 100%)\n   8.13.2	.222 / .223 National and Presidential teams will be selected out of the Top 30 shooters on the NHRSA rankings where the best three scores over a 12-month period will count for the Top 30. Men and Ladies can qualify for these teams.\nThe Year score will count 50% and the TOP 30 will be 2 rounds each round 25%. (50%+25%+25% = 100%)\n 8.13.3     .22 National teams will be selected out of the Top 15 shooters on the NHRSA rankings where the best three scores over a 12-month period will count for the Top 15. Men and Ladies can qualify for this team.\nThe Year score will count 50% and the TOP 15 will be 2 rounds each round 25%. (50%+25%+25% = 100%)\n          8.13.4       National Junior teams will be selected out of the Top 15 shooters on the NHRSA rankings where the best three scores over a 12-month period will count for the Top 15. Juniors and Penkop can qualify for this team.\nThe Year score will count 50% and the TOP 15 will be 2 rounds each round 25%. (50%+25%+25% = 100%) \n8.13.5       National Seniors teams will be selected out of the Top 15 shooters on the NHRSA rankings where the best three scores over a 12-month period will count for the Top 15. Senior and Veteran can qualify for this team.\nThe Year score will count 50% and the TOP 15 will be 2 rounds each round 25%. (50%+25%+25% = 100%)\n8.13.6      After the team selection shoot there needs to be a full commitment from each team     member to be present for all team practice events before the international event. If a full commitment can not be given the committee needs to be notified before the team selection shoot. This info needs to be sent to the secretary 15 days prior to the TOP30/20 shoot\n8.13.7      The finale selector panel will comprise of the Chairman\, Vice Chairman\, and Safety officer and reserve the right to choose upon their opinion the best teams representing the NHRSA.
URL:https://gunstuff.tv/event/nhrsa-222-223-team-selection-round-1/
LOCATION:\, Windhoek Khomas\, Namibia
END:VEVENT
BEGIN:VEVENT
DTSTART;TZID=UTC:20260424T100000
DTEND;TZID=UTC:20260424T150000
DTSTAMP:20260421T195532
CREATED:20260421T200330Z
LAST-MODIFIED:20260421T200330Z
UID:10008379-1777024800-1777042800@gunstuff.tv
SUMMARY:NHRSA  222  223 Team Selection Round 2
DESCRIPTION:8.13     The following criteria shall apply to determine the NHRSA Rankings which will be used to select the NHRSA team which will represent Namibia at International events:\n               8.13.1   National and Presidential teams will be selected out of the Top 30 shooters on the NHRSA rankings where the best three scores over a 12-month period will count for the Top 30. Men and Ladies can qualify for these teams.\nThe Year score will count 50% and the TOP 30 will be 2 rounds each round 25%. (50%+25%+25% = 100%)\nLadies National and Presidential teams will be selected out of the Top 20 Ladies shooters on the NHRSA rankings where the best 3 scores over 12 month period will count for the Top 20 Ladies to qualify for these teams. Ladies teams will also be selected according to rankings and Top 20 shoot. The year score will count 50% and the Top 20 Ladies will be 2 rounds each round 25%. (50%+25%+25% = 100%)\n   8.13.2	.222 / .223 National and Presidential teams will be selected out of the Top 30 shooters on the NHRSA rankings where the best three scores over a 12-month period will count for the Top 30. Men and Ladies can qualify for these teams.\nThe Year score will count 50% and the TOP 30 will be 2 rounds each round 25%. (50%+25%+25% = 100%)\n 8.13.3     .22 National teams will be selected out of the Top 15 shooters on the NHRSA rankings where the best three scores over a 12-month period will count for the Top 15. Men and Ladies can qualify for this team.\nThe Year score will count 50% and the TOP 15 will be 2 rounds each round 25%. (50%+25%+25% = 100%)\n          8.13.4       National Junior teams will be selected out of the Top 15 shooters on the NHRSA rankings where the best three scores over a 12-month period will count for the Top 15. Juniors and Penkop can qualify for this team.\nThe Year score will count 50% and the TOP 15 will be 2 rounds each round 25%. (50%+25%+25% = 100%) \n8.13.5       National Seniors teams will be selected out of the Top 15 shooters on the NHRSA rankings where the best three scores over a 12-month period will count for the Top 15. Senior and Veteran can qualify for this team.\nThe Year score will count 50% and the TOP 15 will be 2 rounds each round 25%. (50%+25%+25% = 100%)\n8.13.6      After the team selection shoot there needs to be a full commitment from each team     member to be present for all team practice events before the international event. If a full commitment can not be given the committee needs to be notified before the team selection shoot. This info needs to be sent to the secretary 15 days prior to the TOP30/20 shoot\n8.13.7      The finale selector panel will comprise of the Chairman\, Vice Chairman\, and Safety officer and reserve the right to choose upon their opinion the best teams representing the NHRSA.
URL:https://gunstuff.tv/event/nhrsa-222-223-team-selection-round-2/
LOCATION:\, Windhoek Khomas\, Namibia
END:VEVENT
BEGIN:VEVENT
DTSTART;TZID=UTC:20260425T060000
DTEND;TZID=UTC:20260425T150000
DTSTAMP:20260421T195532
CREATED:20260421T200332Z
LAST-MODIFIED:20260421T200332Z
UID:10008402-1777096800-1777129200@gunstuff.tv
SUMMARY:NHRSA 2 Person Team Gong Challenge
DESCRIPTION:Competition Entry Fees per Team\nN$ 1000.00\nWe are busy with Dinner (Schnitzel with chips and Desert) to be included in the Entry Fees.\nDinner venue to be confirm at SKW Biergarten.
URL:https://gunstuff.tv/event/nhrsa-2-person-team-gong-challenge/
LOCATION:\, Windhoek Khomas\, Namibia
END:VEVENT
END:VCALENDAR