BEGIN:VCALENDAR
VERSION:2.0
PRODID:-//GunStuff TV - ECPv6.15.20//NONSGML v1.0//EN
CALSCALE:GREGORIAN
METHOD:PUBLISH
X-ORIGINAL-URL:https://gunstuff.tv
X-WR-CALDESC:Events for GunStuff TV
REFRESH-INTERVAL;VALUE=DURATION:PT1H
X-Robots-Tag:noindex
X-PUBLISHED-TTL:PT1H
BEGIN:VTIMEZONE
TZID:America/Indiana/Indianapolis
BEGIN:DAYLIGHT
TZOFFSETFROM:-0500
TZOFFSETTO:-0400
TZNAME:EDT
DTSTART:20250309T070000
END:DAYLIGHT
BEGIN:STANDARD
TZOFFSETFROM:-0400
TZOFFSETTO:-0500
TZNAME:EST
DTSTART:20251102T060000
END:STANDARD
BEGIN:DAYLIGHT
TZOFFSETFROM:-0500
TZOFFSETTO:-0400
TZNAME:EDT
DTSTART:20260308T070000
END:DAYLIGHT
BEGIN:STANDARD
TZOFFSETFROM:-0400
TZOFFSETTO:-0500
TZNAME:EST
DTSTART:20261101T060000
END:STANDARD
BEGIN:DAYLIGHT
TZOFFSETFROM:-0500
TZOFFSETTO:-0400
TZNAME:EDT
DTSTART:20270314T070000
END:DAYLIGHT
BEGIN:STANDARD
TZOFFSETFROM:-0400
TZOFFSETTO:-0500
TZNAME:EST
DTSTART:20271107T060000
END:STANDARD
END:VTIMEZONE
BEGIN:VEVENT
DTSTART;TZID=America/Indiana/Indianapolis:20260225T160000
DTEND;TZID=America/Indiana/Indianapolis:20260225T180000
DTSTAMP:20260425T164139
CREATED:20260202T024709Z
LAST-MODIFIED:20260223T024626Z
UID:10004895-1772035200-1772042400@gunstuff.tv
SUMMARY:HHS Trap
DESCRIPTION:Harrision High SchoolTrapRanges 9\, 10 and Clubhouse
URL:https://gunstuff.tv/event/hhs-trap/
LOCATION:Wildcat Valley R and P Club\, 12094 S 300 E\, Brookston\, IN\, United States
CATEGORIES:Trap
GEO:40.576877;-86.811749
X-APPLE-STRUCTURED-LOCATION;VALUE=URI;X-ADDRESS=Wildcat Valley R and P Club 12094 S 300 E Brookston IN United States;X-APPLE-RADIUS=500;X-TITLE=12094 S 300 E:geo:-86.811749,40.576877
END:VEVENT
BEGIN:VEVENT
DTSTART;TZID=America/Indiana/Indianapolis:20260221T110000
DTEND;TZID=America/Indiana/Indianapolis:20260221T180000
DTSTAMP:20260425T164139
CREATED:20260202T024709Z
LAST-MODIFIED:20260216T024633Z
UID:10004894-1771671600-1771696800@gunstuff.tv
SUMMARY:PCSL
DESCRIPTION:Setup 11:00 AMMatch 1:00 PM\n(Ranges 1\, 3 thru 8)
URL:https://gunstuff.tv/event/pcsl-5/
LOCATION:Wildcat Valley R and P Club\, 12094 S 300 E\, Brookston\, IN\, United States
CATEGORIES:PCSL
GEO:40.576877;-86.811749
X-APPLE-STRUCTURED-LOCATION;VALUE=URI;X-ADDRESS=Wildcat Valley R and P Club 12094 S 300 E Brookston IN United States;X-APPLE-RADIUS=500;X-TITLE=12094 S 300 E:geo:-86.811749,40.576877
END:VEVENT
BEGIN:VEVENT
DTSTART;TZID=America/Indiana/Indianapolis:20260220T180000
DTEND;TZID=America/Indiana/Indianapolis:20260220T210000
DTSTAMP:20260425T164139
CREATED:20260202T024709Z
LAST-MODIFIED:20260216T024633Z
UID:10004893-1771610400-1771621200@gunstuff.tv
SUMMARY:PCSL Setup
DESCRIPTION:Setup 6:00 PM(Ranges 1\, 3 thru 8)
URL:https://gunstuff.tv/event/pcsl-setup/
LOCATION:Wildcat Valley R and P Club\, 12094 S 300 E\, Brookston\, IN\, United States
CATEGORIES:PCSL
GEO:40.576877;-86.811749
X-APPLE-STRUCTURED-LOCATION;VALUE=URI;X-ADDRESS=Wildcat Valley R and P Club 12094 S 300 E Brookston IN United States;X-APPLE-RADIUS=500;X-TITLE=12094 S 300 E:geo:-86.811749,40.576877
END:VEVENT
BEGIN:VEVENT
DTSTART;TZID=America/Indiana/Indianapolis:20260208T120000
DTEND;TZID=America/Indiana/Indianapolis:20260208T170000
DTSTAMP:20260425T164139
CREATED:20260202T024709Z
LAST-MODIFIED:20260202T024709Z
UID:10004892-1770552000-1770570000@gunstuff.tv
SUMMARY:NRL22
DESCRIPTION:Sight-In 12:00 PMRange 1
URL:https://gunstuff.tv/event/nrl22-6/
LOCATION:Wildcat Valley R and P Club\, 12094 S 300 E\, Brookston\, IN\, United States
CATEGORIES:NRL-22
GEO:40.576877;-86.811749
X-APPLE-STRUCTURED-LOCATION;VALUE=URI;X-ADDRESS=Wildcat Valley R and P Club 12094 S 300 E Brookston IN United States;X-APPLE-RADIUS=500;X-TITLE=12094 S 300 E:geo:-86.811749,40.576877
END:VEVENT
BEGIN:VEVENT
DTSTART;TZID=America/Indiana/Indianapolis:20260207T090000
DTEND;TZID=America/Indiana/Indianapolis:20260207T120000
DTSTAMP:20260425T164139
CREATED:20260202T024709Z
LAST-MODIFIED:20260202T024709Z
UID:10004891-1770454800-1770465600@gunstuff.tv
SUMMARY:High Power M1 Garand
DESCRIPTION:Range 1
URL:https://gunstuff.tv/event/high-power-m1-garand/
LOCATION:Wildcat Valley R and P Club\, 12094 S 300 E\, Brookston\, IN\, United States
CATEGORIES:Highpower
GEO:40.576877;-86.811749
X-APPLE-STRUCTURED-LOCATION;VALUE=URI;X-ADDRESS=Wildcat Valley R and P Club 12094 S 300 E Brookston IN United States;X-APPLE-RADIUS=500;X-TITLE=12094 S 300 E:geo:-86.811749,40.576877
END:VEVENT
BEGIN:VEVENT
DTSTART;TZID=America/Indiana/Indianapolis:20260204T193000
DTEND;TZID=America/Indiana/Indianapolis:20260204T203000
DTSTAMP:20260425T164139
CREATED:20260202T024709Z
LAST-MODIFIED:20260202T024709Z
UID:10004890-1770233400-1770237000@gunstuff.tv
SUMMARY:Club Meeting
DESCRIPTION:Clubhouse
URL:https://gunstuff.tv/event/club-meeting-4/
LOCATION:Wildcat Valley R and P Club\, 12094 S 300 E\, Brookston\, IN\, United States
CATEGORIES:Membership Meetings
GEO:40.576877;-86.811749
X-APPLE-STRUCTURED-LOCATION;VALUE=URI;X-ADDRESS=Wildcat Valley R and P Club 12094 S 300 E Brookston IN United States;X-APPLE-RADIUS=500;X-TITLE=12094 S 300 E:geo:-86.811749,40.576877
END:VEVENT
BEGIN:VEVENT
DTSTART;TZID=America/Indiana/Indianapolis:20260128T193000
DTEND;TZID=America/Indiana/Indianapolis:20260128T203000
DTSTAMP:20260425T164139
CREATED:20260109T113135Z
LAST-MODIFIED:20260123T113217Z
UID:10003892-1769628600-1769632200@gunstuff.tv
SUMMARY:Exec Meeting
DESCRIPTION:Clubhouse
URL:https://gunstuff.tv/event/exec-meeting-4/
LOCATION:Wildcat Valley R and P Club\, 12094 S 300 E\, Brookston\, IN\, United States
CATEGORIES:Executive Board Meetings
GEO:40.576877;-86.811749
X-APPLE-STRUCTURED-LOCATION;VALUE=URI;X-ADDRESS=Wildcat Valley R and P Club 12094 S 300 E Brookston IN United States;X-APPLE-RADIUS=500;X-TITLE=12094 S 300 E:geo:-86.811749,40.576877
END:VEVENT
END:VCALENDAR