BEGIN:VCALENDAR
VERSION:2.0
PRODID:-//GunStuff TV - ECPv6.15.20//NONSGML v1.0//EN
CALSCALE:GREGORIAN
METHOD:PUBLISH
X-WR-CALNAME:GunStuff TV
X-ORIGINAL-URL:https://gunstuff.tv
X-WR-CALDESC:Events for GunStuff TV
REFRESH-INTERVAL;VALUE=DURATION:PT1H
X-Robots-Tag:noindex
X-PUBLISHED-TTL:PT1H
BEGIN:VTIMEZONE
TZID:America/Indiana/Indianapolis
BEGIN:DAYLIGHT
TZOFFSETFROM:-0500
TZOFFSETTO:-0400
TZNAME:EDT
DTSTART:20250309T070000
END:DAYLIGHT
BEGIN:STANDARD
TZOFFSETFROM:-0400
TZOFFSETTO:-0500
TZNAME:EST
DTSTART:20251102T060000
END:STANDARD
BEGIN:DAYLIGHT
TZOFFSETFROM:-0500
TZOFFSETTO:-0400
TZNAME:EDT
DTSTART:20260308T070000
END:DAYLIGHT
BEGIN:STANDARD
TZOFFSETFROM:-0400
TZOFFSETTO:-0500
TZNAME:EST
DTSTART:20261101T060000
END:STANDARD
BEGIN:DAYLIGHT
TZOFFSETFROM:-0500
TZOFFSETTO:-0400
TZNAME:EDT
DTSTART:20270314T070000
END:DAYLIGHT
BEGIN:STANDARD
TZOFFSETFROM:-0400
TZOFFSETTO:-0500
TZNAME:EST
DTSTART:20271107T060000
END:STANDARD
END:VTIMEZONE
BEGIN:VEVENT
DTSTART;TZID=America/Indiana/Indianapolis:20260424T170000
DTEND;TZID=America/Indiana/Indianapolis:20260424T200000
DTSTAMP:20260425T091420
CREATED:20260406T031735Z
LAST-MODIFIED:20260420T034749Z
UID:10006819-1777050000-1777060800@gunstuff.tv
SUMMARY:ICORE Setup
DESCRIPTION:Setup 5:00 PM(Ranges 3 – 7)
URL:https://gunstuff.tv/event/icore-setup-2/
LOCATION:Wildcat Valley R and P Club\, 12094 S 300 E\, Brookston\, IN\, United States
CATEGORIES:ICORE
GEO:40.576877;-86.811749
X-APPLE-STRUCTURED-LOCATION;VALUE=URI;X-ADDRESS=Wildcat Valley R and P Club 12094 S 300 E Brookston IN United States;X-APPLE-RADIUS=500;X-TITLE=12094 S 300 E:geo:-86.811749,40.576877
END:VEVENT
BEGIN:VEVENT
DTSTART;TZID=America/Indiana/Indianapolis:20260423T160000
DTEND;TZID=America/Indiana/Indianapolis:20260423T180000
DTSTAMP:20260425T091420
CREATED:20260406T031735Z
LAST-MODIFIED:20260406T031735Z
UID:10006808-1776960000-1776967200@gunstuff.tv
SUMMARY:HHS Rain Date
DESCRIPTION:Harrision High SchoolTrapRanges 9 & 10
URL:https://gunstuff.tv/event/hhs-rain-date-8/
LOCATION:Wildcat Valley R and P Club\, 12094 S 300 E\, Brookston\, IN\, United States
CATEGORIES:Trap
GEO:40.576877;-86.811749
X-APPLE-STRUCTURED-LOCATION;VALUE=URI;X-ADDRESS=Wildcat Valley R and P Club 12094 S 300 E Brookston IN United States;X-APPLE-RADIUS=500;X-TITLE=12094 S 300 E:geo:-86.811749,40.576877
END:VEVENT
BEGIN:VEVENT
DTSTART;TZID=America/Indiana/Indianapolis:20260423T160000
DTEND;TZID=America/Indiana/Indianapolis:20260423T180000
DTSTAMP:20260425T091420
CREATED:20260406T031734Z
LAST-MODIFIED:20260420T034749Z
UID:10006818-1776960000-1776967200@gunstuff.tv
SUMMARY:HHS Rain Date
DESCRIPTION:Harrision High SchoolTrapRanges 9 & 10
URL:https://gunstuff.tv/event/hhs-rain-date-7/
LOCATION:Wildcat Valley R and P Club\, 12094 S 300 E\, Brookston\, IN\, United States
CATEGORIES:Trap
GEO:40.576877;-86.811749
X-APPLE-STRUCTURED-LOCATION;VALUE=URI;X-ADDRESS=Wildcat Valley R and P Club 12094 S 300 E Brookston IN United States;X-APPLE-RADIUS=500;X-TITLE=12094 S 300 E:geo:-86.811749,40.576877
END:VEVENT
BEGIN:VEVENT
DTSTART;TZID=America/Indiana/Indianapolis:20260422T160000
DTEND;TZID=America/Indiana/Indianapolis:20260422T180000
DTSTAMP:20260425T091420
CREATED:20260406T031735Z
LAST-MODIFIED:20260406T031735Z
UID:10006807-1776873600-1776880800@gunstuff.tv
SUMMARY:HHS Trap
DESCRIPTION:Harrision High SchoolTrapRanges 9 & 10
URL:https://gunstuff.tv/event/hhs-trap-9/
LOCATION:Wildcat Valley R and P Club\, 12094 S 300 E\, Brookston\, IN\, United States
CATEGORIES:Trap
GEO:40.576877;-86.811749
X-APPLE-STRUCTURED-LOCATION;VALUE=URI;X-ADDRESS=Wildcat Valley R and P Club 12094 S 300 E Brookston IN United States;X-APPLE-RADIUS=500;X-TITLE=12094 S 300 E:geo:-86.811749,40.576877
END:VEVENT
BEGIN:VEVENT
DTSTART;TZID=America/Indiana/Indianapolis:20260422T160000
DTEND;TZID=America/Indiana/Indianapolis:20260422T180000
DTSTAMP:20260425T091420
CREATED:20260406T031734Z
LAST-MODIFIED:20260420T034748Z
UID:10006817-1776873600-1776880800@gunstuff.tv
SUMMARY:HHS Trap
DESCRIPTION:Harrision High SchoolTrapRanges 9 & 10
URL:https://gunstuff.tv/event/hhs-trap-8/
LOCATION:Wildcat Valley R and P Club\, 12094 S 300 E\, Brookston\, IN\, United States
CATEGORIES:Trap
GEO:40.576877;-86.811749
X-APPLE-STRUCTURED-LOCATION;VALUE=URI;X-ADDRESS=Wildcat Valley R and P Club 12094 S 300 E Brookston IN United States;X-APPLE-RADIUS=500;X-TITLE=12094 S 300 E:geo:-86.811749,40.576877
END:VEVENT
BEGIN:VEVENT
DTSTART;TZID=America/Indiana/Indianapolis:20260421T150000
DTEND;TZID=America/Indiana/Indianapolis:20260421T200000
DTSTAMP:20260425T091420
CREATED:20260406T031735Z
LAST-MODIFIED:20260406T031735Z
UID:10006806-1776783600-1776801600@gunstuff.tv
SUMMARY:High Power League
DESCRIPTION:Range 1
URL:https://gunstuff.tv/event/high-power-league-15/
LOCATION:Wildcat Valley R and P Club\, 12094 S 300 E\, Brookston\, IN\, United States
CATEGORIES:Highpower
GEO:40.576877;-86.811749
X-APPLE-STRUCTURED-LOCATION;VALUE=URI;X-ADDRESS=Wildcat Valley R and P Club 12094 S 300 E Brookston IN United States;X-APPLE-RADIUS=500;X-TITLE=12094 S 300 E:geo:-86.811749,40.576877
END:VEVENT
BEGIN:VEVENT
DTSTART;TZID=America/Indiana/Indianapolis:20260421T150000
DTEND;TZID=America/Indiana/Indianapolis:20260421T200000
DTSTAMP:20260425T091420
CREATED:20260406T031734Z
LAST-MODIFIED:20260420T034748Z
UID:10006816-1776783600-1776801600@gunstuff.tv
SUMMARY:High Power League
DESCRIPTION:Range 1
URL:https://gunstuff.tv/event/high-power-league-14/
LOCATION:Wildcat Valley R and P Club\, 12094 S 300 E\, Brookston\, IN\, United States
CATEGORIES:Highpower
GEO:40.576877;-86.811749
X-APPLE-STRUCTURED-LOCATION;VALUE=URI;X-ADDRESS=Wildcat Valley R and P Club 12094 S 300 E Brookston IN United States;X-APPLE-RADIUS=500;X-TITLE=12094 S 300 E:geo:-86.811749,40.576877
END:VEVENT
BEGIN:VEVENT
DTSTART;TZID=America/Indiana/Indianapolis:20260420T164500
DTEND;TZID=America/Indiana/Indianapolis:20260420T180000
DTSTAMP:20260425T091420
CREATED:20260406T031735Z
LAST-MODIFIED:20260406T031735Z
UID:10006805-1776703500-1776708000@gunstuff.tv
SUMMARY:Trap
DESCRIPTION:Ranges 9 & 10
URL:https://gunstuff.tv/event/trap-30/
LOCATION:Wildcat Valley R and P Club\, 12094 S 300 E\, Brookston\, IN\, United States
CATEGORIES:Trap
GEO:40.576877;-86.811749
X-APPLE-STRUCTURED-LOCATION;VALUE=URI;X-ADDRESS=Wildcat Valley R and P Club 12094 S 300 E Brookston IN United States;X-APPLE-RADIUS=500;X-TITLE=12094 S 300 E:geo:-86.811749,40.576877
END:VEVENT
BEGIN:VEVENT
DTSTART;TZID=America/Indiana/Indianapolis:20260420T164500
DTEND;TZID=America/Indiana/Indianapolis:20260420T180000
DTSTAMP:20260425T091420
CREATED:20260406T031734Z
LAST-MODIFIED:20260420T034748Z
UID:10006815-1776703500-1776708000@gunstuff.tv
SUMMARY:Trap
DESCRIPTION:Ranges 9 & 10
URL:https://gunstuff.tv/event/trap-29/
LOCATION:Wildcat Valley R and P Club\, 12094 S 300 E\, Brookston\, IN\, United States
CATEGORIES:Trap
GEO:40.576877;-86.811749
X-APPLE-STRUCTURED-LOCATION;VALUE=URI;X-ADDRESS=Wildcat Valley R and P Club 12094 S 300 E Brookston IN United States;X-APPLE-RADIUS=500;X-TITLE=12094 S 300 E:geo:-86.811749,40.576877
END:VEVENT
BEGIN:VEVENT
DTSTART;VALUE=DATE:20260419
DTEND;VALUE=DATE:20260420
DTSTAMP:20260425T091420
CREATED:20260406T031734Z
LAST-MODIFIED:20260413T033228Z
UID:10006814-1776556800-1776643199@gunstuff.tv
SUMMARY:Rimfire Falling Steel
DESCRIPTION:See Practicscore for match & setup times(Ranges 3 – 7 & Clubhouse)
URL:https://gunstuff.tv/event/rimfire-falling-steel-6/
LOCATION:Wildcat Valley R and P Club\, 12094 S 300 E\, Brookston\, IN\, United States
CATEGORIES:RFS
GEO:40.576877;-86.811749
X-APPLE-STRUCTURED-LOCATION;VALUE=URI;X-ADDRESS=Wildcat Valley R and P Club 12094 S 300 E Brookston IN United States;X-APPLE-RADIUS=500;X-TITLE=12094 S 300 E:geo:-86.811749,40.576877
END:VEVENT
BEGIN:VEVENT
DTSTART;TZID=America/Indiana/Indianapolis:20260418T090000
DTEND;TZID=America/Indiana/Indianapolis:20260418T150000
DTSTAMP:20260425T091420
CREATED:20260406T031734Z
LAST-MODIFIED:20260413T033228Z
UID:10006812-1776502800-1776524400@gunstuff.tv
SUMMARY:Highpower CMP Cup Match or  Beginners Clinic (Rain Date)
DESCRIPTION:Range 1 & Clubhouse
URL:https://gunstuff.tv/event/highpower-cmp-cup-match-or-beginners-clinic-rain-date/
LOCATION:Wildcat Valley R and P Club\, 12094 S 300 E\, Brookston\, IN\, United States
CATEGORIES:Highpower
GEO:40.576877;-86.811749
X-APPLE-STRUCTURED-LOCATION;VALUE=URI;X-ADDRESS=Wildcat Valley R and P Club 12094 S 300 E Brookston IN United States;X-APPLE-RADIUS=500;X-TITLE=12094 S 300 E:geo:-86.811749,40.576877
END:VEVENT
BEGIN:VEVENT
DTSTART;TZID=America/Indiana/Indianapolis:20260418T080000
DTEND;TZID=America/Indiana/Indianapolis:20260418T170000
DTSTAMP:20260425T091420
CREATED:20260406T031734Z
LAST-MODIFIED:20260413T033227Z
UID:10006813-1776499200-1776531600@gunstuff.tv
SUMMARY:Cowboy Match
DESCRIPTION:Stating 8:00 AMRanges 3 – 7 & Clubhouse
URL:https://gunstuff.tv/event/cowboy-match-4/
LOCATION:Wildcat Valley R and P Club\, 12094 S 300 E\, Brookston\, IN\, United States
CATEGORIES:Cowboy
GEO:40.576877;-86.811749
X-APPLE-STRUCTURED-LOCATION;VALUE=URI;X-ADDRESS=Wildcat Valley R and P Club 12094 S 300 E Brookston IN United States;X-APPLE-RADIUS=500;X-TITLE=12094 S 300 E:geo:-86.811749,40.576877
END:VEVENT
BEGIN:VEVENT
DTSTART;TZID=America/Indiana/Indianapolis:20260416T160000
DTEND;TZID=America/Indiana/Indianapolis:20260416T180000
DTSTAMP:20260425T091420
CREATED:20260406T031734Z
LAST-MODIFIED:20260413T033227Z
UID:10006811-1776355200-1776362400@gunstuff.tv
SUMMARY:HHS Rain Date
DESCRIPTION:Harrision High SchoolTrapRanges 9 & 10
URL:https://gunstuff.tv/event/hhs-rain-date-6/
LOCATION:Wildcat Valley R and P Club\, 12094 S 300 E\, Brookston\, IN\, United States
CATEGORIES:Trap
GEO:40.576877;-86.811749
X-APPLE-STRUCTURED-LOCATION;VALUE=URI;X-ADDRESS=Wildcat Valley R and P Club 12094 S 300 E Brookston IN United States;X-APPLE-RADIUS=500;X-TITLE=12094 S 300 E:geo:-86.811749,40.576877
END:VEVENT
BEGIN:VEVENT
DTSTART;TZID=America/Indiana/Indianapolis:20260415T160000
DTEND;TZID=America/Indiana/Indianapolis:20260415T180000
DTSTAMP:20260425T091420
CREATED:20260406T031734Z
LAST-MODIFIED:20260413T033227Z
UID:10006810-1776268800-1776276000@gunstuff.tv
SUMMARY:HHS Trap
DESCRIPTION:Harrision High SchoolTrapRanges 9 & 10
URL:https://gunstuff.tv/event/hhs-trap-7/
LOCATION:Wildcat Valley R and P Club\, 12094 S 300 E\, Brookston\, IN\, United States
CATEGORIES:Trap
GEO:40.576877;-86.811749
X-APPLE-STRUCTURED-LOCATION;VALUE=URI;X-ADDRESS=Wildcat Valley R and P Club 12094 S 300 E Brookston IN United States;X-APPLE-RADIUS=500;X-TITLE=12094 S 300 E:geo:-86.811749,40.576877
END:VEVENT
BEGIN:VEVENT
DTSTART;TZID=America/Indiana/Indianapolis:20260414T150000
DTEND;TZID=America/Indiana/Indianapolis:20260414T200000
DTSTAMP:20260425T091420
CREATED:20260406T031734Z
LAST-MODIFIED:20260413T033227Z
UID:10006809-1776178800-1776196800@gunstuff.tv
SUMMARY:High Power League
DESCRIPTION:Range 1
URL:https://gunstuff.tv/event/high-power-league-13/
LOCATION:Wildcat Valley R and P Club\, 12094 S 300 E\, Brookston\, IN\, United States
CATEGORIES:Highpower
GEO:40.576877;-86.811749
X-APPLE-STRUCTURED-LOCATION;VALUE=URI;X-ADDRESS=Wildcat Valley R and P Club 12094 S 300 E Brookston IN United States;X-APPLE-RADIUS=500;X-TITLE=12094 S 300 E:geo:-86.811749,40.576877
END:VEVENT
BEGIN:VEVENT
DTSTART;TZID=America/Indiana/Indianapolis:20260413T170000
DTEND;TZID=America/Indiana/Indianapolis:20260413T183000
DTSTAMP:20260425T091420
CREATED:20260406T031718Z
LAST-MODIFIED:20260413T033227Z
UID:10006804-1776099600-1776105000@gunstuff.tv
SUMMARY:Skeet
DESCRIPTION:Ranges 9 & 10
URL:https://gunstuff.tv/event/skeet/
LOCATION:Wildcat Valley R and P Club\, 12094 S 300 E\, Brookston\, IN\, United States
CATEGORIES:Skeet
GEO:40.576877;-86.811749
X-APPLE-STRUCTURED-LOCATION;VALUE=URI;X-ADDRESS=Wildcat Valley R and P Club 12094 S 300 E Brookston IN United States;X-APPLE-RADIUS=500;X-TITLE=12094 S 300 E:geo:-86.811749,40.576877
END:VEVENT
BEGIN:VEVENT
DTSTART;TZID=America/Indiana/Indianapolis:20260412T120000
DTEND;TZID=America/Indiana/Indianapolis:20260412T170000
DTSTAMP:20260425T091420
CREATED:20260406T031718Z
LAST-MODIFIED:20260406T031734Z
UID:10006803-1775995200-1776013200@gunstuff.tv
SUMMARY:NRL22
DESCRIPTION:Sight-In 12:00 PMRange 1
URL:https://gunstuff.tv/event/nrl22-9/
LOCATION:Wildcat Valley R and P Club\, 12094 S 300 E\, Brookston\, IN\, United States
CATEGORIES:NRL-22
GEO:40.576877;-86.811749
X-APPLE-STRUCTURED-LOCATION;VALUE=URI;X-ADDRESS=Wildcat Valley R and P Club 12094 S 300 E Brookston IN United States;X-APPLE-RADIUS=500;X-TITLE=12094 S 300 E:geo:-86.811749,40.576877
END:VEVENT
BEGIN:VEVENT
DTSTART;TZID=America/Indiana/Indianapolis:20260412T103000
DTEND;TZID=America/Indiana/Indianapolis:20260412T160000
DTSTAMP:20260425T091420
CREATED:20260406T031718Z
LAST-MODIFIED:20260406T031734Z
UID:10006802-1775989800-1776009600@gunstuff.tv
SUMMARY:Silhouette
DESCRIPTION:Range 2
URL:https://gunstuff.tv/event/silhouette-3/
LOCATION:Wildcat Valley R and P Club\, 12094 S 300 E\, Brookston\, IN\, United States
CATEGORIES:Silhouette
GEO:40.576877;-86.811749
X-APPLE-STRUCTURED-LOCATION;VALUE=URI;X-ADDRESS=Wildcat Valley R and P Club 12094 S 300 E Brookston IN United States;X-APPLE-RADIUS=500;X-TITLE=12094 S 300 E:geo:-86.811749,40.576877
END:VEVENT
BEGIN:VEVENT
DTSTART;TZID=America/Indiana/Indianapolis:20260411T130000
DTEND;TZID=America/Indiana/Indianapolis:20260411T160000
DTSTAMP:20260425T091420
CREATED:20260406T031718Z
LAST-MODIFIED:20260406T031733Z
UID:10006801-1775912400-1775923200@gunstuff.tv
SUMMARY:Silhouette Setup and Clinic
DESCRIPTION:Range 2
URL:https://gunstuff.tv/event/silhouette-setup-and-clinic/
LOCATION:Wildcat Valley R and P Club\, 12094 S 300 E\, Brookston\, IN\, United States
CATEGORIES:Silhouette
GEO:40.576877;-86.811749
X-APPLE-STRUCTURED-LOCATION;VALUE=URI;X-ADDRESS=Wildcat Valley R and P Club 12094 S 300 E Brookston IN United States;X-APPLE-RADIUS=500;X-TITLE=12094 S 300 E:geo:-86.811749,40.576877
END:VEVENT
BEGIN:VEVENT
DTSTART;TZID=America/Indiana/Indianapolis:20260411T090000
DTEND;TZID=America/Indiana/Indianapolis:20260411T150000
DTSTAMP:20260425T091420
CREATED:20260406T031718Z
LAST-MODIFIED:20260406T031733Z
UID:10006800-1775898000-1775919600@gunstuff.tv
SUMMARY:IDPA Match
DESCRIPTION:Registration begins at 9:00 AMMatch 10:00 AM\n(Ranges 3 thru 8 & Clubhouse)
URL:https://gunstuff.tv/event/idpa-match-7/
LOCATION:Wildcat Valley R and P Club\, 12094 S 300 E\, Brookston\, IN\, United States
CATEGORIES:IDPA
GEO:40.576877;-86.811749
X-APPLE-STRUCTURED-LOCATION;VALUE=URI;X-ADDRESS=Wildcat Valley R and P Club 12094 S 300 E Brookston IN United States;X-APPLE-RADIUS=500;X-TITLE=12094 S 300 E:geo:-86.811749,40.576877
END:VEVENT
BEGIN:VEVENT
DTSTART;TZID=America/Indiana/Indianapolis:20260410T163000
DTEND;TZID=America/Indiana/Indianapolis:20260410T190000
DTSTAMP:20260425T091420
CREATED:20260406T031718Z
LAST-MODIFIED:20260406T031733Z
UID:10006799-1775838600-1775847600@gunstuff.tv
SUMMARY:IDPA Setup
DESCRIPTION:Ranges 3 thru 8
URL:https://gunstuff.tv/event/idpa-setup-3/
LOCATION:Wildcat Valley R and P Club\, 12094 S 300 E\, Brookston\, IN\, United States
CATEGORIES:IDPA
GEO:40.576877;-86.811749
X-APPLE-STRUCTURED-LOCATION;VALUE=URI;X-ADDRESS=Wildcat Valley R and P Club 12094 S 300 E Brookston IN United States;X-APPLE-RADIUS=500;X-TITLE=12094 S 300 E:geo:-86.811749,40.576877
END:VEVENT
BEGIN:VEVENT
DTSTART;TZID=America/Indiana/Indianapolis:20260409T160000
DTEND;TZID=America/Indiana/Indianapolis:20260409T180000
DTSTAMP:20260425T091420
CREATED:20260406T031718Z
LAST-MODIFIED:20260406T031733Z
UID:10006798-1775750400-1775757600@gunstuff.tv
SUMMARY:HHS Rain Date
DESCRIPTION:Harrision High SchoolTrapRanges 9 & 10
URL:https://gunstuff.tv/event/hhs-rain-date-5/
LOCATION:Wildcat Valley R and P Club\, 12094 S 300 E\, Brookston\, IN\, United States
CATEGORIES:Trap
GEO:40.576877;-86.811749
X-APPLE-STRUCTURED-LOCATION;VALUE=URI;X-ADDRESS=Wildcat Valley R and P Club 12094 S 300 E Brookston IN United States;X-APPLE-RADIUS=500;X-TITLE=12094 S 300 E:geo:-86.811749,40.576877
END:VEVENT
BEGIN:VEVENT
DTSTART;TZID=America/Indiana/Indianapolis:20260408T160000
DTEND;TZID=America/Indiana/Indianapolis:20260408T180000
DTSTAMP:20260425T091420
CREATED:20260406T031717Z
LAST-MODIFIED:20260406T031733Z
UID:10006797-1775664000-1775671200@gunstuff.tv
SUMMARY:HHS Trap
DESCRIPTION:Harrision High SchoolTrapRanges 9 & 10
URL:https://gunstuff.tv/event/hhs-trap-6/
LOCATION:Wildcat Valley R and P Club\, 12094 S 300 E\, Brookston\, IN\, United States
CATEGORIES:Trap
GEO:40.576877;-86.811749
X-APPLE-STRUCTURED-LOCATION;VALUE=URI;X-ADDRESS=Wildcat Valley R and P Club 12094 S 300 E Brookston IN United States;X-APPLE-RADIUS=500;X-TITLE=12094 S 300 E:geo:-86.811749,40.576877
END:VEVENT
BEGIN:VEVENT
DTSTART;TZID=America/Indiana/Indianapolis:20260407T150000
DTEND;TZID=America/Indiana/Indianapolis:20260407T200000
DTSTAMP:20260425T091420
CREATED:20260406T031717Z
LAST-MODIFIED:20260406T031733Z
UID:10006796-1775574000-1775592000@gunstuff.tv
SUMMARY:High Power League
DESCRIPTION:Range 1
URL:https://gunstuff.tv/event/high-power-league-12/
LOCATION:Wildcat Valley R and P Club\, 12094 S 300 E\, Brookston\, IN\, United States
CATEGORIES:Highpower
GEO:40.576877;-86.811749
X-APPLE-STRUCTURED-LOCATION;VALUE=URI;X-ADDRESS=Wildcat Valley R and P Club 12094 S 300 E Brookston IN United States;X-APPLE-RADIUS=500;X-TITLE=12094 S 300 E:geo:-86.811749,40.576877
END:VEVENT
BEGIN:VEVENT
DTSTART;TZID=America/Indiana/Indianapolis:20260406T170000
DTEND;TZID=America/Indiana/Indianapolis:20260406T190000
DTSTAMP:20260425T091420
CREATED:20260406T031717Z
LAST-MODIFIED:20260406T031733Z
UID:10006795-1775494800-1775502000@gunstuff.tv
SUMMARY:Trap
DESCRIPTION:Ranges 9 & 10
URL:https://gunstuff.tv/event/trap-28/
LOCATION:Wildcat Valley R and P Club\, 12094 S 300 E\, Brookston\, IN\, United States
CATEGORIES:Trap
GEO:40.576877;-86.811749
X-APPLE-STRUCTURED-LOCATION;VALUE=URI;X-ADDRESS=Wildcat Valley R and P Club 12094 S 300 E Brookston IN United States;X-APPLE-RADIUS=500;X-TITLE=12094 S 300 E:geo:-86.811749,40.576877
END:VEVENT
BEGIN:VEVENT
DTSTART;TZID=America/Indiana/Indianapolis:20260331T150000
DTEND;TZID=America/Indiana/Indianapolis:20260331T200000
DTSTAMP:20260425T091420
CREATED:20260302T030134Z
LAST-MODIFIED:20260330T031627Z
UID:10005947-1774969200-1774987200@gunstuff.tv
SUMMARY:High Power League
DESCRIPTION:Range 1
URL:https://gunstuff.tv/event/high-power-league-11/
LOCATION:Wildcat Valley R and P Club\, 12094 S 300 E\, Brookston\, IN\, United States
CATEGORIES:Highpower
GEO:40.576877;-86.811749
X-APPLE-STRUCTURED-LOCATION;VALUE=URI;X-ADDRESS=Wildcat Valley R and P Club 12094 S 300 E Brookston IN United States;X-APPLE-RADIUS=500;X-TITLE=12094 S 300 E:geo:-86.811749,40.576877
END:VEVENT
BEGIN:VEVENT
DTSTART;VALUE=DATE:20260329
DTEND;VALUE=DATE:20260330
DTSTAMP:20260425T091420
CREATED:20260309T031633Z
LAST-MODIFIED:20260323T031628Z
UID:10006223-1774742400-1774828799@gunstuff.tv
SUMMARY:Steel Challenge
DESCRIPTION:Setup 8:00 AM Registration 10:00 AM\nMatch 11:00 AM\n(Ranges 3 thru 7 & Clubhouse)
URL:https://gunstuff.tv/event/steel-challenge-26/
LOCATION:Wildcat Valley R and P Club\, 12094 S 300 E\, Brookston\, IN\, United States
CATEGORIES:Steel Challenge
GEO:40.576877;-86.811749
X-APPLE-STRUCTURED-LOCATION;VALUE=URI;X-ADDRESS=Wildcat Valley R and P Club 12094 S 300 E Brookston IN United States;X-APPLE-RADIUS=500;X-TITLE=12094 S 300 E:geo:-86.811749,40.576877
END:VEVENT
BEGIN:VEVENT
DTSTART;TZID=America/Indiana/Indianapolis:20260328T090000
DTEND;TZID=America/Indiana/Indianapolis:20260328T150000
DTSTAMP:20260425T091420
CREATED:20260302T030134Z
LAST-MODIFIED:20260323T031628Z
UID:10005944-1774688400-1774710000@gunstuff.tv
SUMMARY:High Power Beginners Clinic
DESCRIPTION:Range 1 & Clubhouse
URL:https://gunstuff.tv/event/high-power-beginners-clinic/
LOCATION:Wildcat Valley R and P Club\, 12094 S 300 E\, Brookston\, IN\, United States
CATEGORIES:Highpower
GEO:40.576877;-86.811749
X-APPLE-STRUCTURED-LOCATION;VALUE=URI;X-ADDRESS=Wildcat Valley R and P Club 12094 S 300 E Brookston IN United States;X-APPLE-RADIUS=500;X-TITLE=12094 S 300 E:geo:-86.811749,40.576877
END:VEVENT
BEGIN:VEVENT
DTSTART;TZID=America/Indiana/Indianapolis:20260328T090000
DTEND;TZID=America/Indiana/Indianapolis:20260328T150000
DTSTAMP:20260425T091420
CREATED:20260302T030134Z
LAST-MODIFIED:20260323T031628Z
UID:10005945-1774688400-1774710000@gunstuff.tv
SUMMARY:High Power Beginners Clinic: Intro to your AR
DESCRIPTION:Range 1 & Clubhouse
URL:https://gunstuff.tv/event/high-power-beginners-clinic-intro-to-your-ar/
LOCATION:Wildcat Valley R and P Club\, 12094 S 300 E\, Brookston\, IN\, United States
CATEGORIES:Highpower
GEO:40.576877;-86.811749
X-APPLE-STRUCTURED-LOCATION;VALUE=URI;X-ADDRESS=Wildcat Valley R and P Club 12094 S 300 E Brookston IN United States;X-APPLE-RADIUS=500;X-TITLE=12094 S 300 E:geo:-86.811749,40.576877
END:VEVENT
BEGIN:VEVENT
DTSTART;TZID=America/Indiana/Indianapolis:20260328T090000
DTEND;TZID=America/Indiana/Indianapolis:20260328T150000
DTSTAMP:20260425T091420
CREATED:20260302T030134Z
LAST-MODIFIED:20260323T031628Z
UID:10005946-1774688400-1774710000@gunstuff.tv
SUMMARY:ICORE
DESCRIPTION:Registration 9:00 AMMatch 10:00 AM\n(Ranges 3 thru 7)
URL:https://gunstuff.tv/event/icore-3/
LOCATION:Wildcat Valley R and P Club\, 12094 S 300 E\, Brookston\, IN\, United States
CATEGORIES:ICORE
GEO:40.576877;-86.811749
X-APPLE-STRUCTURED-LOCATION;VALUE=URI;X-ADDRESS=Wildcat Valley R and P Club 12094 S 300 E Brookston IN United States;X-APPLE-RADIUS=500;X-TITLE=12094 S 300 E:geo:-86.811749,40.576877
END:VEVENT
END:VCALENDAR