BEGIN:VCALENDAR
VERSION:2.0
PRODID:-//GunStuff TV - ECPv6.15.20//NONSGML v1.0//EN
CALSCALE:GREGORIAN
METHOD:PUBLISH
X-ORIGINAL-URL:https://gunstuff.tv
X-WR-CALDESC:Events for GunStuff TV
REFRESH-INTERVAL;VALUE=DURATION:PT1H
X-Robots-Tag:noindex
X-PUBLISHED-TTL:PT1H
BEGIN:VTIMEZONE
TZID:UTC
BEGIN:STANDARD
TZOFFSETFROM:+0000
TZOFFSETTO:+0000
TZNAME:UTC
DTSTART:20250101T000000
END:STANDARD
END:VTIMEZONE
BEGIN:VEVENT
DTSTART;TZID=UTC:20260509T090000
DTEND;TZID=UTC:20260509T090000
DTSTAMP:20260419T153145
CREATED:20260110T171709Z
LAST-MODIFIED:20260410T113135Z
UID:10004262-1778317200-1778317200@gunstuff.tv
SUMMARY:West Texas Practical Shooters Monthly USPSA Match
DESCRIPTION:West Texas Practical Shooters Monthly USPSA Match\nDate : 5/09/26\nStart Time: 9:00 AM\nLocation:\nWest Texas Practical Shooters (WT11)\n19400 Lubbock CR 2140\nLubbock\, TX\nEvent Contact Information\nRyan Credle\n8067736976\nryan.credle@gmail.com\nMatch Information\nApproximately 150 rounds\n5 stages with a classifier\nEvent Website\nhttps://practiscore.com/clubs/wtps
URL:https://gunstuff.tv/event/west-texas-practical-shooters-monthly-uspsa-match-3/
LOCATION:West Texas Practical Shooters (WT11)\, 19400 Lubbock CR 2140\, Lubbock\, TX
END:VEVENT
BEGIN:VEVENT
DTSTART;TZID=UTC:20260613T090000
DTEND;TZID=UTC:20260613T090000
DTSTAMP:20260419T153145
CREATED:20260110T171710Z
LAST-MODIFIED:20260410T113138Z
UID:10004276-1781341200-1781341200@gunstuff.tv
SUMMARY:West Texas Practical Shooters Monthly USPSA Match
DESCRIPTION:West Texas Practical Shooters Monthly USPSA Match\nDate : 6/13/26\nStart Time: 9:00 AM\nLocation:\nWest Texas Practical Shooters (WT11)\n19400 Lubbock CR 2140\nLubbock\, TX\nEvent Contact Information\nRyan Credle\n8067736976\nryan.credle@gmail.com\nMatch Information\nApproximately 150 rounds\n5 stages with a classifier\nEvent Website\nhttps://practiscore.com/clubs/wtps
URL:https://gunstuff.tv/event/west-texas-practical-shooters-monthly-uspsa-match-4/
LOCATION:West Texas Practical Shooters (WT11)\, 19400 Lubbock CR 2140\, Lubbock\, TX
END:VEVENT
BEGIN:VEVENT
DTSTART;TZID=UTC:20260711T090000
DTEND;TZID=UTC:20260711T090000
DTSTAMP:20260419T153145
CREATED:20260110T171711Z
LAST-MODIFIED:20260410T113141Z
UID:10004288-1783760400-1783760400@gunstuff.tv
SUMMARY:West Texas Practical Shooters Trophy Series Match 2/3
DESCRIPTION:West Texas Practical Shooters Trophy Series Match 2/3\nDate : 7/11/26\nStart Time: 9:00 AM\nLocation:\nWest Texas Practical Shooters (WT11)\n19400 Lubbock CR 2140\nLubbock\, TX\nEvent Contact Information\nRyan Credle\n8067736976\nryan.credle@gmail.com\nMatch Information\nThe second match in our year long WTPS trophy series. Scores are combined between the three matches for a composite score over 15-18 stages for division\, class\, category\, and overall placement. Expected dates are 3/14/26\, 7/11/26\, and 11/14/26.\nWe do not guarantee a classifier at these matches. Expect 150-175 rounds required. Prior competition in a trophy match does not guarantee admission to future ones. Squad space is still limited by our normal RO staff availability and range capabilities\, all matches treated as first come first served.. WTPS members receive advance registration for all matches. Please speak to an officer about membership opportunities.\nEvent Website\nhttps://practiscore.com/clubs/wtps
URL:https://gunstuff.tv/event/west-texas-practical-shooters-trophy-series-match-2-3/
LOCATION:West Texas Practical Shooters (WT11)\, 19400 Lubbock CR 2140\, Lubbock\, TX
END:VEVENT
BEGIN:VEVENT
DTSTART;TZID=UTC:20260808T090000
DTEND;TZID=UTC:20260808T090000
DTSTAMP:20260419T153145
CREATED:20260110T171712Z
LAST-MODIFIED:20260410T113143Z
UID:10004299-1786179600-1786179600@gunstuff.tv
SUMMARY:West Texas Practical Shooters Monthly USPSA Match
DESCRIPTION:West Texas Practical Shooters Monthly USPSA Match\nDate : 8/08/26\nStart Time: 9:00 AM\nLocation:\nWest Texas Practical Shooters (WT11)\n19400 Lubbock CR 2140\nLubbock\, TX\nEvent Contact Information\nRyan Credle\n8067736976\nryan.credle@gmail.com\nMatch Information\nApproximately 150 rounds\n5 stages with a classifier\nEvent Website\nhttps://practiscore.com/clubs/wtps
URL:https://gunstuff.tv/event/west-texas-practical-shooters-monthly-uspsa-match-5/
LOCATION:West Texas Practical Shooters (WT11)\, 19400 Lubbock CR 2140\, Lubbock\, TX
END:VEVENT
BEGIN:VEVENT
DTSTART;TZID=UTC:20260912T090000
DTEND;TZID=UTC:20260912T090000
DTSTAMP:20260419T153145
CREATED:20260110T171713Z
LAST-MODIFIED:20260410T113146Z
UID:10004311-1789203600-1789203600@gunstuff.tv
SUMMARY:West Texas Practical Shooters Monthly USPSA Match
DESCRIPTION:West Texas Practical Shooters Monthly USPSA Match\nDate : 9/12/26\nStart Time: 9:00 AM\nLocation:\nWest Texas Practical Shooters (WT11)\n19400 Lubbock CR 2140\nLubbock\, TX\nEvent Contact Information\nRyan Credle\n8067736976\nryan.credle@gmail.com\nMatch Information\nApproximately 150 rounds\n5 stages with a classifier\nEvent Website\nhttps://practiscore.com/clubs/wtps
URL:https://gunstuff.tv/event/west-texas-practical-shooters-monthly-uspsa-match-6/
LOCATION:West Texas Practical Shooters (WT11)\, 19400 Lubbock CR 2140\, Lubbock\, TX
END:VEVENT
BEGIN:VEVENT
DTSTART;TZID=UTC:20261010T090000
DTEND;TZID=UTC:20261010T090000
DTSTAMP:20260419T153145
CREATED:20260110T171714Z
LAST-MODIFIED:20260410T113149Z
UID:10004324-1791622800-1791622800@gunstuff.tv
SUMMARY:West Texas Practical Shooters Monthly USPSA Match
DESCRIPTION:West Texas Practical Shooters Monthly USPSA Match\nDate : 10/10/26\nStart Time: 9:00 AM\nLocation:\nWest Texas Practical Shooters (WT11)\n19400 Lubbock CR 2140\nLubbock\, TX\nEvent Contact Information\nRyan Credle\n8067736976\nryan.credle@gmail.com\nMatch Information\nApproximately 150 rounds\n5 stages with a classifier\nEvent Website\nhttps://practiscore.com/clubs/wtps
URL:https://gunstuff.tv/event/west-texas-practical-shooters-monthly-uspsa-match-7/
LOCATION:West Texas Practical Shooters (WT11)\, 19400 Lubbock CR 2140\, Lubbock\, TX
END:VEVENT
BEGIN:VEVENT
DTSTART;TZID=UTC:20261114T100000
DTEND;TZID=UTC:20261114T100000
DTSTAMP:20260419T153145
CREATED:20260110T171715Z
LAST-MODIFIED:20260410T113153Z
UID:10004338-1794650400-1794650400@gunstuff.tv
SUMMARY:West Texas Practical Shooters Trophy Series Match 3/3
DESCRIPTION:West Texas Practical Shooters Trophy Series Match 3/3\nDate : 11/14/26\nStart Time: 10:00 AM\nLocation:\nWest Texas Practical Shooters (WT11)\n19400 Lubbock CR 2140\nLubbock\, TX\nEvent Contact Information\nRyan Credle\n8067736976\nryan.credle@gmail.com\nMatch Information\nThe third and final match in our year long WTPS trophy series. Scores are combined between the three matches for a composite score over 15-18 stages for division\, class\, category\, and overall placement. Expected dates are 3/14/26\, 7/11/26\, and 11/14/26.\nWe do not guarantee a classifier at these matches. Expect 150-175 rounds required. Prior competition in a trophy match does not guarantee admission to future ones. Squad space is still limited by our normal RO staff availability and range capabilities\, all matches treated as first come first served.. WTPS members receive advance registration for all matches. Please speak to an officer about membership opportunities.\nEvent Website\nhttps://practiscore.com/clubs/wtps
URL:https://gunstuff.tv/event/west-texas-practical-shooters-trophy-series-match-3-3/
LOCATION:West Texas Practical Shooters (WT11)\, 19400 Lubbock CR 2140\, Lubbock\, TX
END:VEVENT
BEGIN:VEVENT
DTSTART;TZID=UTC:20261212T100000
DTEND;TZID=UTC:20261212T100000
DTSTAMP:20260419T153145
CREATED:20260110T171715Z
LAST-MODIFIED:20260410T113154Z
UID:10004348-1797069600-1797069600@gunstuff.tv
SUMMARY:West Texas Practical Shooters Monthly USPSA Match
DESCRIPTION:West Texas Practical Shooters Monthly USPSA Match\nDate : 12/12/26\nStart Time: 10:00 AM\nLocation:\nWest Texas Practical Shooters (WT11)\n19400 Lubbock CR 2140\nLubbock\, TX\nEvent Contact Information\nRyan Credle\n8067736976\nryan.credle@gmail.com\nMatch Information\nApproximately 150 rounds\n5 stages with a classifier\nEvent Website\nhttps://practiscore.com/clubs/wtps
URL:https://gunstuff.tv/event/west-texas-practical-shooters-monthly-uspsa-match-8/
LOCATION:West Texas Practical Shooters (WT11)\, 19400 Lubbock CR 2140\, Lubbock\, TX
END:VEVENT
END:VCALENDAR