BEGIN:VCALENDAR
VERSION:2.0
PRODID:-//GunStuff TV - ECPv6.15.20//NONSGML v1.0//EN
CALSCALE:GREGORIAN
METHOD:PUBLISH
X-WR-CALNAME:GunStuff TV
X-ORIGINAL-URL:https://gunstuff.tv
X-WR-CALDESC:Events for GunStuff TV
REFRESH-INTERVAL;VALUE=DURATION:PT1H
X-Robots-Tag:noindex
X-PUBLISHED-TTL:PT1H
BEGIN:VTIMEZONE
TZID:UTC
BEGIN:STANDARD
TZOFFSETFROM:+0000
TZOFFSETTO:+0000
TZNAME:UTC
DTSTART:20250101T000000
END:STANDARD
END:VTIMEZONE
BEGIN:VEVENT
DTSTART;TZID=UTC:20260425T090000
DTEND;TZID=UTC:20260425T090000
DTSTAMP:20260424T121806
CREATED:20251017T181838Z
LAST-MODIFIED:20260417T114634Z
UID:10002441-1777107600-1777107600@gunstuff.tv
SUMMARY:Volusia USPSA 6 Stage match
DESCRIPTION:Volusia USPSA 6 Stage match\nDate : 4/25/26\nStart Time: 9:00 AM\nLocation:\nVolusia County Gun & Hunt Club (FL34)\n4845 SR 44\nNew Smyrna Beach\, FL\nEvent Contact Information\nVolusia\n(386) 301-7881\nvolusiagunclub@gmail.com\nMatch Information\nWe run 6 Uspsa stages\n9am Start\nRegistration on practiscore type in Volusia for all events\nWe run 5-6 weekly matches including Steel Challenge as well.\nEvent Website \nHome
URL:https://gunstuff.tv/event/volusia-uspsa-6-stage-match-15/
LOCATION:Volusia County Gun & Hunt Club (FL34)\, 4599 State Rd 44\, New Smyrna Beach\, FL\, United States
GEO:29.024797;-81.124736
X-APPLE-STRUCTURED-LOCATION;VALUE=URI;X-ADDRESS=Volusia County Gun & Hunt Club (FL34) 4599 State Rd 44 New Smyrna Beach FL United States;X-APPLE-RADIUS=500;X-TITLE=4599 State Rd 44:geo:-81.124736,29.024797
END:VEVENT
END:VCALENDAR