BEGIN:VCALENDAR
VERSION:2.0
PRODID:-//GunStuff TV - ECPv6.15.20//NONSGML v1.0//EN
CALSCALE:GREGORIAN
METHOD:PUBLISH
X-WR-CALNAME:GunStuff TV
X-ORIGINAL-URL:https://gunstuff.tv
X-WR-CALDESC:Events for GunStuff TV
REFRESH-INTERVAL;VALUE=DURATION:PT1H
X-Robots-Tag:noindex
X-PUBLISHED-TTL:PT1H
BEGIN:VTIMEZONE
TZID:UTC
BEGIN:STANDARD
TZOFFSETFROM:+0000
TZOFFSETTO:+0000
TZNAME:UTC
DTSTART:20250101T000000
END:STANDARD
END:VTIMEZONE
BEGIN:VEVENT
DTSTART;TZID=UTC:20260422T150000
DTEND;TZID=UTC:20260422T180000
DTSTAMP:20260422T221415
CREATED:20260421T200305Z
LAST-MODIFIED:20260421T200305Z
UID:10008157-1776870000-1776880800@gunstuff.tv
SUMMARY:VS-VA Viikkokisa 2026-04-22
DESCRIPTION:Staget rakennetaan juuri ennen vkokisaa\, joten kaikki paikalle ajoissa.\nEi nimettyjä tuomareita\, joten ne jotka osallistuvat\, rakentavat staget itse.
URL:https://gunstuff.tv/event/vs-va-viikkokisa-2026-04-22/
LOCATION:\, Vaasa Finland
END:VEVENT
END:VCALENDAR