BEGIN:VCALENDAR
VERSION:2.0
PRODID:-//GunStuff TV - ECPv6.15.20//NONSGML v1.0//EN
CALSCALE:GREGORIAN
METHOD:PUBLISH
X-WR-CALNAME:GunStuff TV
X-ORIGINAL-URL:https://gunstuff.tv
X-WR-CALDESC:Events for GunStuff TV
REFRESH-INTERVAL;VALUE=DURATION:PT1H
X-Robots-Tag:noindex
X-PUBLISHED-TTL:PT1H
BEGIN:VTIMEZONE
TZID:America/Los_Angeles
BEGIN:DAYLIGHT
TZOFFSETFROM:-0800
TZOFFSETTO:-0700
TZNAME:PDT
DTSTART:20250309T100000
END:DAYLIGHT
BEGIN:STANDARD
TZOFFSETFROM:-0700
TZOFFSETTO:-0800
TZNAME:PST
DTSTART:20251102T090000
END:STANDARD
BEGIN:DAYLIGHT
TZOFFSETFROM:-0800
TZOFFSETTO:-0700
TZNAME:PDT
DTSTART:20260308T100000
END:DAYLIGHT
BEGIN:STANDARD
TZOFFSETFROM:-0700
TZOFFSETTO:-0800
TZNAME:PST
DTSTART:20261101T090000
END:STANDARD
BEGIN:DAYLIGHT
TZOFFSETFROM:-0800
TZOFFSETTO:-0700
TZNAME:PDT
DTSTART:20270314T100000
END:DAYLIGHT
BEGIN:STANDARD
TZOFFSETFROM:-0700
TZOFFSETTO:-0800
TZNAME:PST
DTSTART:20271107T090000
END:STANDARD
END:VTIMEZONE
BEGIN:VEVENT
DTSTART;TZID=America/Los_Angeles:20260418T170000
DTEND;TZID=America/Los_Angeles:20260418T200000
DTSTAMP:20260423T190327
CREATED:20260320T193145Z
LAST-MODIFIED:20260417T194800Z
UID:10006448-1776531600-1776542400@gunstuff.tv
SUMMARY:Diablo Saturday Night Shooting
DESCRIPTION:Diablo Saturday Night Shooting\n\n\n\n\n\n\n\n\nDiablo will be hosting Saturday night shooting at the public pistol range. \nIMPORTANT: If you need ammunition PLEASE be sure to grab it BEFORE USI closes. Diablo will NOT be selling ammo. \nIf you are in the mood to do some plinking\, head over to USI. Make sure you have your USI “Blue” card if not please make sure you have done the online waiver. \nTHIS WILL BE A WEEKLY SATURDAY NIGHT EVENT. BOTH RIFLE AND PISTOL WILL GENERALLY BE OPEN. \nHope to see everyone there!
URL:https://gunstuff.tv/event/diablo-saturday-night-shooting-24/
LOCATION:USI Public Pistol / Rifle Range\, 4700 Evora Road\, Concord\, 94520\, United States
CATEGORIES:Pistol Events
ATTACH;FMTTYPE=image/jpeg:https://gunstuff.tv/wp-content/uploads/2025/10/unnamed-2-MCqIwU.jpg
END:VEVENT
BEGIN:VEVENT
DTSTART;TZID=America/Los_Angeles:20260411T170000
DTEND;TZID=America/Los_Angeles:20260411T200000
DTSTAMP:20260423T190327
CREATED:20260313T193138Z
LAST-MODIFIED:20260410T194635Z
UID:10006318-1775926800-1775937600@gunstuff.tv
SUMMARY:Diablo Saturday Night Shooting
DESCRIPTION:Diablo Saturday Night Shooting\n\n\n\n\n\n\n\n\nDiablo will be hosting Saturday night shooting at the public pistol range. \nIMPORTANT: If you need ammunition PLEASE be sure to grab it BEFORE USI closes. Diablo will NOT be selling ammo. \nIf you are in the mood to do some plinking\, head over to USI. Make sure you have your USI “Blue” card if not please make sure you have done the online waiver. \nTHIS WILL BE A WEEKLY SATURDAY NIGHT EVENT. BOTH RIFLE AND PISTOL WILL GENERALLY BE OPEN. \nHope to see everyone there!
URL:https://gunstuff.tv/event/diablo-saturday-night-shooting-23/
LOCATION:USI Public Pistol / Rifle Range\, 4700 Evora Road\, Concord\, 94520\, United States
CATEGORIES:Pistol Events
ATTACH;FMTTYPE=image/jpeg:https://gunstuff.tv/wp-content/uploads/2025/10/unnamed-2-MCqIwU.jpg
END:VEVENT
BEGIN:VEVENT
DTSTART;TZID=America/Los_Angeles:20260404T170000
DTEND;TZID=America/Los_Angeles:20260404T200000
DTSTAMP:20260423T190327
CREATED:20260306T193144Z
LAST-MODIFIED:20260403T193214Z
UID:10006184-1775322000-1775332800@gunstuff.tv
SUMMARY:Diablo Saturday Night Shooting
DESCRIPTION:Diablo Saturday Night Shooting\n\n\n\n\n\n\n\n\nDiablo will be hosting Saturday night shooting at the public pistol range. \nIMPORTANT: If you need ammunition PLEASE be sure to grab it BEFORE USI closes. Diablo will NOT be selling ammo. \nIf you are in the mood to do some plinking\, head over to USI. Make sure you have your USI “Blue” card if not please make sure you have done the online waiver. \nTHIS WILL BE A WEEKLY SATURDAY NIGHT EVENT. BOTH RIFLE AND PISTOL WILL GENERALLY BE OPEN. \nHope to see everyone there!
URL:https://gunstuff.tv/event/diablo-saturday-night-shooting-22/
LOCATION:USI Public Pistol / Rifle Range\, 4700 Evora Road\, Concord\, 94520\, United States
CATEGORIES:Pistol Events
ATTACH;FMTTYPE=image/jpeg:https://gunstuff.tv/wp-content/uploads/2025/10/unnamed-2-MCqIwU.jpg
END:VEVENT
BEGIN:VEVENT
DTSTART;TZID=America/Los_Angeles:20260328T170000
DTEND;TZID=America/Los_Angeles:20260328T200000
DTSTAMP:20260423T190327
CREATED:20260227T193140Z
LAST-MODIFIED:20260327T193141Z
UID:10005878-1774717200-1774728000@gunstuff.tv
SUMMARY:Diablo Saturday Night Shooting
DESCRIPTION:Diablo Saturday Night Shooting\n\n\n\n\n\n\n\n\nDiablo will be hosting Saturday night shooting at the public pistol range. \nIMPORTANT: If you need ammunition PLEASE be sure to grab it BEFORE USI closes. Diablo will NOT be selling ammo. \nIf you are in the mood to do some plinking\, head over to USI. Make sure you have your USI “Blue” card if not please make sure you have done the online waiver. \nTHIS WILL BE A WEEKLY SATURDAY NIGHT EVENT. BOTH RIFLE AND PISTOL WILL GENERALLY BE OPEN. \nHope to see everyone there!
URL:https://gunstuff.tv/event/diablo-saturday-night-shooting-21/
LOCATION:USI Public Pistol / Rifle Range\, 4700 Evora Road\, Concord\, 94520\, United States
CATEGORIES:Pistol Events
ATTACH;FMTTYPE=image/jpeg:https://gunstuff.tv/wp-content/uploads/2025/10/unnamed-2-MCqIwU.jpg
END:VEVENT
BEGIN:VEVENT
DTSTART;TZID=America/Los_Angeles:20260321T170000
DTEND;TZID=America/Los_Angeles:20260321T200000
DTSTAMP:20260423T190327
CREATED:20260220T193135Z
LAST-MODIFIED:20260320T193143Z
UID:10005733-1774112400-1774123200@gunstuff.tv
SUMMARY:Diablo Saturday Night Shooting
DESCRIPTION:Diablo Saturday Night Shooting\n\n\n\n\n\n\n\n\nDiablo will be hosting Saturday night shooting at the public pistol range. \nIMPORTANT: If you need ammunition PLEASE be sure to grab it BEFORE USI closes. Diablo will NOT be selling ammo. \nIf you are in the mood to do some plinking\, head over to USI. Make sure you have your USI “Blue” card if not please make sure you have done the online waiver. \nTHIS WILL BE A WEEKLY SATURDAY NIGHT EVENT. BOTH RIFLE AND PISTOL WILL GENERALLY BE OPEN. \nHope to see everyone there!
URL:https://gunstuff.tv/event/diablo-saturday-night-shooting-20/
LOCATION:USI Public Pistol / Rifle Range\, 4700 Evora Road\, Concord\, 94520\, United States
CATEGORIES:Pistol Events
ATTACH;FMTTYPE=image/jpeg:https://gunstuff.tv/wp-content/uploads/2025/10/unnamed-2-MCqIwU.jpg
END:VEVENT
BEGIN:VEVENT
DTSTART;TZID=America/Los_Angeles:20260314T170000
DTEND;TZID=America/Los_Angeles:20260314T200000
DTSTAMP:20260423T190327
CREATED:20260213T192140Z
LAST-MODIFIED:20260313T193137Z
UID:10005602-1773507600-1773518400@gunstuff.tv
SUMMARY:Diablo Saturday Night Shooting
DESCRIPTION:Diablo Saturday Night Shooting\n\n\n\n\n\n\n\n\nDiablo will be hosting Saturday night shooting at the public pistol range. \nIMPORTANT: If you need ammunition PLEASE be sure to grab it BEFORE USI closes. Diablo will NOT be selling ammo. \nIf you are in the mood to do some plinking\, head over to USI. Make sure you have your USI “Blue” card if not please make sure you have done the online waiver. \nTHIS WILL BE A WEEKLY SATURDAY NIGHT EVENT. BOTH RIFLE AND PISTOL WILL GENERALLY BE OPEN. \nHope to see everyone there!
URL:https://gunstuff.tv/event/diablo-saturday-night-shooting-19/
LOCATION:USI Public Pistol / Rifle Range\, 4700 Evora Road\, Concord\, 94520\, United States
CATEGORIES:Pistol Events
ATTACH;FMTTYPE=image/jpeg:https://gunstuff.tv/wp-content/uploads/2025/10/unnamed-2-MCqIwU.jpg
END:VEVENT
BEGIN:VEVENT
DTSTART;TZID=America/Los_Angeles:20260307T170000
DTEND;TZID=America/Los_Angeles:20260307T200000
DTSTAMP:20260423T190327
CREATED:20260206T191710Z
LAST-MODIFIED:20260306T193143Z
UID:10005024-1772902800-1772913600@gunstuff.tv
SUMMARY:Diablo Saturday Night Shooting
DESCRIPTION:Diablo Saturday Night Shooting\n\n\n\n\n\n\n\n\nDiablo will be hosting Saturday night shooting at the public pistol range. \nIMPORTANT: If you need ammunition PLEASE be sure to grab it BEFORE USI closes. Diablo will NOT be selling ammo. \nIf you are in the mood to do some plinking\, head over to USI. Make sure you have your USI “Blue” card if not please make sure you have done the online waiver. \nTHIS WILL BE A WEEKLY SATURDAY NIGHT EVENT. BOTH RIFLE AND PISTOL WILL GENERALLY BE OPEN. \nHope to see everyone there!
URL:https://gunstuff.tv/event/diablo-saturday-night-shooting-18/
LOCATION:USI Public Pistol / Rifle Range\, 4700 Evora Road\, Concord\, 94520\, United States
CATEGORIES:Pistol Events
ATTACH;FMTTYPE=image/jpeg:https://gunstuff.tv/wp-content/uploads/2025/10/unnamed-2-MCqIwU.jpg
END:VEVENT
BEGIN:VEVENT
DTSTART;TZID=America/Los_Angeles:20260228T170000
DTEND;TZID=America/Los_Angeles:20260228T200000
DTSTAMP:20260423T190327
CREATED:20260130T191634Z
LAST-MODIFIED:20260227T193139Z
UID:10004867-1772298000-1772308800@gunstuff.tv
SUMMARY:Diablo Saturday Night Shooting
DESCRIPTION:Diablo Saturday Night Shooting\n\n\n\n\n\n\n\n\nDiablo will be hosting Saturday night shooting at the public pistol range. \nIMPORTANT: If you need ammunition PLEASE be sure to grab it BEFORE USI closes. Diablo will NOT be selling ammo. \nIf you are in the mood to do some plinking\, head over to USI. Make sure you have your USI “Blue” card if not please make sure you have done the online waiver. \nTHIS WILL BE A WEEKLY SATURDAY NIGHT EVENT. BOTH RIFLE AND PISTOL WILL GENERALLY BE OPEN. \nHope to see everyone there!
URL:https://gunstuff.tv/event/diablo-saturday-night-shooting-17/
LOCATION:USI Public Pistol / Rifle Range\, 4700 Evora Road\, Concord\, 94520\, United States
CATEGORIES:Pistol Events
ATTACH;FMTTYPE=image/jpeg:https://gunstuff.tv/wp-content/uploads/2025/10/unnamed-2-MCqIwU.jpg
END:VEVENT
BEGIN:VEVENT
DTSTART;TZID=America/Los_Angeles:20260221T170000
DTEND;TZID=America/Los_Angeles:20260221T200000
DTSTAMP:20260423T190327
CREATED:20260123T191741Z
LAST-MODIFIED:20260220T193135Z
UID:10004706-1771693200-1771704000@gunstuff.tv
SUMMARY:Diablo Saturday Night Shooting
DESCRIPTION:Diablo Saturday Night Shooting\n\n\n\n\n\n\n\n\nDiablo will be hosting Saturday night shooting at the public pistol range. \nIMPORTANT: If you need ammunition PLEASE be sure to grab it BEFORE USI closes. Diablo will NOT be selling ammo. \nIf you are in the mood to do some plinking\, head over to USI. Make sure you have your USI “Blue” card if not please make sure you have done the online waiver. \nTHIS WILL BE A WEEKLY SATURDAY NIGHT EVENT. BOTH RIFLE AND PISTOL WILL GENERALLY BE OPEN. \nHope to see everyone there!
URL:https://gunstuff.tv/event/diablo-saturday-night-shooting-16/
LOCATION:USI Public Pistol / Rifle Range\, 4700 Evora Road\, Concord\, 94520\, United States
CATEGORIES:Pistol Events
ATTACH;FMTTYPE=image/jpeg:https://gunstuff.tv/wp-content/uploads/2025/10/unnamed-2-MCqIwU.jpg
END:VEVENT
BEGIN:VEVENT
DTSTART;TZID=America/Los_Angeles:20260214T170000
DTEND;TZID=America/Los_Angeles:20260214T200000
DTSTAMP:20260423T190327
CREATED:20260116T190306Z
LAST-MODIFIED:20260213T192138Z
UID:10004529-1771088400-1771099200@gunstuff.tv
SUMMARY:Diablo Saturday Night Shooting
DESCRIPTION:Diablo Saturday Night Shooting\n\n\n\n\n\n\n\n\nDiablo will be hosting Saturday night shooting at the public pistol range. \nIMPORTANT: If you need ammunition PLEASE be sure to grab it BEFORE USI closes. Diablo will NOT be selling ammo. \nIf you are in the mood to do some plinking\, head over to USI. Make sure you have your USI “Blue” card if not please make sure you have done the online waiver. \nTHIS WILL BE A WEEKLY SATURDAY NIGHT EVENT. BOTH RIFLE AND PISTOL WILL GENERALLY BE OPEN. \nHope to see everyone there!
URL:https://gunstuff.tv/event/diablo-saturday-night-shooting-15/
LOCATION:USI Public Pistol / Rifle Range\, 4700 Evora Road\, Concord\, 94520\, United States
CATEGORIES:Pistol Events
ATTACH;FMTTYPE=image/jpeg:https://gunstuff.tv/wp-content/uploads/2025/10/unnamed-2-MCqIwU.jpg
END:VEVENT
BEGIN:VEVENT
DTSTART;TZID=America/Los_Angeles:20260207T170000
DTEND;TZID=America/Los_Angeles:20260207T200000
DTSTAMP:20260423T190327
CREATED:20260109T190149Z
LAST-MODIFIED:20260206T191710Z
UID:10003904-1770483600-1770494400@gunstuff.tv
SUMMARY:Diablo Saturday Night Shooting
DESCRIPTION:Diablo Saturday Night Shooting\n\n\n\n\n\n\n\n\nDiablo will be hosting Saturday night shooting at the public pistol range. \nIMPORTANT: If you need ammunition PLEASE be sure to grab it BEFORE USI closes. Diablo will NOT be selling ammo. \nIf you are in the mood to do some plinking\, head over to USI. Make sure you have your USI “Blue” card if not please make sure you have done the online waiver. \nTHIS WILL BE A WEEKLY SATURDAY NIGHT EVENT. BOTH RIFLE AND PISTOL WILL GENERALLY BE OPEN. \nHope to see everyone there!
URL:https://gunstuff.tv/event/diablo-saturday-night-shooting-14/
LOCATION:USI Public Pistol / Rifle Range\, 4700 Evora Road\, Concord\, 94520\, United States
CATEGORIES:Pistol Events
ATTACH;FMTTYPE=image/jpeg:https://gunstuff.tv/wp-content/uploads/2025/10/unnamed-2-MCqIwU.jpg
END:VEVENT
BEGIN:VEVENT
DTSTART;TZID=America/Los_Angeles:20260131T170000
DTEND;TZID=America/Los_Angeles:20260131T200000
DTSTAMP:20260423T190327
CREATED:20260102T190145Z
LAST-MODIFIED:20260130T191633Z
UID:10003714-1769878800-1769889600@gunstuff.tv
SUMMARY:Diablo Saturday Night Shooting
DESCRIPTION:Diablo Saturday Night Shooting\n\n\n\n\n\n\n\n\nDiablo will be hosting Saturday night shooting at the public pistol range. \nIMPORTANT: If you need ammunition PLEASE be sure to grab it BEFORE USI closes. Diablo will NOT be selling ammo. \nIf you are in the mood to do some plinking\, head over to USI. Make sure you have your USI “Blue” card if not please make sure you have done the online waiver. \nTHIS WILL BE A WEEKLY SATURDAY NIGHT EVENT. BOTH RIFLE AND PISTOL WILL GENERALLY BE OPEN. \nHope to see everyone there!
URL:https://gunstuff.tv/event/diablo-saturday-night-shooting-13/
LOCATION:USI Public Pistol / Rifle Range\, 4700 Evora Road\, Concord\, 94520\, United States
CATEGORIES:Pistol Events
ATTACH;FMTTYPE=image/jpeg:https://gunstuff.tv/wp-content/uploads/2025/10/unnamed-2-MCqIwU.jpg
END:VEVENT
BEGIN:VEVENT
DTSTART;TZID=America/Los_Angeles:20260124T170000
DTEND;TZID=America/Los_Angeles:20260124T200000
DTSTAMP:20260423T190327
CREATED:20251226T184645Z
LAST-MODIFIED:20260123T191738Z
UID:10003653-1769274000-1769284800@gunstuff.tv
SUMMARY:Diablo Saturday Night Shooting
DESCRIPTION:Diablo Saturday Night Shooting\n\n\n\n\n\n\n\n\nDiablo will be hosting Saturday night shooting at the public pistol range. \nIMPORTANT: If you need ammunition PLEASE be sure to grab it BEFORE USI closes. Diablo will NOT be selling ammo. \nIf you are in the mood to do some plinking\, head over to USI. Make sure you have your USI “Blue” card if not please make sure you have done the online waiver. \nTHIS WILL BE A WEEKLY SATURDAY NIGHT EVENT. BOTH RIFLE AND PISTOL WILL GENERALLY BE OPEN. \nHope to see everyone there!
URL:https://gunstuff.tv/event/diablo-saturday-night-shooting-12/
LOCATION:USI Public Pistol / Rifle Range\, 4700 Evora Road\, Concord\, 94520\, United States
CATEGORIES:Pistol Events
ATTACH;FMTTYPE=image/jpeg:https://gunstuff.tv/wp-content/uploads/2025/10/unnamed-2-MCqIwU.jpg
END:VEVENT
END:VCALENDAR