BEGIN:VCALENDAR
VERSION:2.0
PRODID:-//GunStuff TV - ECPv6.15.20//NONSGML v1.0//EN
CALSCALE:GREGORIAN
METHOD:PUBLISH
X-WR-CALNAME:GunStuff TV
X-ORIGINAL-URL:https://gunstuff.tv
X-WR-CALDESC:Events for GunStuff TV
REFRESH-INTERVAL;VALUE=DURATION:PT1H
X-Robots-Tag:noindex
X-PUBLISHED-TTL:PT1H
BEGIN:VTIMEZONE
TZID:UTC
BEGIN:STANDARD
TZOFFSETFROM:+0000
TZOFFSETTO:+0000
TZNAME:UTC
DTSTART:20250101T000000
END:STANDARD
END:VTIMEZONE
BEGIN:VEVENT
DTSTART;TZID=UTC:20260411T150000
DTEND;TZID=UTC:20260411T210000
DTSTAMP:20260424T121258
CREATED:20260407T195419Z
LAST-MODIFIED:20260407T195419Z
UID:10007060-1775919600-1775941200@gunstuff.tv
SUMMARY:White Mountain Practical Shooters - PCSL 2 Gun Match -  11 Apr 26
DESCRIPTION:PSCL – 2 Gun Match
URL:https://gunstuff.tv/event/white-mountain-practical-shooters-pcsl-2-gun-match-11-apr-26/
LOCATION:U.S. 60\, Show Low\, AZ\, United States
GEO:34.313307;-110.020527
END:VEVENT
END:VCALENDAR