BEGIN:VCALENDAR
VERSION:2.0
PRODID:-//GunStuff TV - ECPv6.15.20//NONSGML v1.0//EN
CALSCALE:GREGORIAN
METHOD:PUBLISH
X-WR-CALNAME:GunStuff TV
X-ORIGINAL-URL:https://gunstuff.tv
X-WR-CALDESC:Events for GunStuff TV
REFRESH-INTERVAL;VALUE=DURATION:PT1H
X-Robots-Tag:noindex
X-PUBLISHED-TTL:PT1H
BEGIN:VTIMEZONE
TZID:UTC
BEGIN:STANDARD
TZOFFSETFROM:+0000
TZOFFSETTO:+0000
TZNAME:UTC
DTSTART:20250101T000000
END:STANDARD
END:VTIMEZONE
BEGIN:VEVENT
DTSTART;TZID=UTC:20260418T073000
DTEND;TZID=UTC:20260418T133000
DTSTAMP:20260424T071712
CREATED:20260414T200215Z
LAST-MODIFIED:20260414T200215Z
UID:10007693-1776497400-1776519000@gunstuff.tv
SUMMARY:Treningi pistoletowe z Mistrzem Polski
DESCRIPTION:Treningi pistoletowe z Mistrzem Polski\nReaktywujemy w naszym klubie sekcję pistoletu obronnego!\nZajęcia poprowadzi nasz klubowicz – wielokrotny medalista oraz Mistrz Polski IDPA (CCP MA) i PiRO (kompakt) – Marek Sadowski.\nSpotkanie organizacyjne:\nSobota\, 18.04\, godz. 9:30\nPodczas spotkania:\nocenimy poziom zainteresowania\npodzielimy uczestników na grupy treningowe (kameralne grupy = lepsze efekty)\n Dla kogo?\nZajęcia przeznaczone są dla:\nosób początkujących\nosób średniozaawansowanych\n Wymagania:\npozwolenie na broń lub licencja zawodnicza\nwłasny pistolet\n Pozostały sprzęt omówimy na miejscu.\nJak będą wyglądać treningi?\nPracujemy w sprawdzonej formule:\nWprowadzenie teoretyczne\nĆwiczenia praktyczne\nna sucho\nz użyciem amunicji\nDodatkowo: cykliczne mini zawody wewnętrzne\nCzego się nauczysz?\nprawidłowego chwytu\npracy na przyrządach (także kolimatory)\npostawy strzeleckiej\nwykorzystania przesłon\nporuszania się z bronią\nradzenia sobie ze stresem startowym\ni wielu innych aspektów skutecznego strzelania\nOrganizacja\nUtworzymy grupę komunikacyjną (WhatsApp lub Telegram) do spraw organizacyjnych.\nNa start\nPierwsze spotkanie – GRATIS\nNa zajęcia zabierz:\nminimum 20 sztuk amunicji\nochronę słuchu i oczu\nPodczas pierwszego treningu skupimy się na skutecznym chwycie pistoletu – zobaczysz\, jak wyglądają nasze zajęcia w praktyce.\nZapraszamy!
URL:https://gunstuff.tv/event/treningi-pistoletowe-z-mistrzem-polski/
LOCATION:\, Trzebnice Poland
END:VEVENT
END:VCALENDAR