BEGIN:VCALENDAR
VERSION:2.0
PRODID:-//GunStuff TV - ECPv6.15.20//NONSGML v1.0//EN
CALSCALE:GREGORIAN
METHOD:PUBLISH
X-ORIGINAL-URL:https://gunstuff.tv
X-WR-CALDESC:Events for GunStuff TV
REFRESH-INTERVAL;VALUE=DURATION:PT1H
X-Robots-Tag:noindex
X-PUBLISHED-TTL:PT1H
BEGIN:VTIMEZONE
TZID:UTC
BEGIN:STANDARD
TZOFFSETFROM:+0000
TZOFFSETTO:+0000
TZNAME:UTC
DTSTART:20250101T000000
END:STANDARD
END:VTIMEZONE
BEGIN:VEVENT
DTSTART;TZID=UTC:20260411T090000
DTEND;TZID=UTC:20260411T090000
DTSTAMP:20260424T132456
CREATED:20260401T070139Z
LAST-MODIFIED:20260401T070139Z
UID:10006689-1775898000-1775898000@gunstuff.tv
SUMMARY:TSCS Level 1 Steel Challenge
DESCRIPTION:TSCS Level 1 Steel Challenge\nDate: 4/11/26\nStart Time: 9:00 AM\nLocation:\nTrue Sportsman Club (SCSA561)\n8250 True Sportsman Dr\nIone\, CA\nEvent Contact Information\nKeith Tofanelli\n209-304-0469\nktofanelli@volcano.net\nMatch Information\nSign up on practiscore.com 6 Stages on 3 Bays\, Pay at Match.\nEvent Website \nHome
URL:https://gunstuff.tv/event/tscs-level-1-steel-challenge/
LOCATION:True Sportsman Club (SCSA561)\, 8250 Sportsman Ct\, Rancho Cordova\, CA\, United States
GEO:38.604862;-121.304945
X-APPLE-STRUCTURED-LOCATION;VALUE=URI;X-ADDRESS=True Sportsman Club (SCSA561) 8250 Sportsman Ct Rancho Cordova CA United States;X-APPLE-RADIUS=500;X-TITLE=8250 Sportsman Ct:geo:-121.304945,38.604862
END:VEVENT
END:VCALENDAR