BEGIN:VCALENDAR
VERSION:2.0
PRODID:-//GunStuff TV - ECPv6.15.20//NONSGML v1.0//EN
CALSCALE:GREGORIAN
METHOD:PUBLISH
X-ORIGINAL-URL:https://gunstuff.tv
X-WR-CALDESC:Events for GunStuff TV
REFRESH-INTERVAL;VALUE=DURATION:PT1H
X-Robots-Tag:noindex
X-PUBLISHED-TTL:PT1H
BEGIN:VTIMEZONE
TZID:UTC
BEGIN:STANDARD
TZOFFSETFROM:+0000
TZOFFSETTO:+0000
TZNAME:UTC
DTSTART:20250101T000000
END:STANDARD
END:VTIMEZONE
BEGIN:VEVENT
DTSTART;TZID=UTC:20260220T170000
DTEND;TZID=UTC:20260220T170000
DTSTAMP:20260422T041532
CREATED:20260207T171705Z
LAST-MODIFIED:20260207T171709Z
UID:10005032-1771606800-1771606800@gunstuff.tv
SUMMARY:Tetelestai Crusaders (USPSA)\, Pistol Match\, Fri Pistol\, Feb 20\, 2026
DESCRIPTION:Tetelestai Crusaders (USPSA)\, Pistol Match\, Fri Pistol\, Feb 20\, 2026\nDate : 2/20/26\nStart Time: 5:00 PM\nLocation:\nTetelestai Crusaders (AZ27)\n44248 W Frier\nTonopah\, AZ\nEvent Contact Information\nErnie Medina\n9495667263\ninfo@trbtraining.com\nMatch Information\nMatch starts: February 20\, 2026 @ 5:00 PM · Match ends: February 20\, 2026 @ 9:00 PM\nLocation:\n44248 W. Frier\nTonopah\, AZ 85354\nThe match will consist of five unique stages. Each stage will range from 15 to 30 rounds to complete. Stages differ from week to week. No classifiers at this match.\nNo refunds on cancellations.\nIf you have not filled out a Tetelestai Range waiver\, you can do so here: https://tetelestairange.com/tetelestai-waiver/\nMatch Director: Ernie Medina – info@tetelestairange.com\nUSPSA level I match\,\nPrice:\n$25.00\nEvent Website\nhttps://practiscore.com/tetelestai-crusaders-uspsa-fri-pistol-feb-20-2026/register
URL:https://gunstuff.tv/event/tetelestai-crusaders-uspsa-pistol-match-fri-pistol-feb-20-2026/
LOCATION:Tetelestai Crusaders (AZ27)\, 11098 W Frier Dr\, Glendale\, AZ\, United States
GEO:33.548279;-112.297527
X-APPLE-STRUCTURED-LOCATION;VALUE=URI;X-ADDRESS=Tetelestai Crusaders (AZ27) 11098 W Frier Dr Glendale AZ United States;X-APPLE-RADIUS=500;X-TITLE=11098 W Frier Dr:geo:-112.297527,33.548279
END:VEVENT
BEGIN:VEVENT
DTSTART;TZID=UTC:20260123T170000
DTEND;TZID=UTC:20260123T170000
DTSTAMP:20260422T041532
CREATED:20260117T171629Z
LAST-MODIFIED:20260117T171700Z
UID:10004533-1769187600-1769187600@gunstuff.tv
SUMMARY:Tetelestai Crusaders (USPSA)\, Fri Pistol\, Jan 23\, 2026
DESCRIPTION:Tetelestai Crusaders (USPSA)\, Fri Pistol\, Jan 23\, 2026\nDate : 1/23/26\nStart Time: 5:00 PM\nLocation:\nTetelestai Crusaders (AZ27)\n44248 W Frier\nTonopah\, AZ\nEvent Contact Information\nErnie Medina\n949-566-7263\ninfo@tetelestairange.com\nEvent Website\nhttps://practiscore.com/tetelestai-crusaders-uspsa-fri-pistol-jan-23-2026/register
URL:https://gunstuff.tv/event/tetelestai-crusaders-uspsa-fri-pistol-jan-23-2026/
LOCATION:Tetelestai Crusaders (AZ27)\, 11098 W Frier Dr\, Glendale\, AZ\, United States
GEO:33.548279;-112.297527
X-APPLE-STRUCTURED-LOCATION;VALUE=URI;X-ADDRESS=Tetelestai Crusaders (AZ27) 11098 W Frier Dr Glendale AZ United States;X-APPLE-RADIUS=500;X-TITLE=11098 W Frier Dr:geo:-112.297527,33.548279
END:VEVENT
END:VCALENDAR