BEGIN:VCALENDAR
VERSION:2.0
PRODID:-//GunStuff TV - ECPv6.15.20//NONSGML v1.0//EN
CALSCALE:GREGORIAN
METHOD:PUBLISH
X-WR-CALNAME:GunStuff TV
X-ORIGINAL-URL:https://gunstuff.tv
X-WR-CALDESC:Events for GunStuff TV
REFRESH-INTERVAL;VALUE=DURATION:PT1H
X-Robots-Tag:noindex
X-PUBLISHED-TTL:PT1H
BEGIN:VTIMEZONE
TZID:UTC
BEGIN:STANDARD
TZOFFSETFROM:+0000
TZOFFSETTO:+0000
TZNAME:UTC
DTSTART:20250101T000000
END:STANDARD
END:VTIMEZONE
BEGIN:VEVENT
DTSTART;TZID=UTC:20260521T220000
DTEND;TZID=UTC:20260522T003000
DTSTAMP:20260424T114725
CREATED:20260111T213127Z
LAST-MODIFIED:20260421T084628Z
UID:10004408-1779400800-1779409800@gunstuff.tv
SUMMARY:RMSCA Member Networking ~ South
DESCRIPTION:
URL:https://gunstuff.tv/event/rmsca-member-networking-south/
LOCATION:TBD
ORGANIZER;CN="Rocky Mountain Steel Construction Association":MAILTO:info@rmsca.org
END:VEVENT
BEGIN:VEVENT
DTSTART;TZID=UTC:20260820T220000
DTEND;TZID=UTC:20260821T003000
DTSTAMP:20260424T114725
CREATED:20260111T213127Z
LAST-MODIFIED:20260421T084628Z
UID:10004411-1787263200-1787272200@gunstuff.tv
SUMMARY:RMSCA Member Networking ~ North
DESCRIPTION:
URL:https://gunstuff.tv/event/rmsca-member-networking-north/
LOCATION:TBD
ORGANIZER;CN="Rocky Mountain Steel Construction Association":MAILTO:info@rmsca.org
END:VEVENT
BEGIN:VEVENT
DTSTART;TZID=UTC:20261112T140000
DTEND;TZID=UTC:20261112T220000
DTSTAMP:20260424T114725
CREATED:20260111T213127Z
LAST-MODIFIED:20260421T084629Z
UID:10004414-1794492000-1794520800@gunstuff.tv
SUMMARY:2026 Health and Safety Summit
DESCRIPTION:
URL:https://gunstuff.tv/event/2026-health-and-safety-summit/
LOCATION:TBD
ORGANIZER;CN="Rocky Mountain Steel Construction Association":MAILTO:info@rmsca.org
END:VEVENT
END:VCALENDAR