BEGIN:VCALENDAR
VERSION:2.0
PRODID:-//GunStuff TV - ECPv6.15.20//NONSGML v1.0//EN
CALSCALE:GREGORIAN
METHOD:PUBLISH
X-WR-CALNAME:GunStuff TV
X-ORIGINAL-URL:https://gunstuff.tv
X-WR-CALDESC:Events for GunStuff TV
REFRESH-INTERVAL;VALUE=DURATION:PT1H
X-Robots-Tag:noindex
X-PUBLISHED-TTL:PT1H
BEGIN:VTIMEZONE
TZID:UTC
BEGIN:STANDARD
TZOFFSETFROM:+0000
TZOFFSETTO:+0000
TZNAME:UTC
DTSTART:20250101T000000
END:STANDARD
END:VTIMEZONE
BEGIN:VEVENT
DTSTART;TZID=UTC:20260612T090000
DTEND;TZID=UTC:20260612T090000
DTSTAMP:20260419T134437
CREATED:20260110T171710Z
LAST-MODIFIED:20260410T113138Z
UID:10004275-1781254800-1781254800@gunstuff.tv
SUMMARY:2026 USPSA Alabama Sectional Championship
DESCRIPTION:2026 USPSA Alabama Sectional Championship\nDates : 6/12/26 – 6/14/26\nStart Time: 9:00 AM\nLocation:\nTalladega Practical Shooters (AL05)\n4387 TURNER MILL ROAD\nTalladega\, AL\nEvent Contact Information\nJames Palmer\n256-572-3827\njimpalmer35951@gmail.com
URL:https://gunstuff.tv/event/2026-uspsa-alabama-sectional-championship/
LOCATION:Talladega Practical Shooters (AL05)\, 4387 Turner Mill Rd\, Talladega\, AL\, United States
GEO:33.528159;-86.079246
X-APPLE-STRUCTURED-LOCATION;VALUE=URI;X-ADDRESS=Talladega Practical Shooters (AL05) 4387 Turner Mill Rd Talladega AL United States;X-APPLE-RADIUS=500;X-TITLE=4387 Turner Mill Rd:geo:-86.079246,33.528159
END:VEVENT
END:VCALENDAR