BEGIN:VCALENDAR
VERSION:2.0
PRODID:-//GunStuff TV - ECPv6.15.20//NONSGML v1.0//EN
CALSCALE:GREGORIAN
METHOD:PUBLISH
X-WR-CALNAME:GunStuff TV
X-ORIGINAL-URL:https://gunstuff.tv
X-WR-CALDESC:Events for GunStuff TV
REFRESH-INTERVAL;VALUE=DURATION:PT1H
X-Robots-Tag:noindex
X-PUBLISHED-TTL:PT1H
BEGIN:VTIMEZONE
TZID:UTC
BEGIN:STANDARD
TZOFFSETFROM:+0000
TZOFFSETTO:+0000
TZNAME:UTC
DTSTART:20250101T000000
END:STANDARD
END:VTIMEZONE
BEGIN:VEVENT
DTSTART;TZID=UTC:20260425T150000
DTEND;TZID=UTC:20260425T200000
DTSTAMP:20260421T171537
CREATED:20260421T200343Z
LAST-MODIFIED:20260421T200343Z
UID:10008496-1777129200-1777147200@gunstuff.tv
SUMMARY:SWPL - Steel Challenge - April 25 2026
DESCRIPTION:IMPORTANT !!!  PLEASE READ:\nSIG 320 – The Range has banned ALL variants of the Sig Sauer P320 series from the property. If you bring a SIG P320\, you WILL NOT BE ALLOWED TO SHOOT ON THE RANGE PROPERTY. The Steel Challenge match MUST comply with Range policy.\nNEW SHOOTERS will be REQUIRED to attend a safe gun handling check at 7:00m on Bay 7.  IF YOU DON’T ATTEND\, YOU WILL NOT BE ALLOWED TO SHOOT THE MATCH.  Please arrive early to check in and pay so that you can attend.\nNEED DIRECTIONS TO RANGE? – We shoot at a PRIVATE Range and can NOT publish the address or directions to the range.  If you need directions to the range\, please contact Match Director: swplsteelchallenge@gmail.com\n——————————————————————————————————————————————–\nWe host a monthly SCSA sanctioned Tier I Steel Challenge Match on the 4th Saturday of the month\, except December – No Match.  We now have 7 bays and shoot a minimum of 6 of Steel Challenge Stages\, plus 1 Fun Stage.\n1. Shooters will Register and squad on PractiScore.  Pay at the match.  Exact Change Please.  Your Squad number will determine which stage you start on.  Example: If you are on Squad  7 you will start on Stage 7 and move sequentially down through the 7 Stages.  No jumping squads.\n2. NO WALK ON REGISTRATION without Match Director’s prior approval.\n3. There will be a shooters meeting at 8:00 am or as soon as the stages have been set up.  All squads will start shooting following shooters meeting.\n4. ALL SHOOTERS ARE REQUIRED TO BRING A SHOT TIMER.  The range has scoring tablets for each squad to use during the match.\n5. MENU – EXACT CHANGE PLEASE:\n	$30.00 – General Entry \n	$25.00 – Member Entry (Member of the 5 Range Clubs)\n	$20.00 – Second Gun Re-Entry \n        $15.00 Junior ($10.00 Jr. Member)\nFor any questions\, please contact Match Director at: swplsteelchallenge@gmail.com
URL:https://gunstuff.tv/event/swpl-steel-challenge-april-25-2026/
LOCATION:\, Sylmar CA\, United States
END:VEVENT
END:VCALENDAR