BEGIN:VCALENDAR
VERSION:2.0
PRODID:-//GunStuff TV - ECPv6.15.20//NONSGML v1.0//EN
CALSCALE:GREGORIAN
METHOD:PUBLISH
X-WR-CALNAME:GunStuff TV
X-ORIGINAL-URL:https://gunstuff.tv
X-WR-CALDESC:Events for GunStuff TV
REFRESH-INTERVAL;VALUE=DURATION:PT1H
X-Robots-Tag:noindex
X-PUBLISHED-TTL:PT1H
BEGIN:VTIMEZONE
TZID:UTC
BEGIN:STANDARD
TZOFFSETFROM:+0000
TZOFFSETTO:+0000
TZNAME:UTC
DTSTART:20250101T000000
END:STANDARD
END:VTIMEZONE
BEGIN:VEVENT
DTSTART;TZID=UTC:20260418T090000
DTEND;TZID=UTC:20260418T090000
DTSTAMP:20260424T073937
CREATED:20260110T171708Z
LAST-MODIFIED:20260417T114634Z
UID:10004254-1776502800-1776502800@gunstuff.tv
SUMMARY:SAPSA USPSA Match
DESCRIPTION:SAPSA USPSA Match\nDate : 4/18/26\nStart Time: 9:00 AM\nLocation:\nSt. Augustine Practical Shooting Assn (FL13)\n18811 Maxville MacClenny Hwy\nJacksonville\, FL\nEvent Contact Information\nMicha McLain\n8505436555\nsapsashooters@gmail.com\nMatch Information\nSix stages including 1 classifier. Approximate round count is 150-200.\nSignup starts at 0800 and will end promptly at 0900.\nShooters meeting will commence upon closing of registration and match starts thereafter.\nMatch fee is $40 for non-members and $35 for members. Cash Only – No online payment accepted.\nEveryone is expected to help break the stages down after the match is over.\nEvent Website\nhttps://sapsa.org
URL:https://gunstuff.tv/event/sapsa-uspsa-match-7/
LOCATION:St. Augustine Practical Shooting Assn (FL13)\, 18811 Maxville MacClenny Hwy\, Jacksonville\, FL
END:VEVENT
BEGIN:VEVENT
DTSTART;TZID=UTC:20260321T090000
DTEND;TZID=UTC:20260321T090000
DTSTAMP:20260424T073937
CREATED:20260110T171707Z
LAST-MODIFIED:20260320T113139Z
UID:10004242-1774083600-1774083600@gunstuff.tv
SUMMARY:SAPSA USPSA Match
DESCRIPTION:SAPSA USPSA Match\nDate : 3/21/26\nStart Time: 9:00 AM\nLocation:\nSt. Augustine Practical Shooting Assn (FL13)\n18811 Maxville MacClenny Hwy\nJacksonville\, FL\nEvent Contact Information\nMicha McLain\n8505436555\nsapsashooters@gmail.com\nMatch Information\nSix stages including 1 classifier. Approximate round count is 150-200.\nSignup starts at 0800 and will end promptly at 0900.\nShooters meeting will commence upon closing of registration and match starts thereafter.\nMatch fee is $40 for non-members and $35 for members. Cash Only – No online payment accepted.\nEveryone is expected to help break the stages down after the match is over.\nEvent Website\nhttps://sapsa.org
URL:https://gunstuff.tv/event/sapsa-uspsa-match-6/
LOCATION:St. Augustine Practical Shooting Assn (FL13)\, 18811 Maxville MacClenny Hwy\, Jacksonville\, FL
END:VEVENT
BEGIN:VEVENT
DTSTART;TZID=UTC:20260221T090000
DTEND;TZID=UTC:20260221T090000
DTSTAMP:20260424T073937
CREATED:20260110T171705Z
LAST-MODIFIED:20260207T171709Z
UID:10004230-1771664400-1771664400@gunstuff.tv
SUMMARY:SAPSA USPSA Match
DESCRIPTION:SAPSA USPSA Match\nDate : 2/21/26\nStart Time: 9:00 AM\nLocation:\nSt. Augustine Practical Shooting Assn (FL13)\n18811 Maxville MacClenny Hwy\nJacksonville\, FL\nEvent Contact Information\nMicha McLain\n8505436555\nsapsashooters@gmail.com\nMatch Information\nSix stages including 1 classifier. Approximate round count is 150-200.\nSignup starts at 0800 and will end promptly at 0900.\nShooters meeting will commence upon closing of registration and match starts thereafter.\nMatch fee is $40 for non-members and $35 for members. Cash Only – No online payment accepted.\nEveryone is expected to help break the stages down after the match is over.\nEvent Website\nhttps://sapsa.org
URL:https://gunstuff.tv/event/sapsa-uspsa-match-5/
LOCATION:St. Augustine Practical Shooting Assn (FL13)\, 18811 Maxville MacClenny Hwy\, Jacksonville\, FL
END:VEVENT
END:VCALENDAR