BEGIN:VCALENDAR
VERSION:2.0
PRODID:-//GunStuff TV - ECPv6.15.20//NONSGML v1.0//EN
CALSCALE:GREGORIAN
METHOD:PUBLISH
X-ORIGINAL-URL:https://gunstuff.tv
X-WR-CALDESC:Events for GunStuff TV
REFRESH-INTERVAL;VALUE=DURATION:PT1H
X-Robots-Tag:noindex
X-PUBLISHED-TTL:PT1H
BEGIN:VTIMEZONE
TZID:America/Chicago
BEGIN:DAYLIGHT
TZOFFSETFROM:-0600
TZOFFSETTO:-0500
TZNAME:CDT
DTSTART:20250309T080000
END:DAYLIGHT
BEGIN:STANDARD
TZOFFSETFROM:-0500
TZOFFSETTO:-0600
TZNAME:CST
DTSTART:20251102T070000
END:STANDARD
BEGIN:DAYLIGHT
TZOFFSETFROM:-0600
TZOFFSETTO:-0500
TZNAME:CDT
DTSTART:20260308T080000
END:DAYLIGHT
BEGIN:STANDARD
TZOFFSETFROM:-0500
TZOFFSETTO:-0600
TZNAME:CST
DTSTART:20261101T070000
END:STANDARD
BEGIN:DAYLIGHT
TZOFFSETFROM:-0600
TZOFFSETTO:-0500
TZNAME:CDT
DTSTART:20270314T080000
END:DAYLIGHT
BEGIN:STANDARD
TZOFFSETFROM:-0500
TZOFFSETTO:-0600
TZNAME:CST
DTSTART:20271107T070000
END:STANDARD
END:VTIMEZONE
BEGIN:VEVENT
DTSTART;TZID=America/Chicago:20260425T173000
DTEND;TZID=America/Chicago:20260425T183000
DTSTAMP:20260422T221218
CREATED:20251003T035716Z
LAST-MODIFIED:20260421T221740Z
UID:10000825-1777138200-1777141800@gunstuff.tv
SUMMARY:Livingston County Townhall Meeting
DESCRIPTION:Come out and join your friends at the ISRA Livingston County Townhall meeting at South Post Guns\, 104 E Livingston Rd. in Streator!\nThis new meeting is held the 4th Saturday of every month.\nSocial Hour is from 4:30pm – 5:30pm;\nThe Meeting is from 5:30pm – 6:30pm.
URL:https://gunstuff.tv/event/livingston-county-grassroots-meeting-7/
LOCATION:South Post Guns\, 101 Livingston St\, Streator\, IL\, United States
CATEGORIES:Event Calendar
GEO:41.116351;-88.835489
X-APPLE-STRUCTURED-LOCATION;VALUE=URI;X-ADDRESS=South Post Guns 101 Livingston St Streator IL United States;X-APPLE-RADIUS=500;X-TITLE=101 Livingston St:geo:-88.835489,41.116351
END:VEVENT
BEGIN:VEVENT
DTSTART;TZID=America/Chicago:20260523T173000
DTEND;TZID=America/Chicago:20260523T183000
DTSTAMP:20260422T221218
CREATED:20251003T035716Z
LAST-MODIFIED:20260421T221740Z
UID:10000828-1779557400-1779561000@gunstuff.tv
SUMMARY:Livingston County Townhall Meeting
DESCRIPTION:Come out and join your friends at the ISRA Livingston County Townhall meeting at South Post Guns\, 104 E Livingston Rd. in Streator!\nThis new meeting is held the 4th Saturday of every month.\nSocial Hour is from 4:30pm – 5:30pm;\nThe Meeting is from 5:30pm – 6:30pm.
URL:https://gunstuff.tv/event/livingston-county-grassroots-meeting-8/
LOCATION:South Post Guns\, 101 Livingston St\, Streator\, IL\, United States
CATEGORIES:Event Calendar
GEO:41.116351;-88.835489
X-APPLE-STRUCTURED-LOCATION;VALUE=URI;X-ADDRESS=South Post Guns 101 Livingston St Streator IL United States;X-APPLE-RADIUS=500;X-TITLE=101 Livingston St:geo:-88.835489,41.116351
END:VEVENT
BEGIN:VEVENT
DTSTART;TZID=America/Chicago:20260627T173000
DTEND;TZID=America/Chicago:20260627T183000
DTSTAMP:20260422T221218
CREATED:20251014T211425Z
LAST-MODIFIED:20260421T221741Z
UID:10002193-1782581400-1782585000@gunstuff.tv
SUMMARY:Livingston County Townhall Meeting
DESCRIPTION:Come out and join your friends at the ISRA Livingston County Townhall meeting at South Post Guns\, 104 E Livingston Rd. in Streator!\nThis new meeting is held the 4th Saturday of every month.\nSocial Hour is from 4:30pm – 5:30pm;\nThe Meeting is from 5:30pm – 6:30pm.
URL:https://gunstuff.tv/event/livingston-county-grassroots-meeting-9/
LOCATION:South Post Guns\, 101 Livingston St\, Streator\, IL\, United States
CATEGORIES:Event Calendar
GEO:41.116351;-88.835489
X-APPLE-STRUCTURED-LOCATION;VALUE=URI;X-ADDRESS=South Post Guns 101 Livingston St Streator IL United States;X-APPLE-RADIUS=500;X-TITLE=101 Livingston St:geo:-88.835489,41.116351
END:VEVENT
BEGIN:VEVENT
DTSTART;TZID=America/Chicago:20260725T173000
DTEND;TZID=America/Chicago:20260725T183000
DTSTAMP:20260422T221218
CREATED:20251028T213154Z
LAST-MODIFIED:20260421T221741Z
UID:10002627-1785000600-1785004200@gunstuff.tv
SUMMARY:Livingston County Townhall Meeting
DESCRIPTION:Come out and join your friends at the ISRA Livingston County Townhall meeting at South Post Guns\, 104 E Livingston Rd. in Streator!\nThis new meeting is held the 4th Saturday of every month.\nSocial Hour is from 4:30pm – 5:30pm;\nThe Meeting is from 5:30pm – 6:30pm.
URL:https://gunstuff.tv/event/livingston-county-grassroots-meeting-10/
LOCATION:South Post Guns\, 101 Livingston St\, Streator\, IL\, United States
CATEGORIES:Event Calendar
GEO:41.116351;-88.835489
X-APPLE-STRUCTURED-LOCATION;VALUE=URI;X-ADDRESS=South Post Guns 101 Livingston St Streator IL United States;X-APPLE-RADIUS=500;X-TITLE=101 Livingston St:geo:-88.835489,41.116351
END:VEVENT
BEGIN:VEVENT
DTSTART;TZID=America/Chicago:20260822T173000
DTEND;TZID=America/Chicago:20260822T183000
DTSTAMP:20260422T221218
CREATED:20260324T220136Z
LAST-MODIFIED:20260421T221742Z
UID:10006495-1787419800-1787423400@gunstuff.tv
SUMMARY:Livingston County Townhall Meeting
DESCRIPTION:Come out and join your friends at the ISRA Livingston County Townhall meeting at South Post Guns\, 104 E Livingston Rd. in Streator!\nThis new meeting is held the 4th Saturday of every month.\nSocial Hour is from 4:30pm – 5:30pm;\nThe Meeting is from 5:30pm – 6:30pm.
URL:https://gunstuff.tv/event/livingston-county-townhall-meeting/
LOCATION:South Post Guns\, 101 Livingston St\, Streator\, IL\, United States
CATEGORIES:Event Calendar
GEO:41.116351;-88.835489
X-APPLE-STRUCTURED-LOCATION;VALUE=URI;X-ADDRESS=South Post Guns 101 Livingston St Streator IL United States;X-APPLE-RADIUS=500;X-TITLE=101 Livingston St:geo:-88.835489,41.116351
END:VEVENT
BEGIN:VEVENT
DTSTART;TZID=America/Chicago:20260926T173000
DTEND;TZID=America/Chicago:20260926T183000
DTSTAMP:20260422T221218
CREATED:20260421T221659Z
LAST-MODIFIED:20260421T221742Z
UID:10008600-1790443800-1790447400@gunstuff.tv
SUMMARY:Livingston County Townhall Meeting
DESCRIPTION:Come out and join your friends at the ISRA Livingston County Townhall meeting at South Post Guns\, 104 E Livingston Rd. in Streator!\nThis new meeting is held the 4th Saturday of every month.\nSocial Hour is from 4:30pm – 5:30pm;\nThe Meeting is from 5:30pm – 6:30pm.
URL:https://gunstuff.tv/event/livingston-county-townhall-meeting-2/
LOCATION:South Post Guns\, 101 Livingston St\, Streator\, IL\, United States
CATEGORIES:Event Calendar
GEO:41.116351;-88.835489
X-APPLE-STRUCTURED-LOCATION;VALUE=URI;X-ADDRESS=South Post Guns 101 Livingston St Streator IL United States;X-APPLE-RADIUS=500;X-TITLE=101 Livingston St:geo:-88.835489,41.116351
END:VEVENT
END:VCALENDAR