BEGIN:VCALENDAR
VERSION:2.0
PRODID:-//GunStuff TV - ECPv6.15.20//NONSGML v1.0//EN
CALSCALE:GREGORIAN
METHOD:PUBLISH
X-WR-CALNAME:GunStuff TV
X-ORIGINAL-URL:https://gunstuff.tv
X-WR-CALDESC:Events for GunStuff TV
REFRESH-INTERVAL;VALUE=DURATION:PT1H
X-Robots-Tag:noindex
X-PUBLISHED-TTL:PT1H
BEGIN:VTIMEZONE
TZID:UTC
BEGIN:STANDARD
TZOFFSETFROM:+0000
TZOFFSETTO:+0000
TZNAME:UTC
DTSTART:20250101T000000
END:STANDARD
END:VTIMEZONE
BEGIN:VEVENT
DTSTART;TZID=UTC:20260425T100000
DTEND;TZID=UTC:20260425T100000
DTSTAMP:20260419T165021
CREATED:20260110T171708Z
LAST-MODIFIED:20260410T113134Z
UID:10004259-1777111200-1777111200@gunstuff.tv
SUMMARY:SCPS ECO19 2026-04-25 Super Classifier
DESCRIPTION:SCPS ECO19 2026-04-25 Super Classifier\nDate : 4/25/26\nStart Time: 10:00 AM\nLocation:\nSoCo Practical Shooters (SCPS) (ECO19)\n450 S Franceville Coal Mine Rd\nColorado Springs\, CO\nEvent Contact Information\nGermaine Adams\n719.439.6993\nsocopracticalshooters@gmail.com\nEvent Website\nhttps://practiscore.com/clubs/soco_practical_shooters
URL:https://gunstuff.tv/event/scps-eco19-2026-04-25-super-classifier/
LOCATION:SoCo Practical Shooters (SCPS) (ECO19)\, 450 S Franceville Coal Mine Rd\, Colorado Springs\, CO\, United States
GEO:38.82531;-104.590706
X-APPLE-STRUCTURED-LOCATION;VALUE=URI;X-ADDRESS=SoCo Practical Shooters (SCPS) (ECO19) 450 S Franceville Coal Mine Rd Colorado Springs CO United States;X-APPLE-RADIUS=500;X-TITLE=450 S Franceville Coal Mine Rd:geo:-104.590706,38.82531
END:VEVENT
BEGIN:VEVENT
DTSTART;TZID=UTC:20260523T100000
DTEND;TZID=UTC:20260523T100000
DTSTAMP:20260419T165021
CREATED:20260110T171710Z
LAST-MODIFIED:20260410T113137Z
UID:10004271-1779530400-1779530400@gunstuff.tv
SUMMARY:SCPS SCO19 2026-05-23
DESCRIPTION:SCPS SCO19 2026-05-23\nDate : 5/23/26\nStart Time: 10:00 AM\nLocation:\nSoCo Practical Shooters (SCPS) (ECO19)\n450 S Franceville Coal Mine Rd\nColorado Springs\, CO\nEvent Contact Information\nGermaine Adams\n719.439.6993\nsocopracticalshooters@gmail.com\nEvent Website\nhttps://practiscore.com/clubs/soco_practical_shooters
URL:https://gunstuff.tv/event/scps-sco19-2026-05-23/
LOCATION:SoCo Practical Shooters (SCPS) (ECO19)\, 450 S Franceville Coal Mine Rd\, Colorado Springs\, CO\, United States
GEO:38.82531;-104.590706
X-APPLE-STRUCTURED-LOCATION;VALUE=URI;X-ADDRESS=SoCo Practical Shooters (SCPS) (ECO19) 450 S Franceville Coal Mine Rd Colorado Springs CO United States;X-APPLE-RADIUS=500;X-TITLE=450 S Franceville Coal Mine Rd:geo:-104.590706,38.82531
END:VEVENT
BEGIN:VEVENT
DTSTART;TZID=UTC:20260625T080000
DTEND;TZID=UTC:20260625T080000
DTSTAMP:20260419T165021
CREATED:20260110T171711Z
LAST-MODIFIED:20260410T113139Z
UID:10004283-1782374400-1782374400@gunstuff.tv
SUMMARY:2026 Battle at the Peak Colorado State USPSA Championship
DESCRIPTION:2026 Battle at the Peak Colorado State USPSA Championship\nDates : 6/25/26 – 6/28/26\nStart Time: 8:00 AM\nLocation:\nSoCo Practical Shooters (SCPS) (ECO19)\n450 S Franceville Coal Mine Rd\nColorado Springs\, CO\nEvent Contact Information\nGermaine Adams\n719.439.6993\nsocopracticalshooters@gmail.com\nEvent Website\nhttps://practiscore.com/2026-battle-at-the-peak-colorado-state-uspsa-championship/register
URL:https://gunstuff.tv/event/2026-battle-at-the-peak-colorado-state-uspsa-championship/
LOCATION:SoCo Practical Shooters (SCPS) (ECO19)\, 450 S Franceville Coal Mine Rd\, Colorado Springs\, CO\, United States
GEO:38.82531;-104.590706
X-APPLE-STRUCTURED-LOCATION;VALUE=URI;X-ADDRESS=SoCo Practical Shooters (SCPS) (ECO19) 450 S Franceville Coal Mine Rd Colorado Springs CO United States;X-APPLE-RADIUS=500;X-TITLE=450 S Franceville Coal Mine Rd:geo:-104.590706,38.82531
END:VEVENT
BEGIN:VEVENT
DTSTART;TZID=UTC:20260725T100000
DTEND;TZID=UTC:20260725T100000
DTSTAMP:20260419T165021
CREATED:20260110T171712Z
LAST-MODIFIED:20260410T113143Z
UID:10004297-1784973600-1784973600@gunstuff.tv
SUMMARY:SCPS SCO19 2026-07-25
DESCRIPTION:SCPS SCO19 2026-07-25\nDate : 7/25/26\nStart Time: 10:00 AM\nLocation:\nSoCo Practical Shooters (SCPS) (ECO19)\n450 S Franceville Coal Mine Rd\nColorado Springs\, CO\nEvent Contact Information\nGermaine Adams\n719.439.6993\nsocopracticalshooters@gmail.com\nEvent Website\nhttps://practiscore.com/clubs/soco_practical_shooters
URL:https://gunstuff.tv/event/scps-sco19-2026-07-25/
LOCATION:SoCo Practical Shooters (SCPS) (ECO19)\, 450 S Franceville Coal Mine Rd\, Colorado Springs\, CO\, United States
GEO:38.82531;-104.590706
X-APPLE-STRUCTURED-LOCATION;VALUE=URI;X-ADDRESS=SoCo Practical Shooters (SCPS) (ECO19) 450 S Franceville Coal Mine Rd Colorado Springs CO United States;X-APPLE-RADIUS=500;X-TITLE=450 S Franceville Coal Mine Rd:geo:-104.590706,38.82531
END:VEVENT
BEGIN:VEVENT
DTSTART;TZID=UTC:20260822T100000
DTEND;TZID=UTC:20260822T100000
DTSTAMP:20260419T165021
CREATED:20260110T171713Z
LAST-MODIFIED:20260410T113145Z
UID:10004308-1787392800-1787392800@gunstuff.tv
SUMMARY:SCPS SCO19 2026-08-22
DESCRIPTION:SCPS SCO19 2026-08-22\nDate : 8/22/26\nStart Time: 10:00 AM\nLocation:\nSoCo Practical Shooters (SCPS) (ECO19)\n450 S Franceville Coal Mine Rd\nColorado Springs\, CO\nEvent Contact Information\nGermaine Adams\n719.439.6993\nsocopracticalshooters@gmail.com\nEvent Website\nhttps://practiscore.com/clubs/soco_practical_shooters
URL:https://gunstuff.tv/event/scps-sco19-2026-08-22/
LOCATION:SoCo Practical Shooters (SCPS) (ECO19)\, 450 S Franceville Coal Mine Rd\, Colorado Springs\, CO\, United States
GEO:38.82531;-104.590706
X-APPLE-STRUCTURED-LOCATION;VALUE=URI;X-ADDRESS=SoCo Practical Shooters (SCPS) (ECO19) 450 S Franceville Coal Mine Rd Colorado Springs CO United States;X-APPLE-RADIUS=500;X-TITLE=450 S Franceville Coal Mine Rd:geo:-104.590706,38.82531
END:VEVENT
BEGIN:VEVENT
DTSTART;TZID=UTC:20260926T100000
DTEND;TZID=UTC:20260926T100000
DTSTAMP:20260419T165021
CREATED:20260110T171713Z
LAST-MODIFIED:20260410T113148Z
UID:10004320-1790416800-1790416800@gunstuff.tv
SUMMARY:SCPS ECO19 2026-09-26 Section Qualifier
DESCRIPTION:SCPS ECO19 2026-09-26 Section Qualifier\nDate : 9/26/26\nStart Time: 10:00 AM\nLocation:\nSoCo Practical Shooters (SCPS) (ECO19)\n450 S Franceville Coal Mine Rd\nColorado Springs\, CO\nEvent Contact Information\nGermaine Adams\n719.439.6993\nsocopracticalshooters@gmail.com\nEvent Website\nhttps://practiscore.com/clubs/soco_practical_shooters
URL:https://gunstuff.tv/event/scps-eco19-2026-09-26-section-qualifier/
LOCATION:SoCo Practical Shooters (SCPS) (ECO19)\, 450 S Franceville Coal Mine Rd\, Colorado Springs\, CO\, United States
GEO:38.82531;-104.590706
X-APPLE-STRUCTURED-LOCATION;VALUE=URI;X-ADDRESS=SoCo Practical Shooters (SCPS) (ECO19) 450 S Franceville Coal Mine Rd Colorado Springs CO United States;X-APPLE-RADIUS=500;X-TITLE=450 S Franceville Coal Mine Rd:geo:-104.590706,38.82531
END:VEVENT
BEGIN:VEVENT
DTSTART;TZID=UTC:20261024T100000
DTEND;TZID=UTC:20261024T100000
DTSTAMP:20260419T165021
CREATED:20260110T171714Z
LAST-MODIFIED:20260410T113151Z
UID:10004332-1792836000-1792836000@gunstuff.tv
SUMMARY:SCPS SCO19 2026-10-24
DESCRIPTION:SCPS SCO19 2026-10-24\nDate : 10/24/26\nStart Time: 10:00 AM\nLocation:\nSoCo Practical Shooters (SCPS) (ECO19)\n450 S Franceville Coal Mine Rd\nColorado Springs\, CO\nEvent Contact Information\nGermaine Adams\n719.439.6993\nsocopracticalshooters@gmail.com\nEvent Website\nhttps://practiscore.com/clubs/soco_practical_shooters
URL:https://gunstuff.tv/event/scps-sco19-2026-10-24/
LOCATION:SoCo Practical Shooters (SCPS) (ECO19)\, 450 S Franceville Coal Mine Rd\, Colorado Springs\, CO\, United States
GEO:38.82531;-104.590706
X-APPLE-STRUCTURED-LOCATION;VALUE=URI;X-ADDRESS=SoCo Practical Shooters (SCPS) (ECO19) 450 S Franceville Coal Mine Rd Colorado Springs CO United States;X-APPLE-RADIUS=500;X-TITLE=450 S Franceville Coal Mine Rd:geo:-104.590706,38.82531
END:VEVENT
BEGIN:VEVENT
DTSTART;TZID=UTC:20261128T100000
DTEND;TZID=UTC:20261128T100000
DTSTAMP:20260419T165021
CREATED:20260110T171715Z
LAST-MODIFIED:20260410T113154Z
UID:10004345-1795860000-1795860000@gunstuff.tv
SUMMARY:SCPS SCO19 2026-11-28
DESCRIPTION:SCPS SCO19 2026-11-28\nDate : 11/28/26\nStart Time: 10:00 AM\nLocation:\nSoCo Practical Shooters (SCPS) (ECO19)\n450 S Franceville Coal Mine Rd\nColorado Springs\, CO\nEvent Contact Information\nGermaine Adams\n719.439.6993\nsocopracticalshooters@gmail.com\nEvent Website\nhttps://practiscore.com/clubs/soco_practical_shooters
URL:https://gunstuff.tv/event/scps-sco19-2026-11-28/
LOCATION:SoCo Practical Shooters (SCPS) (ECO19)\, 450 S Franceville Coal Mine Rd\, Colorado Springs\, CO\, United States
GEO:38.82531;-104.590706
X-APPLE-STRUCTURED-LOCATION;VALUE=URI;X-ADDRESS=SoCo Practical Shooters (SCPS) (ECO19) 450 S Franceville Coal Mine Rd Colorado Springs CO United States;X-APPLE-RADIUS=500;X-TITLE=450 S Franceville Coal Mine Rd:geo:-104.590706,38.82531
END:VEVENT
END:VCALENDAR