BEGIN:VCALENDAR
VERSION:2.0
PRODID:-//GunStuff TV - ECPv6.15.20//NONSGML v1.0//EN
CALSCALE:GREGORIAN
METHOD:PUBLISH
X-WR-CALNAME:GunStuff TV
X-ORIGINAL-URL:https://gunstuff.tv
X-WR-CALDESC:Events for GunStuff TV
REFRESH-INTERVAL;VALUE=DURATION:PT1H
X-Robots-Tag:noindex
X-PUBLISHED-TTL:PT1H
BEGIN:VTIMEZONE
TZID:America/New_York
BEGIN:DAYLIGHT
TZOFFSETFROM:-0500
TZOFFSETTO:-0400
TZNAME:EDT
DTSTART:20250309T070000
END:DAYLIGHT
BEGIN:STANDARD
TZOFFSETFROM:-0400
TZOFFSETTO:-0500
TZNAME:EST
DTSTART:20251102T060000
END:STANDARD
BEGIN:DAYLIGHT
TZOFFSETFROM:-0500
TZOFFSETTO:-0400
TZNAME:EDT
DTSTART:20260308T070000
END:DAYLIGHT
BEGIN:STANDARD
TZOFFSETFROM:-0400
TZOFFSETTO:-0500
TZNAME:EST
DTSTART:20261101T060000
END:STANDARD
BEGIN:DAYLIGHT
TZOFFSETFROM:-0500
TZOFFSETTO:-0400
TZNAME:EDT
DTSTART:20270314T070000
END:DAYLIGHT
BEGIN:STANDARD
TZOFFSETFROM:-0400
TZOFFSETTO:-0500
TZNAME:EST
DTSTART:20271107T060000
END:STANDARD
END:VTIMEZONE
BEGIN:VEVENT
DTSTART;TZID=America/New_York:20260716T190000
DTEND;TZID=America/New_York:20260716T220000
DTSTAMP:20260424T133025
CREATED:20260412T184747Z
LAST-MODIFIED:20260419T190251Z
UID:10007466-1784228400-1784239200@gunstuff.tv
SUMMARY:Doerflein Skeet League
DESCRIPTION:Doerflein Skeet League
URL:https://gunstuff.tv/event/doerflein-skeet-league-31/
LOCATION:Shotgun Fields
END:VEVENT
BEGIN:VEVENT
DTSTART;TZID=America/New_York:20260723T190000
DTEND;TZID=America/New_York:20260723T220000
DTSTAMP:20260424T133025
CREATED:20260412T184748Z
LAST-MODIFIED:20260419T190252Z
UID:10007467-1784833200-1784844000@gunstuff.tv
SUMMARY:Doerflein Skeet League
DESCRIPTION:Doerflein Skeet League
URL:https://gunstuff.tv/event/doerflein-skeet-league-32/
LOCATION:Shotgun Fields
END:VEVENT
BEGIN:VEVENT
DTSTART;VALUE=DATE:20260807
DTEND;VALUE=DATE:20260808
DTSTAMP:20260424T133025
CREATED:20260208T183209Z
LAST-MODIFIED:20260419T190253Z
UID:10005106-1786060800-1786147199@gunstuff.tv
SUMMARY:NSSA Registered Skeet Zone 2 Shoot
DESCRIPTION:
URL:https://gunstuff.tv/event/nssa-registered-skeet-zone-2-shoot/
LOCATION:Shotgun Fields
END:VEVENT
BEGIN:VEVENT
DTSTART;VALUE=DATE:20260808
DTEND;VALUE=DATE:20260809
DTSTAMP:20260424T133025
CREATED:20260208T183209Z
LAST-MODIFIED:20260419T190253Z
UID:10005107-1786147200-1786233599@gunstuff.tv
SUMMARY:NSSA Registered Skeet Zone 2 Shoot
DESCRIPTION:
URL:https://gunstuff.tv/event/nssa-registered-skeet-zone-2-shoot-2/
LOCATION:Shotgun Fields
END:VEVENT
BEGIN:VEVENT
DTSTART;VALUE=DATE:20260809
DTEND;VALUE=DATE:20260810
DTSTAMP:20260424T133025
CREATED:20260208T183209Z
LAST-MODIFIED:20260419T190253Z
UID:10005108-1786233600-1786319999@gunstuff.tv
SUMMARY:NSSA Registered Skeet Zone 2 Shoot
DESCRIPTION:
URL:https://gunstuff.tv/event/nssa-registered-skeet-zone-2-shoot-3/
LOCATION:Shotgun Fields
END:VEVENT
BEGIN:VEVENT
DTSTART;VALUE=DATE:20260907
DTEND;VALUE=DATE:20260908
DTSTAMP:20260424T133025
CREATED:20260208T183210Z
LAST-MODIFIED:20260419T190255Z
UID:10005111-1788739200-1788825599@gunstuff.tv
SUMMARY:Labor Day Leather Trap Shoot
DESCRIPTION:
URL:https://gunstuff.tv/event/labor-day-leather-trap-shoot/
LOCATION:Shotgun Fields
END:VEVENT
END:VCALENDAR