BEGIN:VCALENDAR
VERSION:2.0
PRODID:-//GunStuff TV - ECPv6.15.20//NONSGML v1.0//EN
CALSCALE:GREGORIAN
METHOD:PUBLISH
X-WR-CALNAME:GunStuff TV
X-ORIGINAL-URL:https://gunstuff.tv
X-WR-CALDESC:Events for GunStuff TV
REFRESH-INTERVAL;VALUE=DURATION:PT1H
X-Robots-Tag:noindex
X-PUBLISHED-TTL:PT1H
BEGIN:VTIMEZONE
TZID:America/Chicago
BEGIN:DAYLIGHT
TZOFFSETFROM:-0600
TZOFFSETTO:-0500
TZNAME:CDT
DTSTART:20250309T080000
END:DAYLIGHT
BEGIN:STANDARD
TZOFFSETFROM:-0500
TZOFFSETTO:-0600
TZNAME:CST
DTSTART:20251102T070000
END:STANDARD
BEGIN:DAYLIGHT
TZOFFSETFROM:-0600
TZOFFSETTO:-0500
TZNAME:CDT
DTSTART:20260308T080000
END:DAYLIGHT
BEGIN:STANDARD
TZOFFSETFROM:-0500
TZOFFSETTO:-0600
TZNAME:CST
DTSTART:20261101T070000
END:STANDARD
BEGIN:DAYLIGHT
TZOFFSETFROM:-0600
TZOFFSETTO:-0500
TZNAME:CDT
DTSTART:20270314T080000
END:DAYLIGHT
BEGIN:STANDARD
TZOFFSETFROM:-0500
TZOFFSETTO:-0600
TZNAME:CST
DTSTART:20271107T070000
END:STANDARD
END:VTIMEZONE
BEGIN:VEVENT
DTSTART;TZID=America/Chicago:20260501T100000
DTEND;TZID=America/Chicago:20260501T170000
DTSTAMP:20260419T063229
CREATED:20260407T023236Z
LAST-MODIFIED:20260414T024728Z
UID:10006868-1777629600-1777654800@gunstuff.tv
SUMMARY:Full Auto Friday
DESCRIPTION:Every Friday is Full Auto Friday at Defender! Pick any full auto you want from our rental wall\, and then just buy the box of ammo\, and you’re on your way to having some serious fun. Shoot as much as you want because your target\, eye and ear protection\, range fee* and machine gun rental is all included! \n*Range fee only for full auto use. Standard range fees apply for general pistol and rifle shooting lanes.
URL:https://gunstuff.tv/event/full-auto-friday-35/
LOCATION:Shooting Center\, 2900 Shotts Street\, Fort Worth\, TX\, 76107
CATEGORIES:Shooting Center,Shooting Center Events
ATTACH;FMTTYPE=image/jpeg:https://gunstuff.tv/wp-content/uploads/2026/03/Full-Auto-Friday-Hahtdd-tZAQXN.jpg
ORGANIZER;CN="Defender Outdoors Shooting Center Events":MAILTO:info@defenderoutdoors.com
END:VEVENT
BEGIN:VEVENT
DTSTART;TZID=America/Chicago:20260502T080000
DTEND;TZID=America/Chicago:20260502T090000
DTSTAMP:20260419T063229
CREATED:20260407T023236Z
LAST-MODIFIED:20260414T024729Z
UID:10006870-1777708800-1777712400@gunstuff.tv
SUMMARY:LTC Qualification
DESCRIPTION:Are you a student who has taken an online LTC Course and need to complete your shooting qualification? Defender offers the LTC shooting proficiency portion every week. \nThe shooting qualification requires that you must be able to load\, unload\, and fire the handgun proficiently. If you are new to or inexperienced with shooting we strongly recommend taking either the LTC Prep or Handgun Fundamentals course. This course does not teach basic firearm skills or shooting instruction. (More info) \nPlease arrive a few minutes early to check in and bring a printed copy of your LTC 104 form. \nOur shooting qualification schedule is as follows: \n\nWednesdays – 10:00am\nSaturdays – 8:00am\n\nNo appointment needed\, you can simply walk-in during these available times. \nPlease bring the following: \n\nLTC 104 Form\nFirearm (rental available at additional charge)\n1 magazine\n50 rounds of ammo (ammunition is available for purchase at time of session)\nEye and Ear Protection (rentals available)\n\nBook Now
URL:https://gunstuff.tv/event/ltc-qualification-63/
LOCATION:Shooting Center\, 2900 Shotts Street\, Fort Worth\, TX\, 76107
CATEGORIES:Shooting Center,Shooting Center Training
ATTACH;FMTTYPE=image/jpeg:https://gunstuff.tv/wp-content/uploads/2025/10/LTC-Qualification-vTp9PG.jpg
ORGANIZER;CN="Defender Outdoors Shooting Center Training":MAILTO:info@defenderoutdoors.com
END:VEVENT
BEGIN:VEVENT
DTSTART;TZID=America/Chicago:20260502T080000
DTEND;TZID=America/Chicago:20260502T140000
DTSTAMP:20260419T063229
CREATED:20260407T023236Z
LAST-MODIFIED:20260414T024729Z
UID:10006869-1777708800-1777730400@gunstuff.tv
SUMMARY:License To Carry
DESCRIPTION:Allows you to carry your handgun in both concealed carry and open carry where it is legal to do so. \nClick here for step by step instructions on how to file for your License to Carry and what you need to know. Looking to just take your shooting qualification only? Click here. \nFormerly CHL\, this course includes your classroom time covering the current Texas State and Federal laws that surround your ability to carry a handgun\, as well as the required shooting proficiency test. The shooting qualification requires that you must be able to load\, unload\, and fire the handgun proficiently. \nTHIS IS NOT A FIREARMS TRAINING CLASS AND WILL NOT TEACH YOU HOW TO SHOOT. If you are new to firearms\, we strongly encourage you to take a Private LTC Prep Lesson prior to taking the class. \nNote: Texas rule banning persons under 21 from obtaining a License to Carry was declared unconstitutional. Persons 18-20 years old can now receive their LTC. Please note\, Defender CANNOT rent handguns OR sell ammunition to anyone under 21. If you are under 21\, you are required to provide your own firearm and ammunition in order to qualify for your LTC. \nShooting Proficiency Test Requirement \n3 Yard Line – 20 rounds\n7 Yard Line – 20 rounds\n15 Yard Line – 10 rounds \nWhat’s Included: \n\nState mandated License to Carry classroom instruction\nShooting qualification and range fee\nLTC-100 Certificate of Completion (it is your responsibility to submit your form\, Defender will not submit for you)\nHandgun rental for proficiency test (if needed)\nB27 target\nEye and ear protection (if needed)\n\nEquipment Needed: \n\nValid Driver’s License\nSemi-auto handgun or revolver\n50 rounds of ammo (available for purchase before the start of class. Subject to availability\, call ahead to check)\nEye and ear protection\nWriting utensil\nBeverage and snacks if desired (we have water\, soda and snacks available for purchase)\n\nNot Included: \n\nState application fee\nFingerprinting and fingerprinting fee (you will be prompted to schedule your fingerprinting appointment at the end of the DPS application process)\nTotal course time is about 6 hours. Please come prepared to learn and be engaged during the class.\n\nREGISTER HERE
URL:https://gunstuff.tv/event/license-to-carry-36/
LOCATION:Shooting Center\, 2900 Shotts Street\, Fort Worth\, TX\, 76107
CATEGORIES:Shooting Center,Shooting Center Training
ATTACH;FMTTYPE=image/jpeg:https://gunstuff.tv/wp-content/uploads/2026/03/LTC-01-e1571087185427-uiRozl-mX56WA.jpg
ORGANIZER;CN="Defender Outdoors Shooting Center Training":MAILTO:info@defenderoutdoors.com
END:VEVENT
BEGIN:VEVENT
DTSTART;TZID=America/Chicago:20260506T100000
DTEND;TZID=America/Chicago:20260506T110000
DTSTAMP:20260419T063229
CREATED:20260407T023239Z
LAST-MODIFIED:20260414T024729Z
UID:10006873-1778061600-1778065200@gunstuff.tv
SUMMARY:LTC Qualification
DESCRIPTION:Are you a student who has taken an online LTC Course and need to complete your shooting qualification? Defender offers the LTC shooting proficiency portion every week. \nThe shooting qualification requires that you must be able to load\, unload\, and fire the handgun proficiently. If you are new to or inexperienced with shooting we strongly recommend taking either the LTC Prep or Handgun Fundamentals course. This course does not teach basic firearm skills or shooting instruction. (More info) \nPlease arrive a few minutes early to check in and bring a printed copy of your LTC 104 form. \nOur shooting qualification schedule is as follows: \n\nWednesdays – 10:00am\nSaturdays – 8:00am\n\nNo appointment needed\, you can simply walk-in during these available times. \nPlease bring the following: \n\nLTC 104 Form\nFirearm (rental available at additional charge)\n1 magazine\n50 rounds of ammo (ammunition is available for purchase at time of session)\nEye and Ear Protection (rentals available)\n\nREGISTER NOW
URL:https://gunstuff.tv/event/ltc-qualification-64/
LOCATION:Shooting Center\, 2900 Shotts Street\, Fort Worth\, TX\, 76107
CATEGORIES:Shooting Center,Shooting Center Training
ATTACH;FMTTYPE=image/jpeg:https://gunstuff.tv/wp-content/uploads/2025/10/LTC-Qualification-vTp9PG.jpg
ORGANIZER;CN="Defender Outdoors Shooting Center Training":MAILTO:info@defenderoutdoors.com
END:VEVENT
BEGIN:VEVENT
DTSTART;TZID=America/Chicago:20260507T170000
DTEND;TZID=America/Chicago:20260507T190000
DTSTAMP:20260419T063229
CREATED:20260414T024729Z
LAST-MODIFIED:20260414T024729Z
UID:10007480-1778173200-1778180400@gunstuff.tv
SUMMARY:Ladies Only Pistol 1
DESCRIPTION:Ladies\, this class is specfically for you! Formally Intro to Handgun\, this comprehensive beginner class is designed to build a solid foundation in handgun knowledge and handling. Whether you’re new to firearms or seeking to refine your skills\, this course will equip you with essential information and hands-on experience. \nWhat You’ll Learn: \nClassroom Instruction \n\nFirearm Fundamentals: Understand the mechanics of revolvers\, semi-automatic\, and striker-fired handguns\, as well as the types of ammunition they use.\nSafety First: Master the rules of firearm safety and range procedures to ensure a safe and enjoyable shooting experience.\nCarry & Holster Options: Explore different carry positions and holster styles to find the best fit for your needs.\nStorage Solutions: Learn practical tips for safely storing firearms at home.\n\nOn the Range \n\nHands-On Practice: Develop your stance\, grip\, sight alignment\, and trigger control under expert guidance.\nSkill-Building Drills: Practice essential techniques that build confidence and proficiency.\n\nThis course serves as an excellent prequel or sequel to our License to Carry class\, providing a thorough foundation in handgun handling and safety. \nEquipment Needed: \n\nGun rentals are included if needed.\nTargets\, eye protection\, and ear protection are provided.\nAmmo is available for purchase.\n\nRequirements: \n\nBring at least 50 rounds of ammunition.\nIf you own a handgun\, bring two magazines for reloading practice.\n\nGet ready to feel confident and prepared with your handgun skills. Sign up today to begin your journey! \nREGISTER HERE
URL:https://gunstuff.tv/event/ladies-only-pistol-1-11/
LOCATION:Shooting Center\, 2900 Shotts Street\, Fort Worth\, TX\, 76107
CATEGORIES:Shooting Center,Shooting Center Training
ORGANIZER;CN="Defender Outdoors Shooting Center Training":MAILTO:info@defenderoutdoors.com
END:VEVENT
BEGIN:VEVENT
DTSTART;TZID=America/Chicago:20260508T100000
DTEND;TZID=America/Chicago:20260508T170000
DTSTAMP:20260419T063229
CREATED:20260414T024732Z
LAST-MODIFIED:20260414T024732Z
UID:10007482-1778234400-1778259600@gunstuff.tv
SUMMARY:Full Auto Friday
DESCRIPTION:Every Friday is Full Auto Friday at Defender! Pick any full auto you want from our rental wall\, and then just buy the box of ammo\, and you’re on your way to having some serious fun. Shoot as much as you want because your target\, eye and ear protection\, range fee* and machine gun rental is all included! \n*Range fee only for full auto use. Standard range fees apply for general pistol and rifle shooting lanes.
URL:https://gunstuff.tv/event/full-auto-friday-36/
LOCATION:Shooting Center\, 2900 Shotts Street\, Fort Worth\, TX\, 76107
CATEGORIES:Shooting Center,Shooting Center Events
ATTACH;FMTTYPE=image/jpeg:https://gunstuff.tv/wp-content/uploads/2026/03/Full-Auto-Friday-Hahtdd-tZAQXN.jpg
ORGANIZER;CN="Defender Outdoors Shooting Center Events":MAILTO:info@defenderoutdoors.com
END:VEVENT
BEGIN:VEVENT
DTSTART;TZID=America/Chicago:20260509T080000
DTEND;TZID=America/Chicago:20260509T090000
DTSTAMP:20260419T063229
CREATED:20260414T024732Z
LAST-MODIFIED:20260414T024732Z
UID:10007484-1778313600-1778317200@gunstuff.tv
SUMMARY:LTC Qualification
DESCRIPTION:Are you a student who has taken an online LTC Course and need to complete your shooting qualification? Defender offers the LTC shooting proficiency portion every week. \nThe shooting qualification requires that you must be able to load\, unload\, and fire the handgun proficiently. If you are new to or inexperienced with shooting we strongly recommend taking either the LTC Prep or Handgun Fundamentals course. This course does not teach basic firearm skills or shooting instruction. (More info) \nPlease arrive a few minutes early to check in and bring a printed copy of your LTC 104 form. \nOur shooting qualification schedule is as follows: \n\nWednesdays – 10:00am\nSaturdays – 8:00am\n\nNo appointment needed\, you can simply walk-in during these available times. \nPlease bring the following: \n\nLTC 104 Form\nFirearm (rental available at additional charge)\n1 magazine\n50 rounds of ammo (ammunition is available for purchase at time of session)\nEye and Ear Protection (rentals available)\n\nBook Now
URL:https://gunstuff.tv/event/ltc-qualification-65/
LOCATION:Shooting Center\, 2900 Shotts Street\, Fort Worth\, TX\, 76107
CATEGORIES:Shooting Center,Shooting Center Training
ATTACH;FMTTYPE=image/jpeg:https://gunstuff.tv/wp-content/uploads/2025/10/LTC-Qualification-vTp9PG.jpg
ORGANIZER;CN="Defender Outdoors Shooting Center Training":MAILTO:info@defenderoutdoors.com
END:VEVENT
BEGIN:VEVENT
DTSTART;TZID=America/Chicago:20260509T080000
DTEND;TZID=America/Chicago:20260509T140000
DTSTAMP:20260419T063229
CREATED:20260414T024732Z
LAST-MODIFIED:20260414T024732Z
UID:10007483-1778313600-1778335200@gunstuff.tv
SUMMARY:License To Carry
DESCRIPTION:Allows you to carry your handgun in both concealed carry and open carry where it is legal to do so. \nClick here for step by step instructions on how to file for your License to Carry and what you need to know. Looking to just take your shooting qualification only? Click here. \nFormerly CHL\, this course includes your classroom time covering the current Texas State and Federal laws that surround your ability to carry a handgun\, as well as the required shooting proficiency test. The shooting qualification requires that you must be able to load\, unload\, and fire the handgun proficiently. \nTHIS IS NOT A FIREARMS TRAINING CLASS AND WILL NOT TEACH YOU HOW TO SHOOT. If you are new to firearms\, we strongly encourage you to take a Private LTC Prep Lesson prior to taking the class. \nNote: Texas rule banning persons under 21 from obtaining a License to Carry was declared unconstitutional. Persons 18-20 years old can now receive their LTC. Please note\, Defender CANNOT rent handguns OR sell ammunition to anyone under 21. If you are under 21\, you are required to provide your own firearm and ammunition in order to qualify for your LTC. \nShooting Proficiency Test Requirement \n3 Yard Line – 20 rounds\n7 Yard Line – 20 rounds\n15 Yard Line – 10 rounds \nWhat’s Included: \n\nState mandated License to Carry classroom instruction\nShooting qualification and range fee\nLTC-100 Certificate of Completion (it is your responsibility to submit your form\, Defender will not submit for you)\nHandgun rental for proficiency test (if needed)\nB27 target\nEye and ear protection (if needed)\n\nEquipment Needed: \n\nValid Driver’s License\nSemi-auto handgun or revolver\n50 rounds of ammo (available for purchase before the start of class. Subject to availability\, call ahead to check)\nEye and ear protection\nWriting utensil\nBeverage and snacks if desired (we have water\, soda and snacks available for purchase)\n\nNot Included: \n\nState application fee\nFingerprinting and fingerprinting fee (you will be prompted to schedule your fingerprinting appointment at the end of the DPS application process)\nTotal course time is about 6 hours. Please come prepared to learn and be engaged during the class.\n\nREGISTER HERE
URL:https://gunstuff.tv/event/license-to-carry-37/
LOCATION:Shooting Center\, 2900 Shotts Street\, Fort Worth\, TX\, 76107
CATEGORIES:Shooting Center,Shooting Center Training
ATTACH;FMTTYPE=image/jpeg:https://gunstuff.tv/wp-content/uploads/2026/03/LTC-01-e1571087185427-uiRozl-mX56WA.jpg
ORGANIZER;CN="Defender Outdoors Shooting Center Training":MAILTO:info@defenderoutdoors.com
END:VEVENT
BEGIN:VEVENT
DTSTART;TZID=America/Chicago:20260509T160000
DTEND;TZID=America/Chicago:20260509T180000
DTSTAMP:20260419T063229
CREATED:20260414T024735Z
LAST-MODIFIED:20260414T024735Z
UID:10007486-1778342400-1778349600@gunstuff.tv
SUMMARY:Pistol 1
DESCRIPTION:This comprehensive beginner class is designed to build a solid foundation in handgun knowledge and handling. Whether you’re new to firearms or seeking to refine your skills\, this course will equip you with essential information and hands-on experience. \nWhat You’ll Learn: \nClassroom Instruction \n\nFirearm Fundamentals: Understand the mechanics of revolvers\, semi-automatic\, and striker-fired handguns\, as well as the types of ammunition they use.\nSafety First: Master the rules of firearm safety and range procedures to ensure a safe and enjoyable shooting experience.\nCarry & Holster Options: Explore different carry positions and holster styles to find the best fit for your needs.\nStorage Solutions: Learn practical tips for safely storing firearms at home.\n\nOn the Range \n\nHands-On Practice: Develop your stance\, grip\, sight alignment\, and trigger control under expert guidance.\nSkill-Building Drills: Practice essential techniques that build confidence and proficiency.\n\nThis course serves as an excellent prequel or sequel to our License to Carry class\, providing a thorough foundation in handgun handling and safety. \n\nEquipment Needed:\n\nGun rentals are included if needed.\nTargets\, eye protection\, and ear protection are provided.\nAmmo is available for purchase.\n\n\nRequirements:\n\nBring at least 50 rounds of ammunition.\nIf you own a handgun\, bring two magazines for reloading practice.\n\n\n\nGet ready to feel confident and prepared with your handgun skills. Sign up today to begin your journey! \nREGISTER NOW
URL:https://gunstuff.tv/event/pistol-1-11/
LOCATION:Shooting Center\, 2900 Shotts Street\, Fort Worth\, TX\, 76107
CATEGORIES:Shooting Center,Shooting Center Training
ATTACH;FMTTYPE=image/jpeg:https://gunstuff.tv/wp-content/uploads/2026/03/Intro-to-Handgun-kfYBu8-jU0k0M.jpg
ORGANIZER;CN="Defender Outdoors Shooting Center Training":MAILTO:info@defenderoutdoors.com
END:VEVENT
BEGIN:VEVENT
DTSTART;TZID=America/Chicago:20260513T100000
DTEND;TZID=America/Chicago:20260513T110000
DTSTAMP:20260419T063229
CREATED:20260414T024739Z
LAST-MODIFIED:20260414T024739Z
UID:10007489-1778666400-1778670000@gunstuff.tv
SUMMARY:LTC Qualification
DESCRIPTION:Are you a student who has taken an online LTC Course and need to complete your shooting qualification? Defender offers the LTC shooting proficiency portion every week. \nThe shooting qualification requires that you must be able to load\, unload\, and fire the handgun proficiently. If you are new to or inexperienced with shooting we strongly recommend taking either the LTC Prep or Handgun Fundamentals course. This course does not teach basic firearm skills or shooting instruction. (More info) \nPlease arrive a few minutes early to check in and bring a printed copy of your LTC 104 form. \nOur shooting qualification schedule is as follows: \n\nWednesdays – 10:00am\nSaturdays – 8:00am\n\nNo appointment needed\, you can simply walk-in during these available times. \nPlease bring the following: \n\nLTC 104 Form\nFirearm (rental available at additional charge)\n1 magazine\n50 rounds of ammo (ammunition is available for purchase at time of session)\nEye and Ear Protection (rentals available)\n\nREGISTER NOW
URL:https://gunstuff.tv/event/ltc-qualification-66/
LOCATION:Shooting Center\, 2900 Shotts Street\, Fort Worth\, TX\, 76107
CATEGORIES:Shooting Center,Shooting Center Training
ATTACH;FMTTYPE=image/jpeg:https://gunstuff.tv/wp-content/uploads/2025/10/LTC-Qualification-vTp9PG.jpg
ORGANIZER;CN="Defender Outdoors Shooting Center Training":MAILTO:info@defenderoutdoors.com
END:VEVENT
END:VCALENDAR