BEGIN:VCALENDAR
VERSION:2.0
PRODID:-//GunStuff TV - ECPv6.15.20//NONSGML v1.0//EN
CALSCALE:GREGORIAN
METHOD:PUBLISH
X-ORIGINAL-URL:https://gunstuff.tv
X-WR-CALDESC:Events for GunStuff TV
REFRESH-INTERVAL;VALUE=DURATION:PT1H
X-Robots-Tag:noindex
X-PUBLISHED-TTL:PT1H
BEGIN:VTIMEZONE
TZID:UTC
BEGIN:STANDARD
TZOFFSETFROM:+0000
TZOFFSETTO:+0000
TZNAME:UTC
DTSTART:20250101T000000
END:STANDARD
END:VTIMEZONE
BEGIN:VEVENT
DTSTART;TZID=UTC:20260425T060000
DTEND;TZID=UTC:20260425T120000
DTSTAMP:20260421T224530
CREATED:20260421T200314Z
LAST-MODIFIED:20260421T200314Z
UID:10008242-1777096800-1777118400@gunstuff.tv
SUMMARY:Wolwehoek Club Champs 3
DESCRIPTION:IPSC style handgun/pcc match\, open to anyone with appropriate gear.\nVisitors registration fee of R100 payable in cash on the day.\nEnquiries: Fanie.otto@sasol.com or 076 6474 776
URL:https://gunstuff.tv/event/wolwehoek-club-champs-3/
LOCATION:\, Sasolburg Free State\, South Africa
END:VEVENT
END:VCALENDAR