BEGIN:VCALENDAR
VERSION:2.0
PRODID:-//GunStuff TV - ECPv6.15.20//NONSGML v1.0//EN
CALSCALE:GREGORIAN
METHOD:PUBLISH
X-WR-CALNAME:GunStuff TV
X-ORIGINAL-URL:https://gunstuff.tv
X-WR-CALDESC:Events for GunStuff TV
REFRESH-INTERVAL;VALUE=DURATION:PT1H
X-Robots-Tag:noindex
X-PUBLISHED-TTL:PT1H
BEGIN:VTIMEZONE
TZID:UTC
BEGIN:STANDARD
TZOFFSETFROM:+0000
TZOFFSETTO:+0000
TZNAME:UTC
DTSTART:20250101T000000
END:STANDARD
END:VTIMEZONE
BEGIN:VEVENT
DTSTART;TZID=UTC:20260418T090000
DTEND;TZID=UTC:20260418T090000
DTSTAMP:20260419T122442
CREATED:20260227T113140Z
LAST-MODIFIED:20260410T113146Z
UID:10005834-1776502800-1776502800@gunstuff.tv
SUMMARY:SGC 2026_04_18 USPSA Salisbury Gun Club
DESCRIPTION:SGC 2026_04_18 USPSA Salisbury Gun Club\nDate : 4/18/26\nStart Time: 9:00 AM\nLocation:\nSalisbury Gun Club (VA44)\n32240 Dagsboro Rd\nParsonsburg\, MD\nEvent Contact Information\nPhil Cathel\n4107269019\nsgcsecretary1938@gmail.om\nEvent Website\nhttps://practiscore.com/sgc-2026-04-18-uspsa-salisbury-gun-club/register
URL:https://gunstuff.tv/event/sgc-2026_04_18-uspsa-salisbury-gun-club/
LOCATION:Salisbury Gun Club (VA44)\, 31998 Dagsboro Rd\, Parsonsburg\, MD\, United States
GEO:38.414282;-75.502177
X-APPLE-STRUCTURED-LOCATION;VALUE=URI;X-ADDRESS=Salisbury Gun Club (VA44) 31998 Dagsboro Rd Parsonsburg MD United States;X-APPLE-RADIUS=500;X-TITLE=31998 Dagsboro Rd:geo:-75.502177,38.414282
END:VEVENT
BEGIN:VEVENT
DTSTART;TZID=UTC:20260326T180000
DTEND;TZID=UTC:20260326T180000
DTSTAMP:20260419T122442
CREATED:20260207T171712Z
LAST-MODIFIED:20260320T113151Z
UID:10005036-1774548000-1774548000@gunstuff.tv
SUMMARY:SGC 2026_03_26 USPSA Salisbury Gun Club
DESCRIPTION:SGC 2026_03_26 USPSA Salisbury Gun Club\nDate : 3/26/26\nStart Time: 6:00 PM\nLocation:\nSalisbury Gun Club (VA44)\n32240 Dagsboro Rd\nParsonsburg\, MD\nEvent Contact Information\nPhil Cathell\n4107269019\nsgcsecretary1938@gmail.com\nEvent Website\nhttps://practiscore.com/sgc-2026-03-26-uspsa-salisbury-gun-club/register
URL:https://gunstuff.tv/event/sgc-2026_03_26-uspsa-salisbury-gun-club/
LOCATION:Salisbury Gun Club (VA44)\, 31998 Dagsboro Rd\, Parsonsburg\, MD\, United States
GEO:38.414282;-75.502177
X-APPLE-STRUCTURED-LOCATION;VALUE=URI;X-ADDRESS=Salisbury Gun Club (VA44) 31998 Dagsboro Rd Parsonsburg MD United States;X-APPLE-RADIUS=500;X-TITLE=31998 Dagsboro Rd:geo:-75.502177,38.414282
END:VEVENT
BEGIN:VEVENT
DTSTART;TZID=UTC:20260321T090000
DTEND;TZID=UTC:20260321T090000
DTSTAMP:20260419T122442
CREATED:20260207T171712Z
LAST-MODIFIED:20260320T113138Z
UID:10005035-1774083600-1774083600@gunstuff.tv
SUMMARY:SGC 2026_03_21 USPSA Salisbury Gun Club
DESCRIPTION:SGC 2026_03_21 USPSA Salisbury Gun Club\nDate : 3/21/26\nStart Time: 9:00 AM\nLocation:\nSalisbury Gun Club (VA44)\n32240 Dagsboro Rd\nParsonsburg\, MD\nEvent Contact Information\nPhil Cathell\n4107269019\nsgcsecretary1938@gmail.com\nEvent Website\nhttps://practiscore.com/sgc-2026-03-21-uspsa-salisbury-gun-club/register
URL:https://gunstuff.tv/event/sgc-2026_03_21-uspsa-salisbury-gun-club/
LOCATION:Salisbury Gun Club (VA44)\, 31998 Dagsboro Rd\, Parsonsburg\, MD\, United States
GEO:38.414282;-75.502177
X-APPLE-STRUCTURED-LOCATION;VALUE=URI;X-ADDRESS=Salisbury Gun Club (VA44) 31998 Dagsboro Rd Parsonsburg MD United States;X-APPLE-RADIUS=500;X-TITLE=31998 Dagsboro Rd:geo:-75.502177,38.414282
END:VEVENT
BEGIN:VEVENT
DTSTART;TZID=UTC:20260226T180000
DTEND;TZID=UTC:20260226T180000
DTSTAMP:20260419T122442
CREATED:20260117T171703Z
LAST-MODIFIED:20260207T171710Z
UID:10004566-1772128800-1772128800@gunstuff.tv
SUMMARY:SGC 2026_02_26 Winter USPSA Salisbury Gun Club
DESCRIPTION:SGC 2026_02_26 Winter USPSA Salisbury Gun Club\nDate : 2/26/26\nStart Time: 6:00 PM\nLocation:\nSalisbury Gun Club (VA44)\n32240 Dagsboro Rd\nParsonsburg\, MD\nEvent Contact Information\nPhil Cathell\n4107269019\nsgcsecretary1938@gmail.com\nEvent Website\nhttps://practiscore.com/sgc-2026-02-26-winter-uspsa-salisbury-gun-club/register
URL:https://gunstuff.tv/event/sgc-2026_02_26-winter-uspsa-salisbury-gun-club/
LOCATION:Salisbury Gun Club (VA44)\, 31998 Dagsboro Rd\, Parsonsburg\, MD\, United States
GEO:38.414282;-75.502177
X-APPLE-STRUCTURED-LOCATION;VALUE=URI;X-ADDRESS=Salisbury Gun Club (VA44) 31998 Dagsboro Rd Parsonsburg MD United States;X-APPLE-RADIUS=500;X-TITLE=31998 Dagsboro Rd:geo:-75.502177,38.414282
END:VEVENT
BEGIN:VEVENT
DTSTART;TZID=UTC:20260221T090000
DTEND;TZID=UTC:20260221T090000
DTSTAMP:20260419T122442
CREATED:20260110T171705Z
LAST-MODIFIED:20260207T171709Z
UID:10004231-1771664400-1771664400@gunstuff.tv
SUMMARY:SGC 2026_02_21 Winter USPSA Salisbury Gun Club
DESCRIPTION:SGC 2026_02_21 Winter USPSA Salisbury Gun Club\nDate : 2/21/26\nStart Time: 9:00 AM\nLocation:\nSalisbury Gun Club (VA44)\n32240 Dagsboro Rd\nParsonsburg\, MD\nEvent Contact Information\nPhil Cathell\n4107269019\nsgcsecretary1938@gmail.com\nEvent Website\nhttps://practiscore.com/sgc-2026-02-21-winter-uspsa-salisbury-gun-club/register
URL:https://gunstuff.tv/event/sgc-2026_02_21-winter-uspsa-salisbury-gun-club/
LOCATION:Salisbury Gun Club (VA44)\, 31998 Dagsboro Rd\, Parsonsburg\, MD\, United States
GEO:38.414282;-75.502177
X-APPLE-STRUCTURED-LOCATION;VALUE=URI;X-ADDRESS=Salisbury Gun Club (VA44) 31998 Dagsboro Rd Parsonsburg MD United States;X-APPLE-RADIUS=500;X-TITLE=31998 Dagsboro Rd:geo:-75.502177,38.414282
END:VEVENT
BEGIN:VEVENT
DTSTART;TZID=UTC:20260122T180000
DTEND;TZID=UTC:20260122T180000
DTSTAMP:20260419T122442
CREATED:20260110T171704Z
LAST-MODIFIED:20260117T171700Z
UID:10004220-1769104800-1769104800@gunstuff.tv
SUMMARY:SGC 2026_01_22 Winter USPSA Salisbury Gun Club
DESCRIPTION:SGC 2026_01_22 Winter USPSA Salisbury Gun Club\nDate : 1/22/26\nStart Time: 6:00 PM\nLocation:\nSalisbury Gun Club (VA44)\n32240 Dagsboro Rd\nParsonsburg\, MD\nEvent Contact Information\nPhil Cathell\n4107269019\nsgcsecretary1938@gmail.com\nMatch Information\n4 stages. no classifier.\nEvent Website\nhttps://practiscore.com/sgc-2026-01-22-winter-uspsa-salisbury-gun-club/register
URL:https://gunstuff.tv/event/sgc-2026_01_22-winter-uspsa-salisbury-gun-club/
LOCATION:Salisbury Gun Club (VA44)\, 31998 Dagsboro Rd\, Parsonsburg\, MD\, United States
GEO:38.414282;-75.502177
X-APPLE-STRUCTURED-LOCATION;VALUE=URI;X-ADDRESS=Salisbury Gun Club (VA44) 31998 Dagsboro Rd Parsonsburg MD United States;X-APPLE-RADIUS=500;X-TITLE=31998 Dagsboro Rd:geo:-75.502177,38.414282
END:VEVENT
END:VCALENDAR