BEGIN:VCALENDAR
VERSION:2.0
PRODID:-//GunStuff TV - ECPv6.15.20//NONSGML v1.0//EN
CALSCALE:GREGORIAN
METHOD:PUBLISH
X-ORIGINAL-URL:https://gunstuff.tv
X-WR-CALDESC:Events for GunStuff TV
REFRESH-INTERVAL;VALUE=DURATION:PT1H
X-Robots-Tag:noindex
X-PUBLISHED-TTL:PT1H
BEGIN:VTIMEZONE
TZID:UTC
BEGIN:STANDARD
TZOFFSETFROM:+0000
TZOFFSETTO:+0000
TZNAME:UTC
DTSTART:20250101T000000
END:STANDARD
END:VTIMEZONE
BEGIN:VEVENT
DTSTART;TZID=UTC:20260411T090000
DTEND;TZID=UTC:20260411T090000
DTSTAMP:20260421T192613
CREATED:20260110T165455Z
LAST-MODIFIED:20260405T110237Z
UID:10003984-1775898000-1775898000@gunstuff.tv
SUMMARY:Appleseed
DESCRIPTION:River Falls\, WI – River Falls Sportsmens Club\nApril 11\, 2026 – April 12\, 2026\nThis is a traditional 25m Project Appleseed rifle event.\nBoth Centerfire and 22 Rimfire rifles are allowed at this event.\nRegister Now\nAddress: 1130 Rifle Range Rd\, River Falls\, WI 54022\nWebsite: www.riverfallssportsmensclub.com\nPlease Read:  How to Prepare for an Event\nSafety Notice:\n–  Keep ALL firearms in your vehicle until after the safety briefing and you are instructed to bring them to the firing line.\n–  No illegal firearms are allowed.\n–  At centerfire-friendly ranges\, rifle cartridges are limited to 8mm (rifle) or .45 caliber (pistol and pistol caliber carbines).\n–  Effective 8/8/2025\, Project Appleseed has temporarily suspended the SIG-Sauer P320/M17/M18 (all variants) in our Pistol Clinics.\n–  Parents of youth attending\, please read our Message to Parents.\nSubject to state and local laws\, Instructors at your event may have discounted .22 ammo available. Reach out to the contact at the bottom of this page for availability.\nRange Fee:  None\nCamping Available:\nApple River Hideaway Somerset WI 715-547-3230\nRivers Edge Somerset WI 715-247-3305\nHoffman Park contact River Falls municipal park dept. at 715-425-0924\nHotels:\nCountry Inn 1525 Commerce st. River Falls WI 1-800-456-4000\nDirections:\nFrom the North; I94 to 65 south to county JJ south to Rifle rage rd. west. From the South; 65 north to county rd M East to Liberty rd North to Rifle Range Rd East. See link: www.riverfallssportsmensclub.com\nGPS: 44.885333\,-92.564451\nState Laws to be aware of:\nIt is the responsibility of attendees to know and comply with all State and Federal Firearms Laws.\nWisconsin State Firearms Laws\nCheck and follow all Wisconsin State Laws\nMisc:\nCenterfire welcome – but bring your .22 and save on ammo costs.\nLocated on 15 wooded acres\, two miles Northeast of River Falls.  RFSC has two trap ranges as well as 25\, 50\,100 and 200 Yard Pistol and Rifle ranges\, plus an Archery Range.\n“This Shooting Club was organized in 1947 as an affiliate of the National Rifle Association and was originally known as the River Falls Rifle Club. Since then the Club has increased both in membership and shooting interest. The current land was purchased in 1964. The modern\, attractive\, Clubhouse is large enough to meet the needs of members. The shooting ranges were relandscaped in 1999 to increase safety and decrease sound between Ranges. Most Pistol and Rifle Ranges are surrounded on three sides by tall\, grass covered\, earth berms.”\nNo alcohol permitted\nFor more information contact:\nName: WI State Coordinator Email Address: WI@appleseedinfo.org\nName: Miara Email Address: pattimiara@gmail.com Phone: 920-979-1128
URL:https://gunstuff.tv/event/appleseed-42/
LOCATION:River Falls Sportsmens Club\, 1130 Rifle Range Rd\, River Falls\, WI\, United States
GEO:44.884205;-92.573009
X-APPLE-STRUCTURED-LOCATION;VALUE=URI;X-ADDRESS=River Falls Sportsmens Club 1130 Rifle Range Rd River Falls WI United States;X-APPLE-RADIUS=500;X-TITLE=1130 Rifle Range Rd:geo:-92.573009,44.884205
END:VEVENT
END:VCALENDAR