BEGIN:VCALENDAR
VERSION:2.0
PRODID:-//GunStuff TV - ECPv6.15.20//NONSGML v1.0//EN
CALSCALE:GREGORIAN
METHOD:PUBLISH
X-ORIGINAL-URL:https://gunstuff.tv
X-WR-CALDESC:Events for GunStuff TV
REFRESH-INTERVAL;VALUE=DURATION:PT1H
X-Robots-Tag:noindex
X-PUBLISHED-TTL:PT1H
BEGIN:VTIMEZONE
TZID:UTC
BEGIN:STANDARD
TZOFFSETFROM:+0000
TZOFFSETTO:+0000
TZNAME:UTC
DTSTART:20250101T000000
END:STANDARD
END:VTIMEZONE
BEGIN:VEVENT
DTSTART;TZID=UTC:20260228T080000
DTEND;TZID=UTC:20260228T080000
DTSTAMP:20260423T124738
CREATED:20251017T181837Z
LAST-MODIFIED:20260227T113135Z
UID:10002428-1772265600-1772265600@gunstuff.tv
SUMMARY:River Bend Practical Shooters @ River Bend Gun Club
DESCRIPTION:River Bend Practical Shooters @ River Bend Gun Club\nDate : 2/28/26\nStart Time: 8:00 AM\nLocation:\nRiver Bend Practical Shooters (GA23)\n988 River Bend Gun Club Rd\nDawsonville\, GA\nEvent Contact Information\nScott Hauswirth\n404-664-5733\nuspsa.rbps@gmail.com\nMatch Information\nhttps://practiscore.com/clubs/river_bend_gun_club_practical_shooters\nEvent Website\nhttps://www.facebook.com/RiverBendGunClubPracticalShooters
URL:https://gunstuff.tv/event/river-bend-practical-shooters-river-bend-gun-club-4/
LOCATION:River Bend Practical Shooters (GA23)\, 298 River Bend Gun Club Rd\, Dawsonville\, GA\, United States
GEO:34.34;-84.253076
X-APPLE-STRUCTURED-LOCATION;VALUE=URI;X-ADDRESS=River Bend Practical Shooters (GA23) 298 River Bend Gun Club Rd Dawsonville GA United States;X-APPLE-RADIUS=500;X-TITLE=298 River Bend Gun Club Rd:geo:-84.253076,34.34
END:VEVENT
BEGIN:VEVENT
DTSTART;TZID=UTC:20260124T080000
DTEND;TZID=UTC:20260124T080000
DTSTAMP:20260423T124738
CREATED:20251017T181836Z
LAST-MODIFIED:20260117T171700Z
UID:10002419-1769241600-1769241600@gunstuff.tv
SUMMARY:River Bend Practical Shooters @ River Bend Gun Club
DESCRIPTION:River Bend Practical Shooters @ River Bend Gun Club\nDate : 1/24/26\nStart Time: 8:00 AM\nLocation:\nRiver Bend Practical Shooters (GA23)\n988 River Bend Gun Club Rd\nDawsonville\, GA\nEvent Contact Information\nScott Hauswirth\n404-664-5733\nuspsa.rbps@gmail.com\nMatch Information\nhttps://practiscore.com/clubs/river_bend_gun_club_practical_shooters\nEvent Website\nhttps://www.facebook.com/RiverBendGunClubPracticalShooters
URL:https://gunstuff.tv/event/river-bend-practical-shooters-river-bend-gun-club-3/
LOCATION:River Bend Practical Shooters (GA23)\, 298 River Bend Gun Club Rd\, Dawsonville\, GA\, United States
GEO:34.34;-84.253076
X-APPLE-STRUCTURED-LOCATION;VALUE=URI;X-ADDRESS=River Bend Practical Shooters (GA23) 298 River Bend Gun Club Rd Dawsonville GA United States;X-APPLE-RADIUS=500;X-TITLE=298 River Bend Gun Club Rd:geo:-84.253076,34.34
END:VEVENT
END:VCALENDAR