BEGIN:VCALENDAR
VERSION:2.0
PRODID:-//GunStuff TV - ECPv6.15.20//NONSGML v1.0//EN
CALSCALE:GREGORIAN
METHOD:PUBLISH
X-WR-CALNAME:GunStuff TV
X-ORIGINAL-URL:https://gunstuff.tv
X-WR-CALDESC:Events for GunStuff TV
REFRESH-INTERVAL;VALUE=DURATION:PT1H
X-Robots-Tag:noindex
X-PUBLISHED-TTL:PT1H
BEGIN:VTIMEZONE
TZID:UTC
BEGIN:STANDARD
TZOFFSETFROM:+0000
TZOFFSETTO:+0000
TZNAME:UTC
DTSTART:20250101T000000
END:STANDARD
END:VTIMEZONE
BEGIN:VEVENT
DTSTART;TZID=UTC:20260509T090000
DTEND;TZID=UTC:20260509T090000
DTSTAMP:20260419T132449
CREATED:20260110T165459Z
LAST-MODIFIED:20260412T110141Z
UID:10004037-1778317200-1778317200@gunstuff.tv
SUMMARY:LadySeed
DESCRIPTION:Charlottesville\, VA – Rivanna Rifle & Pistol Club\nMay 09\, 2026 – May 10\, 2026\nThis is a LadySeed. This is an Appleseed for Ladies Only. Do NOT sign up if you are male.\nBoth Centerfire and 22 Rimfire rifles are allowed at this event.\nRegister Now\nAddress: 1570 Old Lynchburg Rd\, Charlottesville\, VA 22903\nWebsite: www.rrpc.org\nPlease Read:  How to Prepare for an Event\nSafety Notice:\n–  Keep ALL firearms in your vehicle until after the safety briefing and you are instructed to bring them to the firing line.\n–  No illegal firearms are allowed.\n–  At centerfire-friendly ranges\, rifle cartridges are limited to 8mm (rifle) or .45 caliber (pistol and pistol caliber carbines).\n–  Effective 8/8/2025\, Project Appleseed has temporarily suspended the SIG-Sauer P320/M17/M18 (all variants) in our Pistol Clinics.\n–  Parents of youth attending\, please read our Message to Parents.\nSubject to state and local laws\, Instructors at your event may have discounted .22 ammo available. Reach out to the contact at the bottom of this page for availability.\nRange Fee:  None\nCamping Available:\nNo camping on site.  KOA Charlottesville is less than 10 minutes away\, offering a variety of camping experiences (from primitive all the way to full service (50A/sewer/water) hookups.\nHotels:\nSeveral hotels in the area\, less than 10 minutes from Charlottesville\, supporting budget-minded and no-so-budget-minded individuals.\nDirections:\nMake your best way to Interstate 64\, Take the Charlottesville\, 5th Street exit 120.  Upon exit follow signs for Rt. 631 South (Old Lynchburg Road).  Follow the road South\, (away from Charlottesville) approximately 4 miles (carefully following the 45MPH limit)\, roughly 1/4 mile after crossing the narrow bridge\, take the first driveway on the right. Bear right at the fork to the rifle/pistol ranges. \nSee map to range. (Google Maps location is accurate)\nGPS: 37.969971\,-78.549699\nState Laws to be aware of:\nIt is the responsibility of attendees to know and comply with all State and Federal Firearms Laws.\nVirginia State Firearms Laws\nMisc:\nThis is a limited venue\, only 20 shooters will have space on the line. Pre-registration is strongly encouraged.  Walk-ons may not be possible.\nThis is a 25 meter only Appleseed. While Centerfire is welcome bring the .22s and save $$$ on ammo.\nNo alcohol permitted.\nFor more information contact:\nName: VA State Coordinator Email Address: VA@appleseedinfo.org\nName: Private Message to “BrotherPilot” or “The Wolfhound” on the Appleseed Forum\nName: Jay Mundy Phone: 540-855-4651
URL:https://gunstuff.tv/event/ladyseed/
LOCATION:Rivanna Rifle & Pistol Club\, 1570 Old Lynchburg Rd\, Charlottesville\, VA\, United States
GEO:37.968233;-78.549906
X-APPLE-STRUCTURED-LOCATION;VALUE=URI;X-ADDRESS=Rivanna Rifle & Pistol Club 1570 Old Lynchburg Rd Charlottesville VA United States;X-APPLE-RADIUS=500;X-TITLE=1570 Old Lynchburg Rd:geo:-78.549906,37.968233
END:VEVENT
BEGIN:VEVENT
DTSTART;TZID=UTC:20260711T090000
DTEND;TZID=UTC:20260711T090000
DTSTAMP:20260419T132449
CREATED:20260110T165504Z
LAST-MODIFIED:20260412T110150Z
UID:10004090-1783760400-1783760400@gunstuff.tv
SUMMARY:Pistol Clinic
DESCRIPTION:Charlottesville\, VA – Rivanna Rifle & Pistol Club\nJuly 11\, 2026 – July 12\, 2026\nThis is a Pistol Clinic. The Pistol Clinic teaches the fundamentals of pistol/handgun safety\, accuracy\, and many other topics.\nYou must be at least 18 years of age to attend a pistol event in the State of Virginia.\nBoth 22LR and centerfire pistol cartridges are allowed at this event.\nRegister Now\nAddress: 1570 Old Lynchburg Rd\, Charlottesville\, VA 22903\nWebsite: www.rrpc.org\nPlease Read:  How to Prepare for an Event\nSafety Notice:\n–  Keep ALL firearms in your vehicle until after the safety briefing and you are instructed to bring them to the firing line.\n–  No illegal firearms are allowed.\n–  At centerfire-friendly ranges\, rifle cartridges are limited to 8mm (rifle) or .45 caliber (pistol and pistol caliber carbines).\n–  Effective 8/8/2025\, Project Appleseed has temporarily suspended the SIG-Sauer P320/M17/M18 (all variants) in our Pistol Clinics.\n–  Parents of youth attending\, please read our Message to Parents.\nSubject to state and local laws\, Instructors at your event may have discounted .22 ammo available. Reach out to the contact at the bottom of this page for availability.\nRange Fee:  None\nCamping Available:\nNo camping on site.  KOA Charlottesville is less than 10 minutes away\, offering a variety of camping experiences (from primitive all the way to full service (50A/sewer/water) hookups.\nHotels:\nSeveral hotels in the area\, less than 10 minutes from Charlottesville\, supporting budget-minded and no-so-budget-minded individuals.\nDirections:\nMake your best way to Interstate 64\, Take the Charlottesville\, 5th Street exit 120.  Upon exit follow signs for Rt. 631 South (Old Lynchburg Road).  Follow the road South\, (away from Charlottesville) approximately 4 miles (carefully following the 45MPH limit)\, roughly 1/4 mile after crossing the narrow bridge\, take the first driveway on the right. Bear right at the fork to the rifle/pistol ranges. \nSee map to range. (Google Maps location is accurate)\nGPS: 37.969971\,-78.549699\nState Laws to be aware of:\nIt is the responsibility of attendees to know and comply with all State and Federal Firearms Laws.\nVirginia State Firearms Laws\nMisc:\nThis is a limited venue\, only 20 shooters will have space on the line. Pre-registration is strongly encouraged.  Walk-ons may not be possible.\nThis is a 25 meter only Appleseed. While Centerfire is welcome bring the .22s and save $$$ on ammo.\nNo alcohol permitted.\nFor more information contact:\nName: VA State Coordinator Email Address: VA@appleseedinfo.org\nName: Private Message to “BrotherPilot” or “The Wolfhound” on the Appleseed Forum\nName: Jay Mundy Phone: 540-855-4651
URL:https://gunstuff.tv/event/pistol-clinic-25/
LOCATION:Rivanna Rifle & Pistol Club\, 1570 Old Lynchburg Rd\, Charlottesville\, VA\, United States
GEO:37.968233;-78.549906
X-APPLE-STRUCTURED-LOCATION;VALUE=URI;X-ADDRESS=Rivanna Rifle & Pistol Club 1570 Old Lynchburg Rd Charlottesville VA United States;X-APPLE-RADIUS=500;X-TITLE=1570 Old Lynchburg Rd:geo:-78.549906,37.968233
END:VEVENT
BEGIN:VEVENT
DTSTART;TZID=UTC:20260912T090000
DTEND;TZID=UTC:20260912T090000
DTSTAMP:20260419T132449
CREATED:20260110T165506Z
LAST-MODIFIED:20260412T110157Z
UID:10004127-1789203600-1789203600@gunstuff.tv
SUMMARY:Appleseed
DESCRIPTION:Charlottesville\, VA – Rivanna Rifle & Pistol Club\nSeptember 12\, 2026 – September 13\, 2026\nThis is a traditional 25m Project Appleseed rifle event.\nBoth Centerfire and 22 Rimfire rifles are allowed at this event.\nRegister Now\nAddress: 1570 Old Lynchburg Rd\, Charlottesville\, VA 22903\nWebsite: www.rrpc.org\nPlease Read:  How to Prepare for an Event\nSafety Notice:\n–  Keep ALL firearms in your vehicle until after the safety briefing and you are instructed to bring them to the firing line.\n–  No illegal firearms are allowed.\n–  At centerfire-friendly ranges\, rifle cartridges are limited to 8mm (rifle) or .45 caliber (pistol and pistol caliber carbines).\n–  Effective 8/8/2025\, Project Appleseed has temporarily suspended the SIG-Sauer P320/M17/M18 (all variants) in our Pistol Clinics.\n–  Parents of youth attending\, please read our Message to Parents.\nSubject to state and local laws\, Instructors at your event may have discounted .22 ammo available. Reach out to the contact at the bottom of this page for availability.\nRange Fee:  None\nCamping Available:\nNo camping on site.  KOA Charlottesville is less than 10 minutes away\, offering a variety of camping experiences (from primitive all the way to full service (50A/sewer/water) hookups.\nHotels:\nSeveral hotels in the area\, less than 10 minutes from Charlottesville\, supporting budget-minded and no-so-budget-minded individuals.\nDirections:\nMake your best way to Interstate 64\, Take the Charlottesville\, 5th Street exit 120.  Upon exit follow signs for Rt. 631 South (Old Lynchburg Road).  Follow the road South\, (away from Charlottesville) approximately 4 miles (carefully following the 45MPH limit)\, roughly 1/4 mile after crossing the narrow bridge\, take the first driveway on the right. Bear right at the fork to the rifle/pistol ranges. \nSee map to range. (Google Maps location is accurate)\nGPS: 37.969971\,-78.549699\nState Laws to be aware of:\nIt is the responsibility of attendees to know and comply with all State and Federal Firearms Laws.\nVirginia State Firearms Laws\nMisc:\nThis is a limited venue\, only 20 shooters will have space on the line. Pre-registration is strongly encouraged.  Walk-ons may not be possible.\nThis is a 25 meter only Appleseed. While Centerfire is welcome bring the .22s and save $$$ on ammo.\nNo alcohol permitted.\nFor more information contact:\nName: VA State Coordinator Email Address: VA@appleseedinfo.org\nName: Private Message to “BrotherPilot” or “The Wolfhound” on the Appleseed Forum\nName: Jay Mundy Phone: 540-855-4651
URL:https://gunstuff.tv/event/appleseed-146/
LOCATION:Rivanna Rifle & Pistol Club\, 1570 Old Lynchburg Rd\, Charlottesville\, VA\, United States
GEO:37.968233;-78.549906
X-APPLE-STRUCTURED-LOCATION;VALUE=URI;X-ADDRESS=Rivanna Rifle & Pistol Club 1570 Old Lynchburg Rd Charlottesville VA United States;X-APPLE-RADIUS=500;X-TITLE=1570 Old Lynchburg Rd:geo:-78.549906,37.968233
END:VEVENT
BEGIN:VEVENT
DTSTART;TZID=UTC:20261114T090000
DTEND;TZID=UTC:20261114T090000
DTSTAMP:20260419T132449
CREATED:20260110T165514Z
LAST-MODIFIED:20260412T110209Z
UID:10004197-1794646800-1794646800@gunstuff.tv
SUMMARY:Pistol Clinic
DESCRIPTION:Charlottesville\, VA – Rivanna Rifle & Pistol Club\nNovember 14\, 2026 – November 15\, 2026\nThis is a Pistol Clinic. The Pistol Clinic teaches the fundamentals of pistol/handgun safety\, accuracy\, and many other topics.\nYou must be at least 18 years of age to attend a pistol event in the State of Virginia.\nBoth 22LR and centerfire pistol cartridges are allowed at this event.\nRegister Now\nAddress: 1570 Old Lynchburg Rd\, Charlottesville\, VA 22903\nWebsite: www.rrpc.org\nPlease Read:  How to Prepare for an Event\nSafety Notice:\n–  Keep ALL firearms in your vehicle until after the safety briefing and you are instructed to bring them to the firing line.\n–  No illegal firearms are allowed.\n–  At centerfire-friendly ranges\, rifle cartridges are limited to 8mm (rifle) or .45 caliber (pistol and pistol caliber carbines).\n–  Effective 8/8/2025\, Project Appleseed has temporarily suspended the SIG-Sauer P320/M17/M18 (all variants) in our Pistol Clinics.\n–  Parents of youth attending\, please read our Message to Parents.\nSubject to state and local laws\, Instructors at your event may have discounted .22 ammo available. Reach out to the contact at the bottom of this page for availability.\nRange Fee:  None\nCamping Available:\nNo camping on site.  KOA Charlottesville is less than 10 minutes away\, offering a variety of camping experiences (from primitive all the way to full service (50A/sewer/water) hookups.\nHotels:\nSeveral hotels in the area\, less than 10 minutes from Charlottesville\, supporting budget-minded and no-so-budget-minded individuals.\nDirections:\nMake your best way to Interstate 64\, Take the Charlottesville\, 5th Street exit 120.  Upon exit follow signs for Rt. 631 South (Old Lynchburg Road).  Follow the road South\, (away from Charlottesville) approximately 4 miles (carefully following the 45MPH limit)\, roughly 1/4 mile after crossing the narrow bridge\, take the first driveway on the right. Bear right at the fork to the rifle/pistol ranges. \nSee map to range. (Google Maps location is accurate)\nGPS: 37.969971\,-78.549699\nState Laws to be aware of:\nIt is the responsibility of attendees to know and comply with all State and Federal Firearms Laws.\nVirginia State Firearms Laws\nMisc:\nThis is a limited venue\, only 20 shooters will have space on the line. Pre-registration is strongly encouraged.  Walk-ons may not be possible.\nThis is a 25 meter only Appleseed. While Centerfire is welcome bring the .22s and save $$$ on ammo.\nNo alcohol permitted.\nFor more information contact:\nName: VA State Coordinator Email Address: VA@appleseedinfo.org\nName: Private Message to “BrotherPilot” or “The Wolfhound” on the Appleseed Forum\nName: Jay Mundy Phone: 540-855-4651
URL:https://gunstuff.tv/event/pistol-clinic-45/
LOCATION:Rivanna Rifle & Pistol Club\, 1570 Old Lynchburg Rd\, Charlottesville\, VA\, United States
GEO:37.968233;-78.549906
X-APPLE-STRUCTURED-LOCATION;VALUE=URI;X-ADDRESS=Rivanna Rifle & Pistol Club 1570 Old Lynchburg Rd Charlottesville VA United States;X-APPLE-RADIUS=500;X-TITLE=1570 Old Lynchburg Rd:geo:-78.549906,37.968233
END:VEVENT
END:VCALENDAR