BEGIN:VCALENDAR
VERSION:2.0
PRODID:-//GunStuff TV - ECPv6.15.20//NONSGML v1.0//EN
CALSCALE:GREGORIAN
METHOD:PUBLISH
X-WR-CALNAME:GunStuff TV
X-ORIGINAL-URL:https://gunstuff.tv
X-WR-CALDESC:Events for GunStuff TV
REFRESH-INTERVAL;VALUE=DURATION:PT1H
X-Robots-Tag:noindex
X-PUBLISHED-TTL:PT1H
BEGIN:VTIMEZONE
TZID:UTC
BEGIN:STANDARD
TZOFFSETFROM:+0000
TZOFFSETTO:+0000
TZNAME:UTC
DTSTART:20250101T000000
END:STANDARD
END:VTIMEZONE
BEGIN:VEVENT
DTSTART;TZID=UTC:20260418T140000
DTEND;TZID=UTC:20260418T200000
DTSTAMP:20260424T073936
CREATED:20260414T200230Z
LAST-MODIFIED:20260414T200230Z
UID:10007832-1776520800-1776542400@gunstuff.tv
SUMMARY:LASC-USPSA April 18\,2026
DESCRIPTION:Monthly USPSA Match. 5 stages\, 1 will be a classifier. Show up at 8am for setup\, first shots as soon as all the stages are set. We will be setting up a couple of stages Friday night at 5:30. Please come out and help us setup Friday if you can.
URL:https://gunstuff.tv/event/lasc-uspsa-april-182026/
LOCATION:Rendija Road\, Los Alamos NM\, United States
END:VEVENT
END:VCALENDAR