BEGIN:VCALENDAR
VERSION:2.0
PRODID:-//GunStuff TV - ECPv6.15.20//NONSGML v1.0//EN
CALSCALE:GREGORIAN
METHOD:PUBLISH
X-WR-CALNAME:GunStuff TV
X-ORIGINAL-URL:https://gunstuff.tv
X-WR-CALDESC:Events for GunStuff TV
REFRESH-INTERVAL;VALUE=DURATION:PT1H
X-Robots-Tag:noindex
X-PUBLISHED-TTL:PT1H
BEGIN:VTIMEZONE
TZID:UTC
BEGIN:STANDARD
TZOFFSETFROM:+0000
TZOFFSETTO:+0000
TZNAME:UTC
DTSTART:20250101T000000
END:STANDARD
END:VTIMEZONE
BEGIN:VEVENT
DTSTART;TZID=UTC:20260503T100000
DTEND;TZID=UTC:20260503T100000
DTSTAMP:20260419T121002
CREATED:20260306T113133Z
LAST-MODIFIED:20260410T113135Z
UID:10006161-1777802400-1777802400@gunstuff.tv
SUMMARY:PSOCA USPSA Level 1
DESCRIPTION:PSOCA USPSA Level 1\nDate : 5/03/26\nStart Time: 10:00 AM\nLocation:\nPractical Shooters Of Central Alabama (AL10)\n34792 Macon Co. Road 2\nShorter\, AL\nEvent Contact Information\nJoe Peel\n334-318-8478\njoe.peel@gmail.com\nEvent Website\nhttps://www.facebook.com/PSOCA.USPSA
URL:https://gunstuff.tv/event/psoca-uspsa-level-1/
LOCATION:Practical Shooters Of Central Alabama (AL10)\, 34298 Co Rd 2\, Shorter\, AL\, United States
GEO:32.348354;-85.93632
X-APPLE-STRUCTURED-LOCATION;VALUE=URI;X-ADDRESS=Practical Shooters Of Central Alabama (AL10) 34298 Co Rd 2 Shorter AL United States;X-APPLE-RADIUS=500;X-TITLE=34298 Co Rd 2:geo:-85.93632,32.348354
END:VEVENT
END:VCALENDAR