BEGIN:VCALENDAR
VERSION:2.0
PRODID:-//GunStuff TV - ECPv6.15.20//NONSGML v1.0//EN
CALSCALE:GREGORIAN
METHOD:PUBLISH
X-WR-CALNAME:GunStuff TV
X-ORIGINAL-URL:https://gunstuff.tv
X-WR-CALDESC:Events for GunStuff TV
REFRESH-INTERVAL;VALUE=DURATION:PT1H
X-Robots-Tag:noindex
X-PUBLISHED-TTL:PT1H
BEGIN:VTIMEZONE
TZID:America/New_York
BEGIN:DAYLIGHT
TZOFFSETFROM:-0500
TZOFFSETTO:-0400
TZNAME:EDT
DTSTART:20260308T070000
END:DAYLIGHT
BEGIN:STANDARD
TZOFFSETFROM:-0400
TZOFFSETTO:-0500
TZNAME:EST
DTSTART:20261101T060000
END:STANDARD
BEGIN:DAYLIGHT
TZOFFSETFROM:-0500
TZOFFSETTO:-0400
TZNAME:EDT
DTSTART:20270314T070000
END:DAYLIGHT
BEGIN:STANDARD
TZOFFSETFROM:-0400
TZOFFSETTO:-0500
TZNAME:EST
DTSTART:20271107T060000
END:STANDARD
BEGIN:DAYLIGHT
TZOFFSETFROM:-0500
TZOFFSETTO:-0400
TZNAME:EDT
DTSTART:20280312T070000
END:DAYLIGHT
BEGIN:STANDARD
TZOFFSETFROM:-0400
TZOFFSETTO:-0500
TZNAME:EST
DTSTART:20281105T060000
END:STANDARD
BEGIN:DAYLIGHT
TZOFFSETFROM:-0500
TZOFFSETTO:-0400
TZNAME:EDT
DTSTART:20290311T070000
END:DAYLIGHT
BEGIN:STANDARD
TZOFFSETFROM:-0400
TZOFFSETTO:-0500
TZNAME:EST
DTSTART:20291104T060000
END:STANDARD
END:VTIMEZONE
BEGIN:VEVENT
DTSTART;TZID=America/New_York:20270501T083000
DTEND;TZID=America/New_York:20270501T140000
DTSTAMP:20260420T064934
CREATED:20251003T031217Z
LAST-MODIFIED:20260410T070134Z
UID:10000693-1809160200-1809180000@gunstuff.tv
SUMMARY:PMRPC GSMM Match
DESCRIPTION:For more information you may contact the match director: James Sudduth at j.sudduth@ymail.com.
URL:https://gunstuff.tv/event/pmrpc-gsmm-match-20/
LOCATION:Port Malabar Rifle & Pistol Club\, 599 Hurley Blvd SW\, Palm Bay\, FL\, United States
GEO:27.987569;-80.71018
X-APPLE-STRUCTURED-LOCATION;VALUE=URI;X-ADDRESS=Port Malabar Rifle & Pistol Club 599 Hurley Blvd SW Palm Bay FL United States;X-APPLE-RADIUS=500;X-TITLE=599 Hurley Blvd SW:geo:-80.71018,27.987569
END:VEVENT
BEGIN:VEVENT
DTSTART;TZID=America/New_York:20270515T083000
DTEND;TZID=America/New_York:20270515T143000
DTSTAMP:20260420T064934
CREATED:20251003T031217Z
LAST-MODIFIED:20260410T070134Z
UID:10000695-1810369800-1810391400@gunstuff.tv
SUMMARY:PMRPC Rimfire Match
DESCRIPTION:For more information you may contact the match director: James Sudduth at j.sudduth@ymail.com.
URL:https://gunstuff.tv/event/pmrpc-rimfire-match-20/
LOCATION:Port Malabar Rifle & Pistol Club\, 599 Hurley Blvd SW\, Palm Bay\, FL\, United States
GEO:27.987569;-80.71018
X-APPLE-STRUCTURED-LOCATION;VALUE=URI;X-ADDRESS=Port Malabar Rifle & Pistol Club 599 Hurley Blvd SW Palm Bay FL United States;X-APPLE-RADIUS=500;X-TITLE=599 Hurley Blvd SW:geo:-80.71018,27.987569
END:VEVENT
BEGIN:VEVENT
DTSTART;TZID=America/New_York:20270605T083000
DTEND;TZID=America/New_York:20270605T140000
DTSTAMP:20260420T064934
CREATED:20251003T031218Z
LAST-MODIFIED:20260410T070134Z
UID:10000699-1812184200-1812204000@gunstuff.tv
SUMMARY:PMRPC GSMM Match
DESCRIPTION:For more information you may contact the match director: James Sudduth at j.sudduth@ymail.com.
URL:https://gunstuff.tv/event/pmrpc-gsmm-match-21/
LOCATION:Port Malabar Rifle & Pistol Club\, 599 Hurley Blvd SW\, Palm Bay\, FL\, United States
GEO:27.987569;-80.71018
X-APPLE-STRUCTURED-LOCATION;VALUE=URI;X-ADDRESS=Port Malabar Rifle & Pistol Club 599 Hurley Blvd SW Palm Bay FL United States;X-APPLE-RADIUS=500;X-TITLE=599 Hurley Blvd SW:geo:-80.71018,27.987569
END:VEVENT
BEGIN:VEVENT
DTSTART;TZID=America/New_York:20270619T083000
DTEND;TZID=America/New_York:20270619T143000
DTSTAMP:20260420T064934
CREATED:20251003T031218Z
LAST-MODIFIED:20260410T070134Z
UID:10000701-1813393800-1813415400@gunstuff.tv
SUMMARY:PMRPC Rimfire Match
DESCRIPTION:For more information you may contact the match director: James Sudduth at j.sudduth@ymail.com.
URL:https://gunstuff.tv/event/pmrpc-rimfire-match-21/
LOCATION:Port Malabar Rifle & Pistol Club\, 599 Hurley Blvd SW\, Palm Bay\, FL\, United States
GEO:27.987569;-80.71018
X-APPLE-STRUCTURED-LOCATION;VALUE=URI;X-ADDRESS=Port Malabar Rifle & Pistol Club 599 Hurley Blvd SW Palm Bay FL United States;X-APPLE-RADIUS=500;X-TITLE=599 Hurley Blvd SW:geo:-80.71018,27.987569
END:VEVENT
BEGIN:VEVENT
DTSTART;TZID=America/New_York:20270703T083000
DTEND;TZID=America/New_York:20270703T140000
DTSTAMP:20260420T064934
CREATED:20251003T031218Z
LAST-MODIFIED:20260410T070135Z
UID:10000705-1814603400-1814623200@gunstuff.tv
SUMMARY:PMRPC GSMM Match
DESCRIPTION:For more information you may contact the match director: James Sudduth at j.sudduth@ymail.com.
URL:https://gunstuff.tv/event/pmrpc-gsmm-match-22/
LOCATION:Port Malabar Rifle & Pistol Club\, 599 Hurley Blvd SW\, Palm Bay\, FL\, United States
GEO:27.987569;-80.71018
X-APPLE-STRUCTURED-LOCATION;VALUE=URI;X-ADDRESS=Port Malabar Rifle & Pistol Club 599 Hurley Blvd SW Palm Bay FL United States;X-APPLE-RADIUS=500;X-TITLE=599 Hurley Blvd SW:geo:-80.71018,27.987569
END:VEVENT
BEGIN:VEVENT
DTSTART;TZID=America/New_York:20270717T083000
DTEND;TZID=America/New_York:20270717T143000
DTSTAMP:20260420T064934
CREATED:20251003T031218Z
LAST-MODIFIED:20260410T070135Z
UID:10000707-1815813000-1815834600@gunstuff.tv
SUMMARY:PMRPC Rimfire Match
DESCRIPTION:For more information you may contact the match director: James Sudduth at j.sudduth@ymail.com.
URL:https://gunstuff.tv/event/pmrpc-rimfire-match-22/
LOCATION:Port Malabar Rifle & Pistol Club\, 599 Hurley Blvd SW\, Palm Bay\, FL\, United States
GEO:27.987569;-80.71018
X-APPLE-STRUCTURED-LOCATION;VALUE=URI;X-ADDRESS=Port Malabar Rifle & Pistol Club 599 Hurley Blvd SW Palm Bay FL United States;X-APPLE-RADIUS=500;X-TITLE=599 Hurley Blvd SW:geo:-80.71018,27.987569
END:VEVENT
BEGIN:VEVENT
DTSTART;TZID=America/New_York:20270807T083000
DTEND;TZID=America/New_York:20270807T140000
DTSTAMP:20260420T064934
CREATED:20251003T031218Z
LAST-MODIFIED:20260410T070135Z
UID:10000711-1817627400-1817647200@gunstuff.tv
SUMMARY:PMRPC GSMM Match
DESCRIPTION:For more information you may contact the match director: James Sudduth at j.sudduth@ymail.com.
URL:https://gunstuff.tv/event/pmrpc-gsmm-match-23/
LOCATION:Port Malabar Rifle & Pistol Club\, 599 Hurley Blvd SW\, Palm Bay\, FL\, United States
GEO:27.987569;-80.71018
X-APPLE-STRUCTURED-LOCATION;VALUE=URI;X-ADDRESS=Port Malabar Rifle & Pistol Club 599 Hurley Blvd SW Palm Bay FL United States;X-APPLE-RADIUS=500;X-TITLE=599 Hurley Blvd SW:geo:-80.71018,27.987569
END:VEVENT
BEGIN:VEVENT
DTSTART;TZID=America/New_York:20270821T083000
DTEND;TZID=America/New_York:20270821T143000
DTSTAMP:20260420T064934
CREATED:20251003T031218Z
LAST-MODIFIED:20260410T070136Z
UID:10000715-1818837000-1818858600@gunstuff.tv
SUMMARY:PMRPC Rimfire Match
DESCRIPTION:For more information you may contact the match director: James Sudduth at j.sudduth@ymail.com.
URL:https://gunstuff.tv/event/pmrpc-rimfire-match-23/
LOCATION:Port Malabar Rifle & Pistol Club\, 599 Hurley Blvd SW\, Palm Bay\, FL\, United States
GEO:27.987569;-80.71018
X-APPLE-STRUCTURED-LOCATION;VALUE=URI;X-ADDRESS=Port Malabar Rifle & Pistol Club 599 Hurley Blvd SW Palm Bay FL United States;X-APPLE-RADIUS=500;X-TITLE=599 Hurley Blvd SW:geo:-80.71018,27.987569
END:VEVENT
BEGIN:VEVENT
DTSTART;TZID=America/New_York:20270904T083000
DTEND;TZID=America/New_York:20270904T140000
DTSTAMP:20260420T064934
CREATED:20251003T031218Z
LAST-MODIFIED:20260410T070136Z
UID:10000717-1820046600-1820066400@gunstuff.tv
SUMMARY:PMRPC GSMM Match
DESCRIPTION:For more information you may contact the match director: James Sudduth at j.sudduth@ymail.com.
URL:https://gunstuff.tv/event/pmrpc-gsmm-match-24/
LOCATION:Port Malabar Rifle & Pistol Club\, 599 Hurley Blvd SW\, Palm Bay\, FL\, United States
GEO:27.987569;-80.71018
X-APPLE-STRUCTURED-LOCATION;VALUE=URI;X-ADDRESS=Port Malabar Rifle & Pistol Club 599 Hurley Blvd SW Palm Bay FL United States;X-APPLE-RADIUS=500;X-TITLE=599 Hurley Blvd SW:geo:-80.71018,27.987569
END:VEVENT
BEGIN:VEVENT
DTSTART;TZID=America/New_York:20270918T083000
DTEND;TZID=America/New_York:20270918T143000
DTSTAMP:20260420T064934
CREATED:20251003T031218Z
LAST-MODIFIED:20260410T070136Z
UID:10000719-1821256200-1821277800@gunstuff.tv
SUMMARY:PMRPC Rimfire Match
DESCRIPTION:For more information you may contact the match director: James Sudduth at j.sudduth@ymail.com.
URL:https://gunstuff.tv/event/pmrpc-rimfire-match-24/
LOCATION:Port Malabar Rifle & Pistol Club\, 599 Hurley Blvd SW\, Palm Bay\, FL\, United States
GEO:27.987569;-80.71018
X-APPLE-STRUCTURED-LOCATION;VALUE=URI;X-ADDRESS=Port Malabar Rifle & Pistol Club 599 Hurley Blvd SW Palm Bay FL United States;X-APPLE-RADIUS=500;X-TITLE=599 Hurley Blvd SW:geo:-80.71018,27.987569
END:VEVENT
BEGIN:VEVENT
DTSTART;TZID=America/New_York:20271002T083000
DTEND;TZID=America/New_York:20271002T140000
DTSTAMP:20260420T064934
CREATED:20251003T031219Z
LAST-MODIFIED:20260410T070136Z
UID:10000723-1822465800-1822485600@gunstuff.tv
SUMMARY:PMRPC GSMM Match
DESCRIPTION:For more information you may contact the match director: James Sudduth at j.sudduth@ymail.com.
URL:https://gunstuff.tv/event/pmrpc-gsmm-match-25/
LOCATION:Port Malabar Rifle & Pistol Club\, 599 Hurley Blvd SW\, Palm Bay\, FL\, United States
GEO:27.987569;-80.71018
X-APPLE-STRUCTURED-LOCATION;VALUE=URI;X-ADDRESS=Port Malabar Rifle & Pistol Club 599 Hurley Blvd SW Palm Bay FL United States;X-APPLE-RADIUS=500;X-TITLE=599 Hurley Blvd SW:geo:-80.71018,27.987569
END:VEVENT
BEGIN:VEVENT
DTSTART;TZID=America/New_York:20271016T083000
DTEND;TZID=America/New_York:20271016T143000
DTSTAMP:20260420T064934
CREATED:20251017T035118Z
LAST-MODIFIED:20260410T070136Z
UID:10002200-1823675400-1823697000@gunstuff.tv
SUMMARY:PMRPC Rimfire Match
DESCRIPTION:For more information you may contact the match director: James Sudduth at j.sudduth@ymail.com.
URL:https://gunstuff.tv/event/pmrpc-rimfire-match-25/
LOCATION:Port Malabar Rifle & Pistol Club\, 599 Hurley Blvd SW\, Palm Bay\, FL\, United States
GEO:27.987569;-80.71018
X-APPLE-STRUCTURED-LOCATION;VALUE=URI;X-ADDRESS=Port Malabar Rifle & Pistol Club 599 Hurley Blvd SW Palm Bay FL United States;X-APPLE-RADIUS=500;X-TITLE=599 Hurley Blvd SW:geo:-80.71018,27.987569
END:VEVENT
BEGIN:VEVENT
DTSTART;TZID=America/New_York:20271106T083000
DTEND;TZID=America/New_York:20271106T140000
DTSTAMP:20260420T064934
CREATED:20251107T044638Z
LAST-MODIFIED:20260410T070137Z
UID:10002978-1825489800-1825509600@gunstuff.tv
SUMMARY:PMRPC GSMM Match
DESCRIPTION:For more information you may contact the match director: James Sudduth at j.sudduth@ymail.com.
URL:https://gunstuff.tv/event/pmrpc-gsmm-match-26/
LOCATION:Port Malabar Rifle & Pistol Club\, 599 Hurley Blvd SW\, Palm Bay\, FL\, United States
GEO:27.987569;-80.71018
X-APPLE-STRUCTURED-LOCATION;VALUE=URI;X-ADDRESS=Port Malabar Rifle & Pistol Club 599 Hurley Blvd SW Palm Bay FL United States;X-APPLE-RADIUS=500;X-TITLE=599 Hurley Blvd SW:geo:-80.71018,27.987569
END:VEVENT
BEGIN:VEVENT
DTSTART;TZID=America/New_York:20271120T083000
DTEND;TZID=America/New_York:20271120T143000
DTSTAMP:20260420T064934
CREATED:20251121T060157Z
LAST-MODIFIED:20260410T070137Z
UID:10003188-1826699400-1826721000@gunstuff.tv
SUMMARY:PMRPC Rimfire Match
DESCRIPTION:For more information you may contact the match director: James Sudduth at j.sudduth@ymail.com.
URL:https://gunstuff.tv/event/pmrpc-rimfire-match-26/
LOCATION:Port Malabar Rifle & Pistol Club\, 599 Hurley Blvd SW\, Palm Bay\, FL\, United States
GEO:27.987569;-80.71018
X-APPLE-STRUCTURED-LOCATION;VALUE=URI;X-ADDRESS=Port Malabar Rifle & Pistol Club 599 Hurley Blvd SW Palm Bay FL United States;X-APPLE-RADIUS=500;X-TITLE=599 Hurley Blvd SW:geo:-80.71018,27.987569
END:VEVENT
BEGIN:VEVENT
DTSTART;TZID=America/New_York:20271204T083000
DTEND;TZID=America/New_York:20271204T140000
DTSTAMP:20260420T064934
CREATED:20251205T060149Z
LAST-MODIFIED:20260410T070137Z
UID:10003409-1827909000-1827928800@gunstuff.tv
SUMMARY:PMRPC GSMM Match
DESCRIPTION:For more information you may contact the match director: James Sudduth at j.sudduth@ymail.com.
URL:https://gunstuff.tv/event/pmrpc-gsmm-match-27/
LOCATION:Port Malabar Rifle & Pistol Club\, 599 Hurley Blvd SW\, Palm Bay\, FL\, United States
GEO:27.987569;-80.71018
X-APPLE-STRUCTURED-LOCATION;VALUE=URI;X-ADDRESS=Port Malabar Rifle & Pistol Club 599 Hurley Blvd SW Palm Bay FL United States;X-APPLE-RADIUS=500;X-TITLE=599 Hurley Blvd SW:geo:-80.71018,27.987569
END:VEVENT
BEGIN:VEVENT
DTSTART;TZID=America/New_York:20271218T083000
DTEND;TZID=America/New_York:20271218T143000
DTSTAMP:20260420T064934
CREATED:20251219T060137Z
LAST-MODIFIED:20260410T070137Z
UID:10003596-1829118600-1829140200@gunstuff.tv
SUMMARY:PMRPC Rimfire Match
DESCRIPTION:For more information you may contact the match director: James Sudduth at j.sudduth@ymail.com.
URL:https://gunstuff.tv/event/pmrpc-rimfire-match-27/
LOCATION:Port Malabar Rifle & Pistol Club\, 599 Hurley Blvd SW\, Palm Bay\, FL\, United States
GEO:27.987569;-80.71018
X-APPLE-STRUCTURED-LOCATION;VALUE=URI;X-ADDRESS=Port Malabar Rifle & Pistol Club 599 Hurley Blvd SW Palm Bay FL United States;X-APPLE-RADIUS=500;X-TITLE=599 Hurley Blvd SW:geo:-80.71018,27.987569
END:VEVENT
BEGIN:VEVENT
DTSTART;TZID=America/New_York:20280101T083000
DTEND;TZID=America/New_York:20280101T140000
DTSTAMP:20260420T064934
CREATED:20260102T060142Z
LAST-MODIFIED:20260410T070138Z
UID:10003703-1830328200-1830348000@gunstuff.tv
SUMMARY:PMRPC GSMM Match
DESCRIPTION:For more information you may contact the match director: James Sudduth at j.sudduth@ymail.com.
URL:https://gunstuff.tv/event/pmrpc-gsmm-match-28/
LOCATION:Port Malabar Rifle & Pistol Club\, 599 Hurley Blvd SW\, Palm Bay\, FL\, United States
GEO:27.987569;-80.71018
X-APPLE-STRUCTURED-LOCATION;VALUE=URI;X-ADDRESS=Port Malabar Rifle & Pistol Club 599 Hurley Blvd SW Palm Bay FL United States;X-APPLE-RADIUS=500;X-TITLE=599 Hurley Blvd SW:geo:-80.71018,27.987569
END:VEVENT
BEGIN:VEVENT
DTSTART;TZID=America/New_York:20280115T083000
DTEND;TZID=America/New_York:20280115T143000
DTSTAMP:20260420T064934
CREATED:20260116T061636Z
LAST-MODIFIED:20260410T070138Z
UID:10004511-1831537800-1831559400@gunstuff.tv
SUMMARY:PMRPC Rimfire Match
DESCRIPTION:For more information you may contact the match director: James Sudduth at j.sudduth@ymail.com.
URL:https://gunstuff.tv/event/pmrpc-rimfire-match-28/
LOCATION:Port Malabar Rifle & Pistol Club\, 599 Hurley Blvd SW\, Palm Bay\, FL\, United States
GEO:27.987569;-80.71018
X-APPLE-STRUCTURED-LOCATION;VALUE=URI;X-ADDRESS=Port Malabar Rifle & Pistol Club 599 Hurley Blvd SW Palm Bay FL United States;X-APPLE-RADIUS=500;X-TITLE=599 Hurley Blvd SW:geo:-80.71018,27.987569
END:VEVENT
BEGIN:VEVENT
DTSTART;TZID=America/New_York:20280205T083000
DTEND;TZID=America/New_York:20280205T140000
DTSTAMP:20260420T064934
CREATED:20260206T061648Z
LAST-MODIFIED:20260410T070138Z
UID:10005014-1833352200-1833372000@gunstuff.tv
SUMMARY:PMRPC GSMM Match
DESCRIPTION:For more information you may contact the match director: James Sudduth at j.sudduth@ymail.com.
URL:https://gunstuff.tv/event/pmrpc-gsmm-match-29/
LOCATION:Port Malabar Rifle & Pistol Club\, 599 Hurley Blvd SW\, Palm Bay\, FL\, United States
GEO:27.987569;-80.71018
X-APPLE-STRUCTURED-LOCATION;VALUE=URI;X-ADDRESS=Port Malabar Rifle & Pistol Club 599 Hurley Blvd SW Palm Bay FL United States;X-APPLE-RADIUS=500;X-TITLE=599 Hurley Blvd SW:geo:-80.71018,27.987569
END:VEVENT
BEGIN:VEVENT
DTSTART;TZID=America/New_York:20280219T083000
DTEND;TZID=America/New_York:20280219T143000
DTSTAMP:20260420T064934
CREATED:20260220T063137Z
LAST-MODIFIED:20260410T070138Z
UID:10005717-1834561800-1834583400@gunstuff.tv
SUMMARY:PMRPC Rimfire Match
DESCRIPTION:For more information you may contact the match director: James Sudduth at j.sudduth@ymail.com.
URL:https://gunstuff.tv/event/pmrpc-rimfire-match-29/
LOCATION:Port Malabar Rifle & Pistol Club\, 599 Hurley Blvd SW\, Palm Bay\, FL\, United States
GEO:27.987569;-80.71018
X-APPLE-STRUCTURED-LOCATION;VALUE=URI;X-ADDRESS=Port Malabar Rifle & Pistol Club 599 Hurley Blvd SW Palm Bay FL United States;X-APPLE-RADIUS=500;X-TITLE=599 Hurley Blvd SW:geo:-80.71018,27.987569
END:VEVENT
BEGIN:VEVENT
DTSTART;TZID=America/New_York:20280304T083000
DTEND;TZID=America/New_York:20280304T140000
DTSTAMP:20260420T064934
CREATED:20260306T064812Z
LAST-MODIFIED:20260410T070139Z
UID:10006156-1835771400-1835791200@gunstuff.tv
SUMMARY:PMRPC GSMM Match
DESCRIPTION:For more information you may contact the match director: James Sudduth at j.sudduth@ymail.com.
URL:https://gunstuff.tv/event/pmrpc-gsmm-match-30/
LOCATION:Port Malabar Rifle & Pistol Club\, 599 Hurley Blvd SW\, Palm Bay\, FL\, United States
GEO:27.987569;-80.71018
X-APPLE-STRUCTURED-LOCATION;VALUE=URI;X-ADDRESS=Port Malabar Rifle & Pistol Club 599 Hurley Blvd SW Palm Bay FL United States;X-APPLE-RADIUS=500;X-TITLE=599 Hurley Blvd SW:geo:-80.71018,27.987569
END:VEVENT
BEGIN:VEVENT
DTSTART;TZID=America/New_York:20280318T083000
DTEND;TZID=America/New_York:20280318T143000
DTSTAMP:20260420T064934
CREATED:20260320T070137Z
LAST-MODIFIED:20260410T070139Z
UID:10006411-1836981000-1837002600@gunstuff.tv
SUMMARY:PMRPC Rimfire Match
DESCRIPTION:For more information you may contact the match director: James Sudduth at j.sudduth@ymail.com.
URL:https://gunstuff.tv/event/pmrpc-rimfire-match-30/
LOCATION:Port Malabar Rifle & Pistol Club\, 599 Hurley Blvd SW\, Palm Bay\, FL\, United States
GEO:27.987569;-80.71018
X-APPLE-STRUCTURED-LOCATION;VALUE=URI;X-ADDRESS=Port Malabar Rifle & Pistol Club 599 Hurley Blvd SW Palm Bay FL United States;X-APPLE-RADIUS=500;X-TITLE=599 Hurley Blvd SW:geo:-80.71018,27.987569
END:VEVENT
BEGIN:VEVENT
DTSTART;TZID=America/New_York:20280401T083000
DTEND;TZID=America/New_York:20280401T140000
DTSTAMP:20260420T064934
CREATED:20260403T070201Z
LAST-MODIFIED:20260410T070139Z
UID:10006731-1838190600-1838210400@gunstuff.tv
SUMMARY:PMRPC GSMM Match
DESCRIPTION:For more information you may contact the match director: James Sudduth at j.sudduth@ymail.com.
URL:https://gunstuff.tv/event/pmrpc-gsmm-match-31/
LOCATION:Port Malabar Rifle & Pistol Club\, 599 Hurley Blvd SW\, Palm Bay\, FL\, United States
GEO:27.987569;-80.71018
X-APPLE-STRUCTURED-LOCATION;VALUE=URI;X-ADDRESS=Port Malabar Rifle & Pistol Club 599 Hurley Blvd SW Palm Bay FL United States;X-APPLE-RADIUS=500;X-TITLE=599 Hurley Blvd SW:geo:-80.71018,27.987569
END:VEVENT
BEGIN:VEVENT
DTSTART;TZID=America/New_York:20280415T083000
DTEND;TZID=America/New_York:20280415T143000
DTSTAMP:20260420T064934
CREATED:20260417T071755Z
LAST-MODIFIED:20260417T071755Z
UID:10008015-1839400200-1839421800@gunstuff.tv
SUMMARY:PMRPC Rimfire Match
DESCRIPTION:For more information you may contact the match director: James Sudduth at j.sudduth@ymail.com.
URL:https://gunstuff.tv/event/pmrpc-rimfire-match-31/
LOCATION:Port Malabar Rifle & Pistol Club\, 599 Hurley Blvd SW\, Palm Bay\, FL\, United States
GEO:27.987569;-80.71018
X-APPLE-STRUCTURED-LOCATION;VALUE=URI;X-ADDRESS=Port Malabar Rifle & Pistol Club 599 Hurley Blvd SW Palm Bay FL United States;X-APPLE-RADIUS=500;X-TITLE=599 Hurley Blvd SW:geo:-80.71018,27.987569
END:VEVENT
END:VCALENDAR