BEGIN:VCALENDAR
VERSION:2.0
PRODID:-//GunStuff TV - ECPv6.15.20//NONSGML v1.0//EN
CALSCALE:GREGORIAN
METHOD:PUBLISH
X-WR-CALNAME:GunStuff TV
X-ORIGINAL-URL:https://gunstuff.tv
X-WR-CALDESC:Events for GunStuff TV
REFRESH-INTERVAL;VALUE=DURATION:PT1H
X-Robots-Tag:noindex
X-PUBLISHED-TTL:PT1H
BEGIN:VTIMEZONE
TZID:UTC
BEGIN:STANDARD
TZOFFSETFROM:+0000
TZOFFSETTO:+0000
TZNAME:UTC
DTSTART:20250101T000000
END:STANDARD
END:VTIMEZONE
BEGIN:VEVENT
DTSTART;TZID=UTC:20260418T090000
DTEND;TZID=UTC:20260418T090000
DTSTAMP:20260424T073746
CREATED:20260110T165458Z
LAST-MODIFIED:20260412T110135Z
UID:10004020-1776502800-1776502800@gunstuff.tv
SUMMARY:Appleseed
DESCRIPTION:Palm Bay\, FL – Port Malabar Rifle and Pistol Club\nApril 18\, 2026 – April 19\, 2026\nThis is a traditional 25m Project Appleseed rifle event.\nBoth Centerfire and 22 Rimfire rifles are allowed at this event.\nRegister Now\nAddress: 610 Hurley Blvd SW\, Palm Bay\, FL 32906\nWebsite: www.PMRPC.com\nPlease Read:  How to Prepare for an Event\nSafety Notice:\n–  Keep ALL firearms in your vehicle until after the safety briefing and you are instructed to bring them to the firing line.\n–  No illegal firearms are allowed.\n–  At centerfire-friendly ranges\, rifle cartridges are limited to 8mm (rifle) or .45 caliber (pistol and pistol caliber carbines).\n–  Effective 8/8/2025\, Project Appleseed has temporarily suspended the SIG-Sauer P320/M17/M18 (all variants) in our Pistol Clinics.\n–  Parents of youth attending\, please read our Message to Parents.\nSubject to state and local laws\, Instructors at your event may have discounted .22 ammo available. Reach out to the contact at the bottom of this page for availability.\nRange Fee:  There are no range fees for regular Appleseeds and Rimfire KD. Full distance Centerfire only Known Distance events are $10 for PMRPC members and $15 for non-members per day.\nCamping Available:\nLimited camping may be available on-site\, with 15 spots available with non-potable water and 30 amp electric hook-up.  Check with the Shootboss for pricing and availability.\nHotels:\nNearest hotels are located near the intersection of I-95 and Malabar Rd.\nHampton Inn & Suites West Melbourne-Palm Bay Road\n4520 Durham Drive Melbourne\, Florida 32904 USA\n+1 321-372-7445\nHoliday Inn Express Hotel & Suites\n1206 SE Malabar Rd.\nPalm Bay\, FL 32907\n(877)863-4780\nThis hotel is offering a discounted rate to Appleseed participants. Their phone is 321-220-2003. The rate includes a hot breakfast.\nMotel 6\n1170 Malabar Rd. SE\nPalm Bay\, FL 32907\n(321)951-8222\nDirections:\nFrom Miami/Ft. Lauderdale/WPB\nTake I-95 North to exit 173.  (exit on right)\nTurn Left onto Malabar Rd.\nFollow Malabar Rd NE 4.8 miles to Hurley Blvd. SW (on left)\nFollow Hurley Blvd. SW to the main gate of PMRPC. \nSigns will be posted to direct you to the range.\nFrom Jacksonville/St. Augustine\nTake I-95 South to exit 173.  (exit on right)\nTurn Right onto Malabar Rd.\nFollow Malabar Rd NE 4.8 miles to Hurley Blvd. SW (on left)\nFollow Hurley Blvd. SW to the main gate of PMRPC. \nSigns will be posted to direct you to the range.\nGPS: 27.987338\,-80.719230\nState Laws to be aware of:\nIt is the responsibility of attendees to know and comply with all State and Federal Firearms Laws.\nFlorida State Firearms Laws\nCheck State Laws\nMisc:\nMisc: Port Malabar Rifle and Pistol Club has been a premiere shooting sports destination in South East Florida for decades\, and they have graciously opened their doors to Project Appleseed. Our events at this location are limited to 15 students\, and the likelihood of them selling out is exceptional.  Please\, sign up in advance\, and ensure your spot on the firing line!\nFor more information contact:\nName: FL State Coordinator Email Address: FL@appleseedinfo.org\nName: Dennis Gollehon Email Address: dennis.gollehon@appleseedinfo.org
URL:https://gunstuff.tv/event/appleseed-73/
LOCATION:Port Malabar Rifle and Pistol Club\, 599 Hurley Blvd SW\, Palm Bay\, FL\, United States
GEO:27.987569;-80.71018
X-APPLE-STRUCTURED-LOCATION;VALUE=URI;X-ADDRESS=Port Malabar Rifle and Pistol Club 599 Hurley Blvd SW Palm Bay FL United States;X-APPLE-RADIUS=500;X-TITLE=599 Hurley Blvd SW:geo:-80.71018,27.987569
END:VEVENT
END:VCALENDAR