BEGIN:VCALENDAR
VERSION:2.0
PRODID:-//GunStuff TV - ECPv6.15.20//NONSGML v1.0//EN
CALSCALE:GREGORIAN
METHOD:PUBLISH
X-ORIGINAL-URL:https://gunstuff.tv
X-WR-CALDESC:Events for GunStuff TV
REFRESH-INTERVAL;VALUE=DURATION:PT1H
X-Robots-Tag:noindex
X-PUBLISHED-TTL:PT1H
BEGIN:VTIMEZONE
TZID:UTC
BEGIN:STANDARD
TZOFFSETFROM:+0000
TZOFFSETTO:+0000
TZNAME:UTC
DTSTART:20250101T000000
END:STANDARD
END:VTIMEZONE
BEGIN:VEVENT
DTSTART;TZID=UTC:20260516T090000
DTEND;TZID=UTC:20260516T090000
DTSTAMP:20260424T100205
CREATED:20260110T165500Z
LAST-MODIFIED:20260419T111810Z
UID:10004044-1778922000-1778922000@gunstuff.tv
SUMMARY:Appleseed
DESCRIPTION:Fredericksburg\, TX – Patriot Academy\nMay 16\, 2026 – May 17\, 2026\nThis is a traditional 25m Project Appleseed rifle event.\nBoth Centerfire and 22 Rimfire rifles are allowed at this event.\nRegister Now\nAddress: 1103 US-87\, Comfort\, TX 78013\nWebsite: PatriotAcademy.com\nPlease Read:  How to Prepare for an Event\nSafety Notice:\n–  Keep ALL firearms in your vehicle until after the safety briefing and you are instructed to bring them to the firing line.\n–  No illegal firearms are allowed.\n–  At centerfire-friendly ranges\, rifle cartridges are limited to 8mm (rifle) or .45 caliber (pistol and pistol caliber carbines).\n–  Effective 8/8/2025\, Project Appleseed has temporarily suspended the SIG-Sauer P320/M17/M18 (all variants) in our Pistol Clinics.\n–  Parents of youth attending\, please read our Message to Parents.\nSubject to state and local laws\, Instructors at your event may have discounted .22 ammo available. Reach out to the contact at the bottom of this page for availability.\nRange Fee:  $25 per day.\nCamping Available:  No camping on site.\nHotels:\nDirections:\nSee map to range .\nGPS: 30.121474\,-98.912207\nState Laws to be aware of:\nIt is the responsibility of attendees to know and comply with all State and Federal Firearms Laws.\nTexas State Firearms Laws\nMisc:\nFor more information contact:\nName: Texas State Coordinator Email Address: TX@appleseedinfo.org
URL:https://gunstuff.tv/event/appleseed-91/
LOCATION:Patriot Academy\, Comfort\, TX\, United States
GEO:29.97155;-98.90414
END:VEVENT
BEGIN:VEVENT
DTSTART;TZID=UTC:20260919T090000
DTEND;TZID=UTC:20260919T090000
DTSTAMP:20260424T100205
CREATED:20260110T165507Z
LAST-MODIFIED:20260419T111829Z
UID:10004131-1789808400-1789808400@gunstuff.tv
SUMMARY:Appleseed
DESCRIPTION:Fredericksburg\, TX – Patriot Academy\nSeptember 19\, 2026 – September 20\, 2026\nThis is a traditional 25m Project Appleseed rifle event.\nBoth Centerfire and 22 Rimfire rifles are allowed at this event.\nRegister Now\nAddress: 1103 US-87\, Comfort\, TX 78013\nWebsite: PatriotAcademy.com\nPlease Read:  How to Prepare for an Event\nSafety Notice:\n–  Keep ALL firearms in your vehicle until after the safety briefing and you are instructed to bring them to the firing line.\n–  No illegal firearms are allowed.\n–  At centerfire-friendly ranges\, rifle cartridges are limited to 8mm (rifle) or .45 caliber (pistol and pistol caliber carbines).\n–  Effective 8/8/2025\, Project Appleseed has temporarily suspended the SIG-Sauer P320/M17/M18 (all variants) in our Pistol Clinics.\n–  Parents of youth attending\, please read our Message to Parents.\nSubject to state and local laws\, Instructors at your event may have discounted .22 ammo available. Reach out to the contact at the bottom of this page for availability.\nRange Fee:  $25 per day.\nCamping Available:  No camping on site.\nHotels:\nDirections:\nSee map to range .\nGPS: 30.121474\,-98.912207\nState Laws to be aware of:\nIt is the responsibility of attendees to know and comply with all State and Federal Firearms Laws.\nTexas State Firearms Laws\nMisc:\nFor more information contact:\nName: Texas State Coordinator Email Address: TX@appleseedinfo.org
URL:https://gunstuff.tv/event/appleseed-149/
LOCATION:Patriot Academy\, Comfort\, TX\, United States
GEO:29.97155;-98.90414
END:VEVENT
BEGIN:VEVENT
DTSTART;TZID=UTC:20261017T090000
DTEND;TZID=UTC:20261017T090000
DTSTAMP:20260424T100205
CREATED:20260110T165511Z
LAST-MODIFIED:20260419T111834Z
UID:10004171-1792227600-1792227600@gunstuff.tv
SUMMARY:Rimfire Known Distance
DESCRIPTION:Fredericksburg\, TX – Patriot Academy\nOctober 17\, 2026 – October 18\, 2026\nThis is a Rimfire Known Distance Event. It is a 22LR (Rimfire) only event where the distances will be out to 100 yards or more based on the range. Only previous Appleseed attendees should sign up.\nCenterfire is NOT allowed at this event – 22 Rimfire Only.\nRegister Now\nAddress: 1103 US-87\, Comfort\, TX 78013\nWebsite: PatriotAcademy.com\nPlease Read:  How to Prepare for an Event\nSafety Notice:\n–  Keep ALL firearms in your vehicle until after the safety briefing and you are instructed to bring them to the firing line.\n–  No illegal firearms are allowed.\n–  At centerfire-friendly ranges\, rifle cartridges are limited to 8mm (rifle) or .45 caliber (pistol and pistol caliber carbines).\n–  Effective 8/8/2025\, Project Appleseed has temporarily suspended the SIG-Sauer P320/M17/M18 (all variants) in our Pistol Clinics.\n–  Parents of youth attending\, please read our Message to Parents.\nSubject to state and local laws\, Instructors at your event may have discounted .22 ammo available. Reach out to the contact at the bottom of this page for availability.\nRange Fee:  $25 per day.\nCamping Available:  No camping on site.\nHotels:\nDirections:\nSee map to range .\nGPS: 30.121474\,-98.912207\nState Laws to be aware of:\nIt is the responsibility of attendees to know and comply with all State and Federal Firearms Laws.\nTexas State Firearms Laws\nMisc:\nFor more information contact:\nName: Texas State Coordinator Email Address: TX@appleseedinfo.org
URL:https://gunstuff.tv/event/rimfire-known-distance-12/
LOCATION:Patriot Academy\, Comfort\, TX\, United States
GEO:29.97155;-98.90414
END:VEVENT
BEGIN:VEVENT
DTSTART;TZID=UTC:20261121T090000
DTEND;TZID=UTC:20261121T090000
DTSTAMP:20260424T100205
CREATED:20260110T165515Z
LAST-MODIFIED:20260419T111839Z
UID:10004205-1795251600-1795251600@gunstuff.tv
SUMMARY:Appleseed
DESCRIPTION:Fredericksburg\, TX – Patriot Academy\nNovember 21\, 2026 – November 22\, 2026\nThis is a traditional 25m Project Appleseed rifle event.\nBoth Centerfire and 22 Rimfire rifles are allowed at this event.\nRegister Now\nAddress: 1103 US-87\, Comfort\, TX 78013\nWebsite: PatriotAcademy.com\nPlease Read:  How to Prepare for an Event\nSafety Notice:\n–  Keep ALL firearms in your vehicle until after the safety briefing and you are instructed to bring them to the firing line.\n–  No illegal firearms are allowed.\n–  At centerfire-friendly ranges\, rifle cartridges are limited to 8mm (rifle) or .45 caliber (pistol and pistol caliber carbines).\n–  Effective 8/8/2025\, Project Appleseed has temporarily suspended the SIG-Sauer P320/M17/M18 (all variants) in our Pistol Clinics.\n–  Parents of youth attending\, please read our Message to Parents.\nSubject to state and local laws\, Instructors at your event may have discounted .22 ammo available. Reach out to the contact at the bottom of this page for availability.\nRange Fee:  $25 per day.\nCamping Available:  No camping on site.\nHotels:\nDirections:\nSee map to range .\nGPS: 30.121474\,-98.912207\nState Laws to be aware of:\nIt is the responsibility of attendees to know and comply with all State and Federal Firearms Laws.\nTexas State Firearms Laws\nMisc:\nFor more information contact:\nName: Texas State Coordinator Email Address: TX@appleseedinfo.org
URL:https://gunstuff.tv/event/appleseed-196/
LOCATION:Patriot Academy\, Comfort\, TX\, United States
GEO:29.97155;-98.90414
END:VEVENT
BEGIN:VEVENT
DTSTART;TZID=UTC:20261212T090000
DTEND;TZID=UTC:20261212T090000
DTSTAMP:20260424T100205
CREATED:20260110T165515Z
LAST-MODIFIED:20260419T111840Z
UID:10004214-1797066000-1797066000@gunstuff.tv
SUMMARY:Appleseed
DESCRIPTION:Fredericksburg\, TX – Patriot Academy\nDecember 12\, 2026 – December 13\, 2026\nThis is a traditional 25m Project Appleseed rifle event.\nBoth Centerfire and 22 Rimfire rifles are allowed at this event.\nRegister Now\nAddress: 1103 US-87\, Comfort\, TX 78013\nWebsite: PatriotAcademy.com\nPlease Read:  How to Prepare for an Event\nSafety Notice:\n–  Keep ALL firearms in your vehicle until after the safety briefing and you are instructed to bring them to the firing line.\n–  No illegal firearms are allowed.\n–  At centerfire-friendly ranges\, rifle cartridges are limited to 8mm (rifle) or .45 caliber (pistol and pistol caliber carbines).\n–  Effective 8/8/2025\, Project Appleseed has temporarily suspended the SIG-Sauer P320/M17/M18 (all variants) in our Pistol Clinics.\n–  Parents of youth attending\, please read our Message to Parents.\nSubject to state and local laws\, Instructors at your event may have discounted .22 ammo available. Reach out to the contact at the bottom of this page for availability.\nRange Fee:  $25 per day.\nCamping Available:  No camping on site.\nHotels:\nDirections:\nSee map to range .\nGPS: 30.121474\,-98.912207\nState Laws to be aware of:\nIt is the responsibility of attendees to know and comply with all State and Federal Firearms Laws.\nTexas State Firearms Laws\nMisc:\nFor more information contact:\nName: Texas State Coordinator Email Address: TX@appleseedinfo.org
URL:https://gunstuff.tv/event/appleseed-204/
LOCATION:Patriot Academy\, Comfort\, TX\, United States
GEO:29.97155;-98.90414
END:VEVENT
END:VCALENDAR