BEGIN:VCALENDAR
VERSION:2.0
PRODID:-//GunStuff TV - ECPv6.15.20//NONSGML v1.0//EN
CALSCALE:GREGORIAN
METHOD:PUBLISH
X-WR-CALNAME:GunStuff TV
X-ORIGINAL-URL:https://gunstuff.tv
X-WR-CALDESC:Events for GunStuff TV
REFRESH-INTERVAL;VALUE=DURATION:PT1H
X-Robots-Tag:noindex
X-PUBLISHED-TTL:PT1H
BEGIN:VTIMEZONE
TZID:America/New_York
BEGIN:DAYLIGHT
TZOFFSETFROM:-0500
TZOFFSETTO:-0400
TZNAME:EDT
DTSTART:20250309T070000
END:DAYLIGHT
BEGIN:STANDARD
TZOFFSETFROM:-0400
TZOFFSETTO:-0500
TZNAME:EST
DTSTART:20251102T060000
END:STANDARD
BEGIN:DAYLIGHT
TZOFFSETFROM:-0500
TZOFFSETTO:-0400
TZNAME:EDT
DTSTART:20260308T070000
END:DAYLIGHT
BEGIN:STANDARD
TZOFFSETFROM:-0400
TZOFFSETTO:-0500
TZNAME:EST
DTSTART:20261101T060000
END:STANDARD
BEGIN:DAYLIGHT
TZOFFSETFROM:-0500
TZOFFSETTO:-0400
TZNAME:EDT
DTSTART:20270314T070000
END:DAYLIGHT
BEGIN:STANDARD
TZOFFSETFROM:-0400
TZOFFSETTO:-0500
TZNAME:EST
DTSTART:20271107T060000
END:STANDARD
END:VTIMEZONE
BEGIN:VEVENT
DTSTART;TZID=America/New_York:20260422T160000
DTEND;TZID=America/New_York:20260422T210000
DTSTAMP:20260422T231732
CREATED:20260406T113209Z
LAST-MODIFIED:20260420T113226Z
UID:10006852-1776873600-1776891600@gunstuff.tv
SUMMARY:Skeet/Wobble
DESCRIPTION:
URL:https://gunstuff.tv/event/skeet-wobble-33/
LOCATION:Oxford Gun Club\, 798 Oxford Rd\, Lincoln University\, PA\, United States
GEO:39.78874;-75.909509
X-APPLE-STRUCTURED-LOCATION;VALUE=URI;X-ADDRESS=Oxford Gun Club 798 Oxford Rd Lincoln University PA United States;X-APPLE-RADIUS=500;X-TITLE=798 Oxford Rd:geo:-75.909509,39.78874
END:VEVENT
BEGIN:VEVENT
DTSTART;TZID=America/New_York:20260419T100000
DTEND;TZID=America/New_York:20260419T130000
DTSTAMP:20260422T231732
CREATED:20260406T113209Z
LAST-MODIFIED:20260413T113227Z
UID:10006850-1776592800-1776603600@gunstuff.tv
SUMMARY:Big Meat trap
DESCRIPTION:10:00 AM sign-up/10:00 AM start $20/50 targets\nPractice trap will be open for anyone not wishing to enter the competition.
URL:https://gunstuff.tv/event/big-meat-trap-9/
LOCATION:Oxford Gun Club\, 798 Oxford Rd\, Lincoln University\, PA\, United States
GEO:39.78874;-75.909509
X-APPLE-STRUCTURED-LOCATION;VALUE=URI;X-ADDRESS=Oxford Gun Club 798 Oxford Rd Lincoln University PA United States;X-APPLE-RADIUS=500;X-TITLE=798 Oxford Rd:geo:-75.909509,39.78874
END:VEVENT
BEGIN:VEVENT
DTSTART;TZID=America/New_York:20260419T100000
DTEND;TZID=America/New_York:20260419T130000
DTSTAMP:20260422T231732
CREATED:20260406T113209Z
LAST-MODIFIED:20260406T113209Z
UID:10006840-1776592800-1776603600@gunstuff.tv
SUMMARY:Big Meat trap
DESCRIPTION:10:00 AM sign-up/10:00 AM start $20/50 targets\nPractice trap will be open for anyone not wishing to enter the competition.
URL:https://gunstuff.tv/event/big-meat-trap-10/
LOCATION:Oxford Gun Club\, 798 Oxford Rd\, Lincoln University\, PA\, United States
GEO:39.78874;-75.909509
X-APPLE-STRUCTURED-LOCATION;VALUE=URI;X-ADDRESS=Oxford Gun Club 798 Oxford Rd Lincoln University PA United States;X-APPLE-RADIUS=500;X-TITLE=798 Oxford Rd:geo:-75.909509,39.78874
END:VEVENT
BEGIN:VEVENT
DTSTART;TZID=America/New_York:20260416T160000
DTEND;TZID=America/New_York:20260416T210000
DTSTAMP:20260422T231732
CREATED:20260406T113209Z
LAST-MODIFIED:20260413T113227Z
UID:10006849-1776355200-1776373200@gunstuff.tv
SUMMARY:Trap
DESCRIPTION:Practice: Sr. Member $6/Member $7/Non-Member $9\nMeat Green Bird: Sr. Member $7/Member $8/Non-Member $10
URL:https://gunstuff.tv/event/trap-33/
LOCATION:Oxford Gun Club\, 798 Oxford Rd\, Lincoln University\, PA\, United States
GEO:39.78874;-75.909509
X-APPLE-STRUCTURED-LOCATION;VALUE=URI;X-ADDRESS=Oxford Gun Club 798 Oxford Rd Lincoln University PA United States;X-APPLE-RADIUS=500;X-TITLE=798 Oxford Rd:geo:-75.909509,39.78874
END:VEVENT
BEGIN:VEVENT
DTSTART;TZID=America/New_York:20260416T160000
DTEND;TZID=America/New_York:20260416T210000
DTSTAMP:20260422T231732
CREATED:20260406T113209Z
LAST-MODIFIED:20260406T113209Z
UID:10006839-1776355200-1776373200@gunstuff.tv
SUMMARY:Trap
DESCRIPTION:Practice: Sr. Member $6/Member $7/Non-Member $9\nMeat Green Bird: Sr. Member $7/Member $8/Non-Member $10
URL:https://gunstuff.tv/event/trap-34/
LOCATION:Oxford Gun Club\, 798 Oxford Rd\, Lincoln University\, PA\, United States
GEO:39.78874;-75.909509
X-APPLE-STRUCTURED-LOCATION;VALUE=URI;X-ADDRESS=Oxford Gun Club 798 Oxford Rd Lincoln University PA United States;X-APPLE-RADIUS=500;X-TITLE=798 Oxford Rd:geo:-75.909509,39.78874
END:VEVENT
BEGIN:VEVENT
DTSTART;TZID=America/New_York:20260415T160000
DTEND;TZID=America/New_York:20260415T210000
DTSTAMP:20260422T231732
CREATED:20260406T113209Z
LAST-MODIFIED:20260413T113226Z
UID:10006848-1776268800-1776286800@gunstuff.tv
SUMMARY:Skeet/Wobble
DESCRIPTION:
URL:https://gunstuff.tv/event/skeet-wobble-31/
LOCATION:Oxford Gun Club\, 798 Oxford Rd\, Lincoln University\, PA\, United States
GEO:39.78874;-75.909509
X-APPLE-STRUCTURED-LOCATION;VALUE=URI;X-ADDRESS=Oxford Gun Club 798 Oxford Rd Lincoln University PA United States;X-APPLE-RADIUS=500;X-TITLE=798 Oxford Rd:geo:-75.909509,39.78874
END:VEVENT
BEGIN:VEVENT
DTSTART;TZID=America/New_York:20260415T160000
DTEND;TZID=America/New_York:20260415T210000
DTSTAMP:20260422T231732
CREATED:20260406T113209Z
LAST-MODIFIED:20260406T113209Z
UID:10006838-1776268800-1776286800@gunstuff.tv
SUMMARY:Skeet/Wobble
DESCRIPTION:
URL:https://gunstuff.tv/event/skeet-wobble-32/
LOCATION:Oxford Gun Club\, 798 Oxford Rd\, Lincoln University\, PA\, United States
GEO:39.78874;-75.909509
X-APPLE-STRUCTURED-LOCATION;VALUE=URI;X-ADDRESS=Oxford Gun Club 798 Oxford Rd Lincoln University PA United States;X-APPLE-RADIUS=500;X-TITLE=798 Oxford Rd:geo:-75.909509,39.78874
END:VEVENT
BEGIN:VEVENT
DTSTART;TZID=America/New_York:20260409T160000
DTEND;TZID=America/New_York:20260409T210000
DTSTAMP:20260422T231732
CREATED:20260406T113208Z
LAST-MODIFIED:20260406T113208Z
UID:10006843-1775750400-1775768400@gunstuff.tv
SUMMARY:Trap
DESCRIPTION:Practice: Sr. Member $6/Member $7/Non-Member $9\nMeat Green Bird: Sr. Member $7/Member $8/Non-Member $10
URL:https://gunstuff.tv/event/trap-31/
LOCATION:Oxford Gun Club\, 798 Oxford Rd\, Lincoln University\, PA\, United States
GEO:39.78874;-75.909509
X-APPLE-STRUCTURED-LOCATION;VALUE=URI;X-ADDRESS=Oxford Gun Club 798 Oxford Rd Lincoln University PA United States;X-APPLE-RADIUS=500;X-TITLE=798 Oxford Rd:geo:-75.909509,39.78874
END:VEVENT
BEGIN:VEVENT
DTSTART;TZID=America/New_York:20260409T160000
DTEND;TZID=America/New_York:20260409T210000
DTSTAMP:20260422T231732
CREATED:20260406T113208Z
LAST-MODIFIED:20260406T113208Z
UID:10006833-1775750400-1775768400@gunstuff.tv
SUMMARY:Trap
DESCRIPTION:Practice: Sr. Member $6/Member $7/Non-Member $9\nMeat Green Bird: Sr. Member $7/Member $8/Non-Member $10
URL:https://gunstuff.tv/event/trap-32/
LOCATION:Oxford Gun Club\, 798 Oxford Rd\, Lincoln University\, PA\, United States
GEO:39.78874;-75.909509
X-APPLE-STRUCTURED-LOCATION;VALUE=URI;X-ADDRESS=Oxford Gun Club 798 Oxford Rd Lincoln University PA United States;X-APPLE-RADIUS=500;X-TITLE=798 Oxford Rd:geo:-75.909509,39.78874
END:VEVENT
BEGIN:VEVENT
DTSTART;TZID=America/New_York:20260408T160000
DTEND;TZID=America/New_York:20260408T210000
DTSTAMP:20260422T231732
CREATED:20260406T113208Z
LAST-MODIFIED:20260406T113208Z
UID:10006842-1775664000-1775682000@gunstuff.tv
SUMMARY:Skeet/Wobble
DESCRIPTION:
URL:https://gunstuff.tv/event/skeet-wobble-29/
LOCATION:Oxford Gun Club\, 798 Oxford Rd\, Lincoln University\, PA\, United States
GEO:39.78874;-75.909509
X-APPLE-STRUCTURED-LOCATION;VALUE=URI;X-ADDRESS=Oxford Gun Club 798 Oxford Rd Lincoln University PA United States;X-APPLE-RADIUS=500;X-TITLE=798 Oxford Rd:geo:-75.909509,39.78874
END:VEVENT
BEGIN:VEVENT
DTSTART;TZID=America/New_York:20260408T160000
DTEND;TZID=America/New_York:20260408T210000
DTSTAMP:20260422T231732
CREATED:20260406T113208Z
LAST-MODIFIED:20260406T113208Z
UID:10006832-1775664000-1775682000@gunstuff.tv
SUMMARY:Skeet/Wobble
DESCRIPTION:
URL:https://gunstuff.tv/event/skeet-wobble-30/
LOCATION:Oxford Gun Club\, 798 Oxford Rd\, Lincoln University\, PA\, United States
GEO:39.78874;-75.909509
X-APPLE-STRUCTURED-LOCATION;VALUE=URI;X-ADDRESS=Oxford Gun Club 798 Oxford Rd Lincoln University PA United States;X-APPLE-RADIUS=500;X-TITLE=798 Oxford Rd:geo:-75.909509,39.78874
END:VEVENT
BEGIN:VEVENT
DTSTART;TZID=America/New_York:20260326T160000
DTEND;TZID=America/New_York:20260326T210000
DTSTAMP:20260422T231732
CREATED:20260302T111650Z
LAST-MODIFIED:20260323T113128Z
UID:10005965-1774540800-1774558800@gunstuff.tv
SUMMARY:Trap
DESCRIPTION:Practice: Sr. Member $6/Member $7/Non-Member $9\nMeat Green Bird: Sr. Member $7/Member $8/Non-Member $10
URL:https://gunstuff.tv/event/trap-27/
LOCATION:Oxford Gun Club\, 798 Oxford Rd\, Lincoln University\, PA\, United States
GEO:39.78874;-75.909509
X-APPLE-STRUCTURED-LOCATION;VALUE=URI;X-ADDRESS=Oxford Gun Club 798 Oxford Rd Lincoln University PA United States;X-APPLE-RADIUS=500;X-TITLE=798 Oxford Rd:geo:-75.909509,39.78874
END:VEVENT
BEGIN:VEVENT
DTSTART;TZID=America/New_York:20260325T160000
DTEND;TZID=America/New_York:20260325T210000
DTSTAMP:20260422T231732
CREATED:20260302T111650Z
LAST-MODIFIED:20260323T113128Z
UID:10005964-1774454400-1774472400@gunstuff.tv
SUMMARY:Skeet/Wobble
DESCRIPTION:
URL:https://gunstuff.tv/event/skeet-wobble-28/
LOCATION:Oxford Gun Club\, 798 Oxford Rd\, Lincoln University\, PA\, United States
GEO:39.78874;-75.909509
X-APPLE-STRUCTURED-LOCATION;VALUE=URI;X-ADDRESS=Oxford Gun Club 798 Oxford Rd Lincoln University PA United States;X-APPLE-RADIUS=500;X-TITLE=798 Oxford Rd:geo:-75.909509,39.78874
END:VEVENT
BEGIN:VEVENT
DTSTART;TZID=America/New_York:20260319T160000
DTEND;TZID=America/New_York:20260319T210000
DTSTAMP:20260422T231732
CREATED:20260302T111637Z
LAST-MODIFIED:20260316T113135Z
UID:10005962-1773936000-1773954000@gunstuff.tv
SUMMARY:Trap
DESCRIPTION:Practice: Sr. Member $6/Member $7/Non-Member $9\nMeat Green Bird: Sr. Member $7/Member $8/Non-Member $10
URL:https://gunstuff.tv/event/trap-26/
LOCATION:Oxford Gun Club\, 798 Oxford Rd\, Lincoln University\, PA\, United States
GEO:39.78874;-75.909509
X-APPLE-STRUCTURED-LOCATION;VALUE=URI;X-ADDRESS=Oxford Gun Club 798 Oxford Rd Lincoln University PA United States;X-APPLE-RADIUS=500;X-TITLE=798 Oxford Rd:geo:-75.909509,39.78874
END:VEVENT
BEGIN:VEVENT
DTSTART;TZID=America/New_York:20260318T160000
DTEND;TZID=America/New_York:20260318T210000
DTSTAMP:20260422T231732
CREATED:20260302T111637Z
LAST-MODIFIED:20260316T113135Z
UID:10005961-1773849600-1773867600@gunstuff.tv
SUMMARY:Skeet/Wobble
DESCRIPTION:
URL:https://gunstuff.tv/event/skeet-wobble-27/
LOCATION:Oxford Gun Club\, 798 Oxford Rd\, Lincoln University\, PA\, United States
GEO:39.78874;-75.909509
X-APPLE-STRUCTURED-LOCATION;VALUE=URI;X-ADDRESS=Oxford Gun Club 798 Oxford Rd Lincoln University PA United States;X-APPLE-RADIUS=500;X-TITLE=798 Oxford Rd:geo:-75.909509,39.78874
END:VEVENT
BEGIN:VEVENT
DTSTART;TZID=America/New_York:20260315T100000
DTEND;TZID=America/New_York:20260315T130000
DTSTAMP:20260422T231732
CREATED:20260302T111637Z
LAST-MODIFIED:20260309T113128Z
UID:10005960-1773568800-1773579600@gunstuff.tv
SUMMARY:Big Meat trap
DESCRIPTION:10:00 AM sign-up/10:00 AM start $20/50 targets\nPractice trap will be open for anyone not wishing to enter the competition.
URL:https://gunstuff.tv/event/big-meat-trap-8/
LOCATION:Oxford Gun Club\, 798 Oxford Rd\, Lincoln University\, PA\, United States
GEO:39.78874;-75.909509
X-APPLE-STRUCTURED-LOCATION;VALUE=URI;X-ADDRESS=Oxford Gun Club 798 Oxford Rd Lincoln University PA United States;X-APPLE-RADIUS=500;X-TITLE=798 Oxford Rd:geo:-75.909509,39.78874
END:VEVENT
BEGIN:VEVENT
DTSTART;TZID=America/New_York:20260312T160000
DTEND;TZID=America/New_York:20260312T210000
DTSTAMP:20260422T231732
CREATED:20260302T111637Z
LAST-MODIFIED:20260309T113128Z
UID:10005959-1773331200-1773349200@gunstuff.tv
SUMMARY:Trap
DESCRIPTION:Practice: Sr. Member $6/Member $7/Non-Member $9\nMeat Green Bird: Sr. Member $7/Member $8/Non-Member $10
URL:https://gunstuff.tv/event/trap-25/
LOCATION:Oxford Gun Club\, 798 Oxford Rd\, Lincoln University\, PA\, United States
GEO:39.78874;-75.909509
X-APPLE-STRUCTURED-LOCATION;VALUE=URI;X-ADDRESS=Oxford Gun Club 798 Oxford Rd Lincoln University PA United States;X-APPLE-RADIUS=500;X-TITLE=798 Oxford Rd:geo:-75.909509,39.78874
END:VEVENT
BEGIN:VEVENT
DTSTART;TZID=America/New_York:20260311T160000
DTEND;TZID=America/New_York:20260311T210000
DTSTAMP:20260422T231732
CREATED:20260302T111637Z
LAST-MODIFIED:20260309T113128Z
UID:10005958-1773244800-1773262800@gunstuff.tv
SUMMARY:Skeet/Wobble
DESCRIPTION:
URL:https://gunstuff.tv/event/skeet-wobble-26/
LOCATION:Oxford Gun Club\, 798 Oxford Rd\, Lincoln University\, PA\, United States
GEO:39.78874;-75.909509
X-APPLE-STRUCTURED-LOCATION;VALUE=URI;X-ADDRESS=Oxford Gun Club 798 Oxford Rd Lincoln University PA United States;X-APPLE-RADIUS=500;X-TITLE=798 Oxford Rd:geo:-75.909509,39.78874
END:VEVENT
BEGIN:VEVENT
DTSTART;TZID=America/New_York:20260305T160000
DTEND;TZID=America/New_York:20260305T210000
DTSTAMP:20260422T231732
CREATED:20260302T111636Z
LAST-MODIFIED:20260302T111732Z
UID:10005956-1772726400-1772744400@gunstuff.tv
SUMMARY:Trap
DESCRIPTION:Practice: Sr. Member $6/Member $7/Non-Member $9\nMeat Green Bird: Sr. Member $7/Member $8/Non-Member $10
URL:https://gunstuff.tv/event/trap-24/
LOCATION:Oxford Gun Club\, 798 Oxford Rd\, Lincoln University\, PA\, United States
GEO:39.78874;-75.909509
X-APPLE-STRUCTURED-LOCATION;VALUE=URI;X-ADDRESS=Oxford Gun Club 798 Oxford Rd Lincoln University PA United States;X-APPLE-RADIUS=500;X-TITLE=798 Oxford Rd:geo:-75.909509,39.78874
END:VEVENT
BEGIN:VEVENT
DTSTART;TZID=America/New_York:20260304T160000
DTEND;TZID=America/New_York:20260304T210000
DTSTAMP:20260422T231732
CREATED:20260302T111636Z
LAST-MODIFIED:20260302T111732Z
UID:10005955-1772640000-1772658000@gunstuff.tv
SUMMARY:Skeet/Wobble
DESCRIPTION:
URL:https://gunstuff.tv/event/skeet-wobble-25/
LOCATION:Oxford Gun Club\, 798 Oxford Rd\, Lincoln University\, PA\, United States
GEO:39.78874;-75.909509
X-APPLE-STRUCTURED-LOCATION;VALUE=URI;X-ADDRESS=Oxford Gun Club 798 Oxford Rd Lincoln University PA United States;X-APPLE-RADIUS=500;X-TITLE=798 Oxford Rd:geo:-75.909509,39.78874
END:VEVENT
BEGIN:VEVENT
DTSTART;TZID=America/New_York:20260226T160000
DTEND;TZID=America/New_York:20260226T210000
DTSTAMP:20260422T231732
CREATED:20260202T111629Z
LAST-MODIFIED:20260223T111629Z
UID:10004928-1772121600-1772139600@gunstuff.tv
SUMMARY:Trap
DESCRIPTION:Practice: Sr. Member $6/Member $7/Non-Member $9\nMeat Green Bird: Sr. Member $7/Member $8/Non-Member $10
URL:https://gunstuff.tv/event/trap-23/
LOCATION:Oxford Gun Club\, 798 Oxford Rd\, Lincoln University\, PA\, United States
GEO:39.78874;-75.909509
X-APPLE-STRUCTURED-LOCATION;VALUE=URI;X-ADDRESS=Oxford Gun Club 798 Oxford Rd Lincoln University PA United States;X-APPLE-RADIUS=500;X-TITLE=798 Oxford Rd:geo:-75.909509,39.78874
END:VEVENT
BEGIN:VEVENT
DTSTART;TZID=America/New_York:20260225T160000
DTEND;TZID=America/New_York:20260225T210000
DTSTAMP:20260422T231732
CREATED:20260202T111629Z
LAST-MODIFIED:20260223T111629Z
UID:10004927-1772035200-1772053200@gunstuff.tv
SUMMARY:Skeet/Wobble
DESCRIPTION:
URL:https://gunstuff.tv/event/skeet-wobble-24/
LOCATION:Oxford Gun Club\, 798 Oxford Rd\, Lincoln University\, PA\, United States
GEO:39.78874;-75.909509
X-APPLE-STRUCTURED-LOCATION;VALUE=URI;X-ADDRESS=Oxford Gun Club 798 Oxford Rd Lincoln University PA United States;X-APPLE-RADIUS=500;X-TITLE=798 Oxford Rd:geo:-75.909509,39.78874
END:VEVENT
BEGIN:VEVENT
DTSTART;TZID=America/New_York:20260219T160000
DTEND;TZID=America/New_York:20260219T210000
DTSTAMP:20260422T231732
CREATED:20260202T111629Z
LAST-MODIFIED:20260216T111632Z
UID:10004924-1771516800-1771534800@gunstuff.tv
SUMMARY:Trap
DESCRIPTION:Practice: Sr. Member $6/Member $7/Non-Member $9\nMeat Green Bird: Sr. Member $7/Member $8/Non-Member $10
URL:https://gunstuff.tv/event/trap-22/
LOCATION:Oxford Gun Club\, 798 Oxford Rd\, Lincoln University\, PA\, United States
GEO:39.78874;-75.909509
X-APPLE-STRUCTURED-LOCATION;VALUE=URI;X-ADDRESS=Oxford Gun Club 798 Oxford Rd Lincoln University PA United States;X-APPLE-RADIUS=500;X-TITLE=798 Oxford Rd:geo:-75.909509,39.78874
END:VEVENT
BEGIN:VEVENT
DTSTART;TZID=America/New_York:20260218T160000
DTEND;TZID=America/New_York:20260218T210000
DTSTAMP:20260422T231732
CREATED:20260202T111629Z
LAST-MODIFIED:20260202T111629Z
UID:10004913-1771430400-1771448400@gunstuff.tv
SUMMARY:Skeet/Wobble
DESCRIPTION:
URL:https://gunstuff.tv/event/skeet-wobble-23/
LOCATION:Oxford Gun Club\, 798 Oxford Rd\, Lincoln University\, PA\, United States
GEO:39.78874;-75.909509
X-APPLE-STRUCTURED-LOCATION;VALUE=URI;X-ADDRESS=Oxford Gun Club 798 Oxford Rd Lincoln University PA United States;X-APPLE-RADIUS=500;X-TITLE=798 Oxford Rd:geo:-75.909509,39.78874
END:VEVENT
BEGIN:VEVENT
DTSTART;TZID=America/New_York:20260218T160000
DTEND;TZID=America/New_York:20260218T210000
DTSTAMP:20260422T231732
CREATED:20260202T111629Z
LAST-MODIFIED:20260216T111632Z
UID:10004923-1771430400-1771448400@gunstuff.tv
SUMMARY:Skeet/Wobble
DESCRIPTION:
URL:https://gunstuff.tv/event/skeet-wobble-22/
LOCATION:Oxford Gun Club\, 798 Oxford Rd\, Lincoln University\, PA\, United States
GEO:39.78874;-75.909509
X-APPLE-STRUCTURED-LOCATION;VALUE=URI;X-ADDRESS=Oxford Gun Club 798 Oxford Rd Lincoln University PA United States;X-APPLE-RADIUS=500;X-TITLE=798 Oxford Rd:geo:-75.909509,39.78874
END:VEVENT
BEGIN:VEVENT
DTSTART;TZID=America/New_York:20260215T100000
DTEND;TZID=America/New_York:20260215T130000
DTSTAMP:20260422T231732
CREATED:20260202T111629Z
LAST-MODIFIED:20260209T111633Z
UID:10004921-1771149600-1771160400@gunstuff.tv
SUMMARY:Big Meat trap
DESCRIPTION:10:00 AM sign-up/10:00 AM start $20/50 targets\nPractice trap will be open for anyone not wishing to enter the competition.
URL:https://gunstuff.tv/event/big-meat-trap-6/
LOCATION:Oxford Gun Club\, 798 Oxford Rd\, Lincoln University\, PA\, United States
GEO:39.78874;-75.909509
X-APPLE-STRUCTURED-LOCATION;VALUE=URI;X-ADDRESS=Oxford Gun Club 798 Oxford Rd Lincoln University PA United States;X-APPLE-RADIUS=500;X-TITLE=798 Oxford Rd:geo:-75.909509,39.78874
END:VEVENT
BEGIN:VEVENT
DTSTART;TZID=America/New_York:20260215T100000
DTEND;TZID=America/New_York:20260215T130000
DTSTAMP:20260422T231732
CREATED:20260202T111629Z
LAST-MODIFIED:20260202T111629Z
UID:10004911-1771149600-1771160400@gunstuff.tv
SUMMARY:Big Meat trap
DESCRIPTION:10:00 AM sign-up/10:00 AM start $20/50 targets\nPractice trap will be open for anyone not wishing to enter the competition.
URL:https://gunstuff.tv/event/big-meat-trap-7/
LOCATION:Oxford Gun Club\, 798 Oxford Rd\, Lincoln University\, PA\, United States
GEO:39.78874;-75.909509
X-APPLE-STRUCTURED-LOCATION;VALUE=URI;X-ADDRESS=Oxford Gun Club 798 Oxford Rd Lincoln University PA United States;X-APPLE-RADIUS=500;X-TITLE=798 Oxford Rd:geo:-75.909509,39.78874
END:VEVENT
BEGIN:VEVENT
DTSTART;TZID=America/New_York:20260212T160000
DTEND;TZID=America/New_York:20260212T210000
DTSTAMP:20260422T231732
CREATED:20260202T111629Z
LAST-MODIFIED:20260209T111633Z
UID:10004920-1770912000-1770930000@gunstuff.tv
SUMMARY:Trap
DESCRIPTION:Practice: Sr. Member $6/Member $7/Non-Member $9\nMeat Green Bird: Sr. Member $7/Member $8/Non-Member $10
URL:https://gunstuff.tv/event/trap-20/
LOCATION:Oxford Gun Club\, 798 Oxford Rd\, Lincoln University\, PA\, United States
GEO:39.78874;-75.909509
X-APPLE-STRUCTURED-LOCATION;VALUE=URI;X-ADDRESS=Oxford Gun Club 798 Oxford Rd Lincoln University PA United States;X-APPLE-RADIUS=500;X-TITLE=798 Oxford Rd:geo:-75.909509,39.78874
END:VEVENT
BEGIN:VEVENT
DTSTART;TZID=America/New_York:20260212T160000
DTEND;TZID=America/New_York:20260212T210000
DTSTAMP:20260422T231732
CREATED:20260202T111629Z
LAST-MODIFIED:20260202T111629Z
UID:10004910-1770912000-1770930000@gunstuff.tv
SUMMARY:Trap
DESCRIPTION:Practice: Sr. Member $6/Member $7/Non-Member $9\nMeat Green Bird: Sr. Member $7/Member $8/Non-Member $10
URL:https://gunstuff.tv/event/trap-21/
LOCATION:Oxford Gun Club\, 798 Oxford Rd\, Lincoln University\, PA\, United States
GEO:39.78874;-75.909509
X-APPLE-STRUCTURED-LOCATION;VALUE=URI;X-ADDRESS=Oxford Gun Club 798 Oxford Rd Lincoln University PA United States;X-APPLE-RADIUS=500;X-TITLE=798 Oxford Rd:geo:-75.909509,39.78874
END:VEVENT
BEGIN:VEVENT
DTSTART;TZID=America/New_York:20260211T160000
DTEND;TZID=America/New_York:20260211T210000
DTSTAMP:20260422T231732
CREATED:20260202T111629Z
LAST-MODIFIED:20260209T111633Z
UID:10004919-1770825600-1770843600@gunstuff.tv
SUMMARY:Skeet/Wobble
DESCRIPTION:
URL:https://gunstuff.tv/event/skeet-wobble-20/
LOCATION:Oxford Gun Club\, 798 Oxford Rd\, Lincoln University\, PA\, United States
GEO:39.78874;-75.909509
X-APPLE-STRUCTURED-LOCATION;VALUE=URI;X-ADDRESS=Oxford Gun Club 798 Oxford Rd Lincoln University PA United States;X-APPLE-RADIUS=500;X-TITLE=798 Oxford Rd:geo:-75.909509,39.78874
END:VEVENT
END:VCALENDAR