BEGIN:VCALENDAR
VERSION:2.0
PRODID:-//GunStuff TV - ECPv6.15.20//NONSGML v1.0//EN
CALSCALE:GREGORIAN
METHOD:PUBLISH
X-WR-CALNAME:GunStuff TV
X-ORIGINAL-URL:https://gunstuff.tv
X-WR-CALDESC:Events for GunStuff TV
REFRESH-INTERVAL;VALUE=DURATION:PT1H
X-Robots-Tag:noindex
X-PUBLISHED-TTL:PT1H
BEGIN:VTIMEZONE
TZID:UTC
BEGIN:STANDARD
TZOFFSETFROM:+0000
TZOFFSETTO:+0000
TZNAME:UTC
DTSTART:20250101T000000
END:STANDARD
END:VTIMEZONE
BEGIN:VEVENT
DTSTART;TZID=UTC:20260131T090000
DTEND;TZID=UTC:20260131T090000
DTSTAMP:20260421T155036
CREATED:20260110T165451Z
LAST-MODIFIED:20260118T103219Z
UID:10003933-1769850000-1769850000@gunstuff.tv
SUMMARY:Rimfire Known Distance
DESCRIPTION:Orwell\, OH – Orwell Gun Club\nJanuary 31\, 2026 – February 01\, 2026\nThis is a Rimfire Known Distance Event. It is a 22LR (Rimfire) only event where the distances will be out to 100 yards or more based on the range. Only previous Appleseed attendees should sign up.\nCenterfire is NOT allowed at this event – 22 Rimfire Only.\nRegister Now\nAddress: 8089 Higley Ave\, Orwell\, OH 44076\nWebsite: orwellgunclub.com\nPlease Read:  How to Prepare for an Event\nSafety Notice:\n–  Keep ALL firearms in your vehicle until after the safety briefing and you are instructed to bring them to the firing line.\n–  No illegal firearms are allowed.\n–  At centerfire-friendly ranges\, rifle cartridges are limited to 8mm (rifle) or .45 caliber (pistol and pistol caliber carbines).\n–  Effective 8/8/2025\, Project Appleseed has temporarily suspended the SIG-Sauer P320/M17/M18 (all variants) in our Pistol Clinics.\n–  Parents of youth attending\, please read our Message to Parents.\nSubject to state and local laws\, Instructors at your event may have discounted .22 ammo available. Reach out to the contact at the bottom of this page for availability.\nRange Fee:  $5.00 per day. Range members exempt.\nCamping Available:\nPine Lakes Campground 3001 Hague Road\, Orwell OH 44076 440-437-6218\nHotels:\nSeveral hotels in Austinburg\, OH. Junction of RTE 45 and RTE 90 – a 20 minute drive\nDirections:\nHigley Ave is approximately .7 mile east of junction of RTE 45 and RTE 332.\nTurn south onto Higley Ave and drive approximately .4 miles to reach the club gate.\nGPS: 41.529259\,-80.855835\nState Laws to be aware of:\nIt is the responsibility of attendees to know and comply with all State and Federal Firearms Laws.\nOhio State Firearms Laws\nMisc:\nOnly .22 LR (Rimfire) is allowed at this location. No Centerfire is allowed.\nAt the Pistol Clinics both rimfire and centerfire ammo is allowed.\nFor more information contact:\nName: OH State Coordinator Email Address: OH@appleseedinfo.org
URL:https://gunstuff.tv/event/rimfire-known-distance/
LOCATION:Orwell Gun Club\, 7999 Higley Ave\, Orwell\, OH\, United States
GEO:41.529157;-80.853712
X-APPLE-STRUCTURED-LOCATION;VALUE=URI;X-ADDRESS=Orwell Gun Club 7999 Higley Ave Orwell OH United States;X-APPLE-RADIUS=500;X-TITLE=7999 Higley Ave:geo:-80.853712,41.529157
END:VEVENT
END:VCALENDAR