BEGIN:VCALENDAR
VERSION:2.0
PRODID:-//GunStuff TV - ECPv6.15.20//NONSGML v1.0//EN
CALSCALE:GREGORIAN
METHOD:PUBLISH
X-ORIGINAL-URL:https://gunstuff.tv
X-WR-CALDESC:Events for GunStuff TV
REFRESH-INTERVAL;VALUE=DURATION:PT1H
X-Robots-Tag:noindex
X-PUBLISHED-TTL:PT1H
BEGIN:VTIMEZONE
TZID:UTC
BEGIN:STANDARD
TZOFFSETFROM:+0000
TZOFFSETTO:+0000
TZNAME:UTC
DTSTART:20250101T000000
END:STANDARD
END:VTIMEZONE
BEGIN:VEVENT
DTSTART;TZID=UTC:20260422T150000
DTEND;TZID=UTC:20260422T180000
DTSTAMP:20260422T222545
CREATED:20260421T200305Z
LAST-MODIFIED:20260421T200305Z
UID:10008156-1776870000-1776880800@gunstuff.tv
SUMMARY:CWSC Tactical Sports League 14-2026
DESCRIPTION:CWSC Tactical Sports League 14-2026
URL:https://gunstuff.tv/event/cwsc-tactical-sports-league-14-2026/
LOCATION:Nickel Street\, Windhoek Khomas\, Namibia
END:VEVENT
END:VCALENDAR