BEGIN:VCALENDAR
VERSION:2.0
PRODID:-//GunStuff TV - ECPv6.15.20//NONSGML v1.0//EN
CALSCALE:GREGORIAN
METHOD:PUBLISH
X-WR-CALNAME:GunStuff TV
X-ORIGINAL-URL:https://gunstuff.tv
X-WR-CALDESC:Events for GunStuff TV
REFRESH-INTERVAL;VALUE=DURATION:PT1H
X-Robots-Tag:noindex
X-PUBLISHED-TTL:PT1H
BEGIN:VTIMEZONE
TZID:America/Chicago
BEGIN:DAYLIGHT
TZOFFSETFROM:-0600
TZOFFSETTO:-0500
TZNAME:CDT
DTSTART:20250309T080000
END:DAYLIGHT
BEGIN:STANDARD
TZOFFSETFROM:-0500
TZOFFSETTO:-0600
TZNAME:CST
DTSTART:20251102T070000
END:STANDARD
BEGIN:DAYLIGHT
TZOFFSETFROM:-0600
TZOFFSETTO:-0500
TZNAME:CDT
DTSTART:20260308T080000
END:DAYLIGHT
BEGIN:STANDARD
TZOFFSETFROM:-0500
TZOFFSETTO:-0600
TZNAME:CST
DTSTART:20261101T070000
END:STANDARD
BEGIN:DAYLIGHT
TZOFFSETFROM:-0600
TZOFFSETTO:-0500
TZNAME:CDT
DTSTART:20270314T080000
END:DAYLIGHT
BEGIN:STANDARD
TZOFFSETFROM:-0500
TZOFFSETTO:-0600
TZNAME:CST
DTSTART:20271107T070000
END:STANDARD
END:VTIMEZONE
BEGIN:VEVENT
DTSTART;VALUE=DATE:20260328
DTEND;VALUE=DATE:20260329
DTSTAMP:20260423T003807
CREATED:20251005T190546Z
LAST-MODIFIED:20260322T201628Z
UID:10001704-1774656000-1774742399@gunstuff.tv
SUMMARY:Texas Paralyzed Veterans
DESCRIPTION:Charity Sporting Clays event benefiting TPVAFor more information\, contact Amanda Saunders at amandas@texaspva.org  or visit the Texas Paralyzed Veterans website.
URL:https://gunstuff.tv/event/texas-paralyzed-veterans/
LOCATION:National Shooting Complex\, 5931 Roft Rd\, San Antonio\, TX\, United States
GEO:29.492881;-98.741985
X-APPLE-STRUCTURED-LOCATION;VALUE=URI;X-ADDRESS=National Shooting Complex 5931 Roft Rd San Antonio TX United States;X-APPLE-RADIUS=500;X-TITLE=5931 Roft Rd:geo:-98.741985,29.492881
END:VEVENT
BEGIN:VEVENT
DTSTART;VALUE=DATE:20260315
DTEND;VALUE=DATE:20260322
DTSTAMP:20260423T003807
CREATED:20251005T190050Z
LAST-MODIFIED:20260315T200128Z
UID:10001663-1773532800-1774137599@gunstuff.tv
SUMMARY:ACUI Collegiate Championship
DESCRIPTION:For more information at visit the ACUI website.For club information contact Amber Schwarz at aschwarz@nssa-nsca.com
URL:https://gunstuff.tv/event/acui-collegiate-championship/
LOCATION:National Shooting Complex\, 5931 Roft Rd\, San Antonio\, TX\, United States
GEO:29.492881;-98.741985
X-APPLE-STRUCTURED-LOCATION;VALUE=URI;X-ADDRESS=National Shooting Complex 5931 Roft Rd San Antonio TX United States;X-APPLE-RADIUS=500;X-TITLE=5931 Roft Rd:geo:-98.741985,29.492881
END:VEVENT
BEGIN:VEVENT
DTSTART;VALUE=DATE:20260308
DTEND;VALUE=DATE:20260309
DTSTAMP:20260423T003807
CREATED:20251123T191632Z
LAST-MODIFIED:20260308T200129Z
UID:10003199-1772928000-1773014399@gunstuff.tv
SUMMARY:March Open
DESCRIPTION:Registered Sporting Clays.  For more information\, see the Registered Sporting Clays flyer. \nRegister at scorechaser.com.
URL:https://gunstuff.tv/event/march-open/
LOCATION:National Shooting Complex\, 5931 Roft Rd\, San Antonio\, TX\, United States
GEO:29.492881;-98.741985
X-APPLE-STRUCTURED-LOCATION;VALUE=URI;X-ADDRESS=National Shooting Complex 5931 Roft Rd San Antonio TX United States;X-APPLE-RADIUS=500;X-TITLE=5931 Roft Rd:geo:-98.741985,29.492881
END:VEVENT
BEGIN:VEVENT
DTSTART;VALUE=DATE:20260211
DTEND;VALUE=DATE:20260216
DTSTAMP:20260423T003807
CREATED:20251005T190049Z
LAST-MODIFIED:20260215T194629Z
UID:10001660-1770768000-1771199999@gunstuff.tv
SUMMARY:San Antonio Stock Show & Rodeo Junior Shoot-Out
DESCRIPTION:For event information check the San Antonio Stock Show & Rodeo website at www.sarodeo.com.  For club information\, contact Amber Schwarz at aschwarz@nssa-nsca.com. \nSee our event page for rules and other information.
URL:https://gunstuff.tv/event/san-antonio-stock-show-rodeo-junior-shoot-out/
LOCATION:National Shooting Complex\, 5931 Roft Rd\, San Antonio\, TX\, United States
GEO:29.492881;-98.741985
X-APPLE-STRUCTURED-LOCATION;VALUE=URI;X-ADDRESS=National Shooting Complex 5931 Roft Rd San Antonio TX United States;X-APPLE-RADIUS=500;X-TITLE=5931 Roft Rd:geo:-98.741985,29.492881
END:VEVENT
END:VCALENDAR