BEGIN:VCALENDAR
VERSION:2.0
PRODID:-//GunStuff TV - ECPv6.15.20//NONSGML v1.0//EN
CALSCALE:GREGORIAN
METHOD:PUBLISH
X-WR-CALNAME:GunStuff TV
X-ORIGINAL-URL:https://gunstuff.tv
X-WR-CALDESC:Events for GunStuff TV
REFRESH-INTERVAL;VALUE=DURATION:PT1H
X-Robots-Tag:noindex
X-PUBLISHED-TTL:PT1H
BEGIN:VTIMEZONE
TZID:UTC
BEGIN:STANDARD
TZOFFSETFROM:+0000
TZOFFSETTO:+0000
TZNAME:UTC
DTSTART:20250101T000000
END:STANDARD
END:VTIMEZONE
BEGIN:VEVENT
DTSTART;TZID=UTC:20260421T230000
DTEND;TZID=UTC:20260422T020000
DTSTAMP:20260422T085019
CREATED:20260421T200301Z
LAST-MODIFIED:20260421T200301Z
UID:10008119-1776812400-1776823200@gunstuff.tv
SUMMARY:WGC WI PCSL Action Pistol League 21 April 2026
DESCRIPTION:PCSL Action Pistol League. 3 stages\, hit factor scoring.
URL:https://gunstuff.tv/event/wgc-wi-pcsl-action-pistol-league-21-april-2026/
LOCATION:N2249 Lang Road\, Lodi\, WI\, United States
GEO:43.342813;-89.557023
END:VEVENT
BEGIN:VEVENT
DTSTART;TZID=UTC:20260418T140000
DTEND;TZID=UTC:20260418T190000
DTSTAMP:20260422T085019
CREATED:20260414T200209Z
LAST-MODIFIED:20260414T200209Z
UID:10007650-1776520800-1776538800@gunstuff.tv
SUMMARY:WGC WI USPSA OUTDOOR all Classifier Monthly Match 18 April 2026
DESCRIPTION:Thank you for registering on Practiscore.  WGC’s start of the outdoor season USPSA monthly match. This will be an all classifier match. Expect at least 7 classifier stages! Please plan on arriving in time to attend shooter’s safety meeting at 08:55 so we can begin promptly at 09:00.
URL:https://gunstuff.tv/event/wgc-wi-uspsa-outdoor-all-classifier-monthly-match-18-april-2026/
LOCATION:N2249 Lang Road\, Lodi\, WI\, United States
GEO:43.342813;-89.557023
END:VEVENT
BEGIN:VEVENT
DTSTART;TZID=UTC:20260407T230000
DTEND;TZID=UTC:20260408T020000
DTSTAMP:20260422T085019
CREATED:20260407T195359Z
LAST-MODIFIED:20260407T195359Z
UID:10006884-1775602800-1775613600@gunstuff.tv
SUMMARY:WGC WI PCSL Action Pistol League 7 April 2026
DESCRIPTION:PCSL Action Pistol League. 3 stages\, hit factor scoring.
URL:https://gunstuff.tv/event/wgc-wi-pcsl-action-pistol-league-7-april-2026/
LOCATION:N2249 Lang Road\, Lodi\, WI\, United States
GEO:43.342813;-89.557023
END:VEVENT
END:VCALENDAR