BEGIN:VCALENDAR
VERSION:2.0
PRODID:-//GunStuff TV - ECPv6.15.20//NONSGML v1.0//EN
CALSCALE:GREGORIAN
METHOD:PUBLISH
X-ORIGINAL-URL:https://gunstuff.tv
X-WR-CALDESC:Events for GunStuff TV
REFRESH-INTERVAL;VALUE=DURATION:PT1H
X-Robots-Tag:noindex
X-PUBLISHED-TTL:PT1H
BEGIN:VTIMEZONE
TZID:UTC
BEGIN:STANDARD
TZOFFSETFROM:+0000
TZOFFSETTO:+0000
TZNAME:UTC
DTSTART:20250101T000000
END:STANDARD
END:VTIMEZONE
BEGIN:VEVENT
DTSTART;TZID=UTC:20260430T183000
DTEND;TZID=UTC:20260430T183000
DTSTAMP:20260424T095242
CREATED:20260424T114722Z
LAST-MODIFIED:20260424T114727Z
UID:10008629-1777573800-1777573800@gunstuff.tv
SUMMARY:Mountain City Practical Shooters 04-30-2026 USPSA Sponsored by Curated
DESCRIPTION:Mountain City Practical Shooters 04-30-2026 USPSA Sponsored by Curated\nDate : 4/30/26\nStart Time: 6:30 PM\nLocation:\nMountain City Practical Shooters (GA35)\n140 Shelby Ln\nJasper\, GA\nEvent Contact Information\nMD @ Mountain City Practical Shooters\n404 713 5353\nmtcity.p.s@gmail.com\nMatch Information\nMatch starts:@ 6:30 PM\nLocation:\n140 Shelby Lane\nJasper\, GA 30143\nUSPSA Level 1 match – Mountain City Practical Shooters Match on Thursdays 6:30-9:30pm $20 @ Appalachian Gun Pawn & Range. 140 Shelby Ln\, Jasper\, GA 30143 Arrive at 6:00 to get situated and help setup. New shooter briefing at 6:00 PM and first shots at 6:30 PM. New shooters encouraged and welcome!\nEvent Website\nhttps://practiscore.com/mountain-city-practical-shooters-04-30-2026-uspsa-sponsored-by-curated/register
URL:https://gunstuff.tv/event/mountain-city-practical-shooters-04-30-2026-uspsa-sponsored-by-curated/
LOCATION:Mountain City Practical Shooters (GA35)\, 140 Shelby Ln\, Hiram\, GA\, United States
GEO:33.815058;-84.807333
X-APPLE-STRUCTURED-LOCATION;VALUE=URI;X-ADDRESS=Mountain City Practical Shooters (GA35) 140 Shelby Ln Hiram GA United States;X-APPLE-RADIUS=500;X-TITLE=140 Shelby Ln:geo:-84.807333,33.815058
END:VEVENT
BEGIN:VEVENT
DTSTART;TZID=UTC:20260507T183000
DTEND;TZID=UTC:20260507T183000
DTSTAMP:20260424T095242
CREATED:20260424T114728Z
LAST-MODIFIED:20260424T114735Z
UID:10008630-1778178600-1778178600@gunstuff.tv
SUMMARY:Mountain City Practical Shooters 05-07-2026 USPSA Sponsored by Curated
DESCRIPTION:Mountain City Practical Shooters 05-07-2026 USPSA Sponsored by Curated\nDate : 5/07/26\nStart Time: 6:30 PM\nLocation:\nMountain City Practical Shooters (GA35)\n140 Shelby Ln\nJasper\, GA\nEvent Contact Information\nMD @ Mountain City Practical Shooters\n404 713 5353\nmtcity.p.s@gmail.com\nMatch Information\nMatch starts:@ 6:30 PM\nLocation:\n140 Shelby Lane\nJasper\, GA 30143\nUSPSA Level 1 match – Mountain City Practical Shooters Match on Thursdays 6:30-9:30pm $20 @ Appalachian Gun Pawn & Range. 140 Shelby Ln\, Jasper\, GA 30143 Arrive at 6:00 to get situated and help setup. New shooter briefing at 6:00 PM and first shots at 6:30 PM. New shooters encouraged and welcome!\nEvent Website\nhttps://practiscore.com/mountain-city-practical-shooters-05-07-2026-uspsa-sponsored-by-curated/register
URL:https://gunstuff.tv/event/mountain-city-practical-shooters-05-07-2026-uspsa-sponsored-by-curated/
LOCATION:Mountain City Practical Shooters (GA35)\, 140 Shelby Ln\, Hiram\, GA\, United States
GEO:33.815058;-84.807333
X-APPLE-STRUCTURED-LOCATION;VALUE=URI;X-ADDRESS=Mountain City Practical Shooters (GA35) 140 Shelby Ln Hiram GA United States;X-APPLE-RADIUS=500;X-TITLE=140 Shelby Ln:geo:-84.807333,33.815058
END:VEVENT
BEGIN:VEVENT
DTSTART;TZID=UTC:20260514T183000
DTEND;TZID=UTC:20260514T183000
DTSTAMP:20260424T095243
CREATED:20260424T114729Z
LAST-MODIFIED:20260424T114748Z
UID:10008631-1778783400-1778783400@gunstuff.tv
SUMMARY:Mountain City Practical Shooters 05-14-2026 USPSA Sponsored by Curated
DESCRIPTION:Mountain City Practical Shooters 05-14-2026 USPSA Sponsored by Curated\nDate : 5/14/26\nStart Time: 6:30 PM\nLocation:\nMountain City Practical Shooters (GA35)\n140 Shelby Ln\nJasper\, GA\nEvent Contact Information\nMD @ Mountain City Practical Shooters\n404 713 5353\nmtcity.p.s@gmail.com\nMatch Information\nMatch starts:@ 6:30 PM\nLocation:\n140 Shelby Lane\nJasper\, GA 30143\nUSPSA Level 1 match – Mountain City Practical Shooters Match on Thursdays 6:30-9:30pm $20 @ Appalachian Gun Pawn & Range. 140 Shelby Ln\, Jasper\, GA 30143 Arrive at 6:00 to get situated and help setup. New shooter briefing at 6:00 PM and first shots at 6:30 PM. New shooters encouraged and welcome!\nEvent Website\nhttps://practiscore.com/mountain-city-practical-shooters-05-14-2026-uspsa-sponsored-by-curated/register
URL:https://gunstuff.tv/event/mountain-city-practical-shooters-05-14-2026-uspsa-sponsored-by-curated/
LOCATION:Mountain City Practical Shooters (GA35)\, 140 Shelby Ln\, Hiram\, GA\, United States
GEO:33.815058;-84.807333
X-APPLE-STRUCTURED-LOCATION;VALUE=URI;X-ADDRESS=Mountain City Practical Shooters (GA35) 140 Shelby Ln Hiram GA United States;X-APPLE-RADIUS=500;X-TITLE=140 Shelby Ln:geo:-84.807333,33.815058
END:VEVENT
BEGIN:VEVENT
DTSTART;TZID=UTC:20260521T183000
DTEND;TZID=UTC:20260521T183000
DTSTAMP:20260424T095243
CREATED:20260424T114730Z
LAST-MODIFIED:20260424T114730Z
UID:10008634-1779388200-1779388200@gunstuff.tv
SUMMARY:Mountain City Practical Shooters 05-21-2026 USPSA Sponsored by Curated
DESCRIPTION:Mountain City Practical Shooters 05-21-2026 USPSA Sponsored by Curated\nDate : 5/21/26\nStart Time: 6:30 PM\nLocation:\nMountain City Practical Shooters (GA35)\n140 Shelby Ln\nJasper\, GA\nEvent Contact Information\nMD @ Mountain City Practical Shooters\n404 713 5353\nmtcity.p.s@gmail.com\nMatch Information\nMatch starts:@ 6:30 PM\nLocation:\n140 Shelby Lane\nJasper\, GA 30143\nUSPSA Level 1 match – Mountain City Practical Shooters Match on Thursdays 6:30-9:30pm $20 @ Appalachian Gun Pawn & Range. 140 Shelby Ln\, Jasper\, GA 30143 Arrive at 6:00 to get situated and help setup. New shooter briefing at 6:00 PM and first shots at 6:30 PM. New shooters encouraged and welcome!\nEvent Website\nhttps://practiscore.com/mountain-city-practical-shooters-05-21-2026-uspsa-sponsored-by-curated/register
URL:https://gunstuff.tv/event/mountain-city-practical-shooters-05-21-2026-uspsa-sponsored-by-curated/
LOCATION:Mountain City Practical Shooters (GA35)\, 140 Shelby Ln\, Hiram\, GA\, United States
GEO:33.815058;-84.807333
X-APPLE-STRUCTURED-LOCATION;VALUE=URI;X-ADDRESS=Mountain City Practical Shooters (GA35) 140 Shelby Ln Hiram GA United States;X-APPLE-RADIUS=500;X-TITLE=140 Shelby Ln:geo:-84.807333,33.815058
END:VEVENT
BEGIN:VEVENT
DTSTART;TZID=UTC:20260528T183000
DTEND;TZID=UTC:20260528T183000
DTSTAMP:20260424T095243
CREATED:20260424T114730Z
LAST-MODIFIED:20260424T114730Z
UID:10008635-1779993000-1779993000@gunstuff.tv
SUMMARY:Mountain City Practical Shooters 05-28-2026 USPSA Sponsored by Curated
DESCRIPTION:Mountain City Practical Shooters 05-28-2026 USPSA Sponsored by Curated\nDate : 5/28/26\nStart Time: 6:30 PM\nLocation:\nMountain City Practical Shooters (GA35)\n140 Shelby Ln\nJasper\, GA\nEvent Contact Information\nMD @ Mountain City Practical Shooters\n404 713 5353\nmtcity.p.s@gmail.com\nMatch Information\nMatch starts:@ 6:30 PM\nLocation:\n140 Shelby Lane\nJasper\, GA 30143\nUSPSA Level 1 match – Mountain City Practical Shooters Match on Thursdays 6:30-9:30pm $20 @ Appalachian Gun Pawn & Range. 140 Shelby Ln\, Jasper\, GA 30143 Arrive at 6:00 to get situated and help setup. New shooter briefing at 6:00 PM and first shots at 6:30 PM. New shooters encouraged and welcome!\nEvent Website\nhttps://practiscore.com/mountain-city-practical-shooters-05-28-2026-uspsa-sponsored-by-curated/register
URL:https://gunstuff.tv/event/mountain-city-practical-shooters-05-28-2026-uspsa-sponsored-by-curated/
LOCATION:Mountain City Practical Shooters (GA35)\, 140 Shelby Ln\, Hiram\, GA\, United States
GEO:33.815058;-84.807333
X-APPLE-STRUCTURED-LOCATION;VALUE=URI;X-ADDRESS=Mountain City Practical Shooters (GA35) 140 Shelby Ln Hiram GA United States;X-APPLE-RADIUS=500;X-TITLE=140 Shelby Ln:geo:-84.807333,33.815058
END:VEVENT
END:VCALENDAR