BEGIN:VCALENDAR
VERSION:2.0
PRODID:-//GunStuff TV - ECPv6.15.20//NONSGML v1.0//EN
CALSCALE:GREGORIAN
METHOD:PUBLISH
X-WR-CALNAME:GunStuff TV
X-ORIGINAL-URL:https://gunstuff.tv
X-WR-CALDESC:Events for GunStuff TV
REFRESH-INTERVAL;VALUE=DURATION:PT1H
X-Robots-Tag:noindex
X-PUBLISHED-TTL:PT1H
BEGIN:VTIMEZONE
TZID:UTC
BEGIN:STANDARD
TZOFFSETFROM:+0000
TZOFFSETTO:+0000
TZNAME:UTC
DTSTART:20250101T000000
END:STANDARD
END:VTIMEZONE
BEGIN:VEVENT
DTSTART;TZID=UTC:20260326T183000
DTEND;TZID=UTC:20260326T183000
DTSTAMP:20260424T114055
CREATED:20260306T113129Z
LAST-MODIFIED:20260320T113151Z
UID:10006159-1774549800-1774549800@gunstuff.tv
SUMMARY:Mountain City Practical Shooters 03-26-2026 USPSA Sponsored by Curated Arms
DESCRIPTION:Mountain City Practical Shooters 03-26-2026 USPSA Sponsored by Curated Arms\nDate : 3/26/26\nStart Time: 6:30 PM\nLocation:\nMountain City Practical Shooters (GA35)\n140 Shelby Ln\nJasper\, GA\nEvent Contact Information\nMD @ Mountain City Practical Shooters\n404 713 5353\nmtcity.p.s@gmail.com\nMatch Information\nRegistration opens on: March 19\, 2026 @ 9:30 PM · Registration closes on: March 26\, 2026 @ 3:30 PM\nTimes are local to America/New_York timezone.\nMatch starts: March 26\, 2026 @ 6:30 PM · Match ends: March 26\, 2026 @ 9:30 PM\nLocation:\n140 Shelby Lane\nJasper\, GA 30143\nUSPSA Level 1 match – Mountain City Practical Shooters Match on Thursdays 6:30-9:30pm $20 @ Appalachian Gun Pawn & Range. 140 Shelby Ln\, Jasper\, GA 30143 Arrive at 6:00 to get situated and help setup. New shooter briefing at 6:00 PM and first shots at 6:30 PM. New shooters encouraged and welcome!\nEvent Website\nhttps://practiscore.com/mountain-city-practical-shooters-03-26-2026-uspsa-sponsored-by-curated-arms/register
URL:https://gunstuff.tv/event/mountain-city-practical-shooters-03-26-2026-uspsa-sponsored-by-curated-arms/
LOCATION:Mountain City Practical Shooters (GA35)\, 140 Shelby Ln\, Hiram\, GA\, United States
GEO:33.815058;-84.807333
X-APPLE-STRUCTURED-LOCATION;VALUE=URI;X-ADDRESS=Mountain City Practical Shooters (GA35) 140 Shelby Ln Hiram GA United States;X-APPLE-RADIUS=500;X-TITLE=140 Shelby Ln:geo:-84.807333,33.815058
END:VEVENT
BEGIN:VEVENT
DTSTART;TZID=UTC:20260319T183000
DTEND;TZID=UTC:20260319T183000
DTSTAMP:20260424T114055
CREATED:20260306T113128Z
LAST-MODIFIED:20260313T113148Z
UID:10006158-1773945000-1773945000@gunstuff.tv
SUMMARY:Mountain City Practical Shooters 03-19-2026 USPSA Sponsored by Curated Arms
DESCRIPTION:Mountain City Practical Shooters 03-19-2026 USPSA Sponsored by Curated Arms\nDate : 3/19/26\nStart Time: 6:30 PM\nLocation:\nMountain City Practical Shooters (GA35)\n140 Shelby Ln\nJasper\, GA\nEvent Contact Information\nMD @ Mountain City Practical Shooters\n404 713 5353\nmtcity.p.s@gmail.com\nMatch Information\nRegistration opens on: March 12\, 2026 @ 9:30 PM · Registration closes on: March 19\, 2026 @ 3:30 PM\nTimes are local to America/New_York timezone.\nMatch starts: March 19\, 2026 @ 6:30 PM · Match ends: March 19\, 2026 @ 9:30 PM\nLocation:\n140 Shelby Lane\nJasper\, GA 30143\nUSPSA Level 1 match – Mountain City Practical Shooters Match on Thursdays 6:30-9:30pm $20 @ Appalachian Gun Pawn & Range. 140 Shelby Ln\, Jasper\, GA 30143 Arrive at 6:00 to get situated and help setup. New shooter briefing at 6:00 PM and first shots at 6:30 PM. New shooters encouraged and welcome!\nEvent Website\nhttps://practiscore.com/mountain-city-practical-shooters-03-19-2026-uspsa-sponsored-by-curated-arms/register
URL:https://gunstuff.tv/event/mountain-city-practical-shooters-03-19-2026-uspsa-sponsored-by-curated-arms/
LOCATION:Mountain City Practical Shooters (GA35)\, 140 Shelby Ln\, Hiram\, GA\, United States
GEO:33.815058;-84.807333
X-APPLE-STRUCTURED-LOCATION;VALUE=URI;X-ADDRESS=Mountain City Practical Shooters (GA35) 140 Shelby Ln Hiram GA United States;X-APPLE-RADIUS=500;X-TITLE=140 Shelby Ln:geo:-84.807333,33.815058
END:VEVENT
BEGIN:VEVENT
DTSTART;TZID=UTC:20260312T183000
DTEND;TZID=UTC:20260312T183000
DTSTAMP:20260424T114055
CREATED:20260306T113127Z
LAST-MODIFIED:20260306T113130Z
UID:10006157-1773340200-1773340200@gunstuff.tv
SUMMARY:Mountain City Practical Shooters 03-12-2026 USPSA Sponsored by Curated Arms
DESCRIPTION:Mountain City Practical Shooters 03-12-2026 USPSA Sponsored by Curated Arms\nDate : 3/12/26\nStart Time: 6:30 PM\nLocation:\nMountain City Practical Shooters (GA35)\n140 Shelby Ln\nJasper\, GA\nEvent Contact Information\nMD @ Mountain City Practical Shooters\n404 713 5353\nmtcity.p.s@gmail.com\nMatch Information\negistration opens on: February 27\, 2026 @ 9:30 PM · Registration closes on: March 05\, 2026 @ 3:30 PM\nTimes are local to America/New_York timezone.\nMatch starts: March 05\, 2026 @ 6:30 PM · Match ends: March 05\, 2026 @ 9:30 PM\nLocation:\n140 Shelby Lane\nJasper\, GA 30143\nUSPSA Level 1 match – Mountain City Practical Shooters Match on Thursdays 6:30-9:30pm $20 @ Appalachian Gun Pawn & Range. 140 Shelby Ln\, Jasper\, GA 30143 Arrive at 6:00 to get situated and help setup. New shooter briefing at 6:00 PM and first shots at 6:30 PM. New shooters encouraged and welcome!\nEvent Website\nhttps://practiscore.com/mountain-city-practical-shooters-03-12-2026-uspsa-sponsored-by-curated-arms/register
URL:https://gunstuff.tv/event/mountain-city-practical-shooters-03-12-2026-uspsa-sponsored-by-curated-arms/
LOCATION:Mountain City Practical Shooters (GA35)\, 140 Shelby Ln\, Hiram\, GA\, United States
GEO:33.815058;-84.807333
X-APPLE-STRUCTURED-LOCATION;VALUE=URI;X-ADDRESS=Mountain City Practical Shooters (GA35) 140 Shelby Ln Hiram GA United States;X-APPLE-RADIUS=500;X-TITLE=140 Shelby Ln:geo:-84.807333,33.815058
END:VEVENT
BEGIN:VEVENT
DTSTART;TZID=UTC:20260129T180000
DTEND;TZID=UTC:20260129T180000
DTSTAMP:20260424T114055
CREATED:20260110T171704Z
LAST-MODIFIED:20260124T171819Z
UID:10004224-1769709600-1769709600@gunstuff.tv
SUMMARY:Mountain City Practical Shooters 01-29-2026 USPSA Sponsored by Curated Arms
DESCRIPTION:Mountain City Practical Shooters 01-29-2026 USPSA Sponsored by Curated Arms\nDate : 1/29/26\nStart Time: 6:00 PM\nLocation:\nMountain City Practical Shooters (GA35)\n140 Shelby Ln\nJasper\, GA\nEvent Contact Information\nMD @ Mountain City Practical Shooters\n404 713 5353\nmtcity.p.s@gmail.com\nMatch Information\nMatch starts: January 29\, 2026 @ 6:00 PM · Match ends: January 29\, 2026 @ 9:30 PM\nLocation:\n140 Shelby Lane\nJasper\, GA 30143\nUSPSA Level 1 match – Mountain City Practical Shooters Match on Thursdays 6:30-9:30pm $20 @ Appalachian Gun Pawn & Range. 140 Shelby Ln\, Jasper\, GA 30143 Arrive at 6:00 to get situated and help setup. New shooter briefing at 6:00 PM and first shots at 6:30 PM. New shooters encouraged and welcome!\nEvent Website\nhttps://practiscore.com/mountain-city-practical-shooters-01-29-2026-uspsa-sponsored-by-curated-arms/register
URL:https://gunstuff.tv/event/mountain-city-practical-shooters-01-29-2026-uspsa-sponsored-by-curated-arms/
LOCATION:Mountain City Practical Shooters (GA35)\, 140 Shelby Ln\, Hiram\, GA\, United States
GEO:33.815058;-84.807333
X-APPLE-STRUCTURED-LOCATION;VALUE=URI;X-ADDRESS=Mountain City Practical Shooters (GA35) 140 Shelby Ln Hiram GA United States;X-APPLE-RADIUS=500;X-TITLE=140 Shelby Ln:geo:-84.807333,33.815058
END:VEVENT
END:VCALENDAR