BEGIN:VCALENDAR
VERSION:2.0
PRODID:-//GunStuff TV - ECPv6.15.20//NONSGML v1.0//EN
CALSCALE:GREGORIAN
METHOD:PUBLISH
X-WR-CALNAME:GunStuff TV
X-ORIGINAL-URL:https://gunstuff.tv
X-WR-CALDESC:Events for GunStuff TV
REFRESH-INTERVAL;VALUE=DURATION:PT1H
X-Robots-Tag:noindex
X-PUBLISHED-TTL:PT1H
BEGIN:VTIMEZONE
TZID:UTC
BEGIN:STANDARD
TZOFFSETFROM:+0000
TZOFFSETTO:+0000
TZNAME:UTC
DTSTART:20250101T000000
END:STANDARD
END:VTIMEZONE
BEGIN:VEVENT
DTSTART;TZID=UTC:20260715T090000
DTEND;TZID=UTC:20260715T090000
DTSTAMP:20260419T092303
CREATED:20260419T111820Z
LAST-MODIFIED:20260419T111820Z
UID:10008070-1784106000-1784106000@gunstuff.tv
SUMMARY:Libertyseed
DESCRIPTION:Monongahela\, PA – Monongahela Area Library\nJuly 15\, 2026\nAddress: 813 West Main Street\, Monongahela\, PA\nThis event is a Libertyseed. It is a speaking engagement and no firearms instruction takes place. This event is free to the public and no registration is required.\nProject Appleseed invites you to experience a LibertySeed event where our volunteers will tell the story of the birth of our Nation. These events are free to the public.\nThe 19th of April\, 1775\, a day that forever changed the course of our Nation. Why is this such an important day and who was involved in the birth of our Nation?\nIt will not be the story you think you know\, or the story you heard in school. The volunteers at the RWVA are passionate about American Heritage. We love to tell people the Story of the Three Strikes\, about ‘The Day the Shot was Heard Around the World.’ The volunteers are willing to tell the story to groups around the Nation.\nJuly 15\, 2026 from 6 pm to 7:30 pm\nContact info:\nAmanda Gabeletto\nDirector\n724-258-5409 | monongahelalib@gmail.com
URL:https://gunstuff.tv/event/libertyseed-11/
LOCATION:Monongahela Area Library\, 813 W Main St\, Monongahela\, PA\, United States
GEO:40.205541;-79.932814
X-APPLE-STRUCTURED-LOCATION;VALUE=URI;X-ADDRESS=Monongahela Area Library 813 W Main St Monongahela PA United States;X-APPLE-RADIUS=500;X-TITLE=813 W Main St:geo:-79.932814,40.205541
END:VEVENT
END:VCALENDAR