BEGIN:VCALENDAR
VERSION:2.0
PRODID:-//GunStuff TV - ECPv6.15.20//NONSGML v1.0//EN
CALSCALE:GREGORIAN
METHOD:PUBLISH
X-ORIGINAL-URL:https://gunstuff.tv
X-WR-CALDESC:Events for GunStuff TV
REFRESH-INTERVAL;VALUE=DURATION:PT1H
X-Robots-Tag:noindex
X-PUBLISHED-TTL:PT1H
BEGIN:VTIMEZONE
TZID:UTC
BEGIN:STANDARD
TZOFFSETFROM:+0000
TZOFFSETTO:+0000
TZNAME:UTC
DTSTART:20250101T000000
END:STANDARD
END:VTIMEZONE
BEGIN:VEVENT
DTSTART;TZID=UTC:20260627T090000
DTEND;TZID=UTC:20260627T090000
DTSTAMP:20260419T135231
CREATED:20260110T165503Z
LAST-MODIFIED:20260412T110148Z
UID:10004086-1782550800-1782550800@gunstuff.tv
SUMMARY:Appleseed
DESCRIPTION:Menomonie\, WI – Menomonie Rifle & Pistol Club\nJune 27\, 2026 – June 28\, 2026\nThis is a traditional 25m Project Appleseed rifle event.\nBoth Centerfire and 22 Rimfire rifles are allowed at this event.\nRegister Now\nAddress: E6007 510th Ave.\, Menomonie\, WI\nWebsite: www.menomonierifleandpistolclub.org\nPlease Read:  How to Prepare for an Event\nSafety Notice:\n–  Keep ALL firearms in your vehicle until after the safety briefing and you are instructed to bring them to the firing line.\n–  No illegal firearms are allowed.\n–  At centerfire-friendly ranges\, rifle cartridges are limited to 8mm (rifle) or .45 caliber (pistol and pistol caliber carbines).\n–  Effective 8/8/2025\, Project Appleseed has temporarily suspended the SIG-Sauer P320/M17/M18 (all variants) in our Pistol Clinics.\n–  Parents of youth attending\, please read our Message to Parents.\nSubject to state and local laws\, Instructors at your event may have discounted .22 ammo available. Reach out to the contact at the bottom of this page for availability.\nRange Fee:\n$10 per person per day.\nCamping Available:\nTwin Springs Campground\, 715-235-9321\nIrvington Campground\, 715-235-2267\nHotels:\nQuality Inn\, 715-235-1500\nSuper8\, 715-235-8889\nDirections:\nFrom Interstate 94\, exit County Road B (exit #45) go south about 4 miles to 510th Ave and go west about one mile.\nSee map on range website.\nGPS: 44.867093\,-91.864472\nState Laws to be aware of:\nIt is the responsibility of attendees to know and comply with all State and Federal Firearms Laws.\nWisconsin State Firearms Laws\nMisc:\nCenterfire welcome – but bring your .22 and save on ammo costs.\nMenomonie Rifle and Pistol club mission statement: “We will promote the safe enjoyment of rifle and pistol shooting among our members\, the general public\, and expressly the youth of the Menomonie area. We will maintain and improve the Menomonie rifle range so that it will be available for future generations.”\nNo alcohol permitted\nFor more information contact:\nName: WI State Coordinator Email Address: WI@appleseedinfo.org\nName:
URL:https://gunstuff.tv/event/appleseed-117/
LOCATION:Menomonie Rifle & Pistol Club\, 6007 510th Ave\, Menomonie\, WI\, United States
GEO:44.868181;-91.8591
X-APPLE-STRUCTURED-LOCATION;VALUE=URI;X-ADDRESS=Menomonie Rifle & Pistol Club 6007 510th Ave Menomonie WI United States;X-APPLE-RADIUS=500;X-TITLE=6007 510th Ave:geo:-91.8591,44.868181
END:VEVENT
END:VCALENDAR