BEGIN:VCALENDAR
VERSION:2.0
PRODID:-//GunStuff TV - ECPv6.15.20//NONSGML v1.0//EN
CALSCALE:GREGORIAN
METHOD:PUBLISH
X-ORIGINAL-URL:https://gunstuff.tv
X-WR-CALDESC:Events for GunStuff TV
REFRESH-INTERVAL;VALUE=DURATION:PT1H
X-Robots-Tag:noindex
X-PUBLISHED-TTL:PT1H
BEGIN:VTIMEZONE
TZID:UTC
BEGIN:STANDARD
TZOFFSETFROM:+0000
TZOFFSETTO:+0000
TZNAME:UTC
DTSTART:20250101T000000
END:STANDARD
END:VTIMEZONE
BEGIN:VEVENT
DTSTART;TZID=UTC:20260425T090000
DTEND;TZID=UTC:20260425T090000
DTSTAMP:20260421T145741
CREATED:20260110T165458Z
LAST-MODIFIED:20260412T110139Z
UID:10004027-1777107600-1777107600@gunstuff.tv
SUMMARY:Appleseed
DESCRIPTION:Leyden\, MA – Leyden Rifle Club\nApril 25\, 2026 – April 26\, 2026\nThis is a traditional 25m Project Appleseed rifle event.\nBoth Centerfire and 22 Rimfire rifles are allowed at this event.\nRegister Now\nAddress: River Road\, Leyden\, MA\nPlease Read:  How to Prepare for an Event\nSafety Notice:\n–  Keep ALL firearms in your vehicle until after the safety briefing and you are instructed to bring them to the firing line.\n–  No illegal firearms are allowed.\n–  At centerfire-friendly ranges\, rifle cartridges are limited to 8mm (rifle) or .45 caliber (pistol and pistol caliber carbines).\n–  Effective 8/8/2025\, Project Appleseed has temporarily suspended the SIG-Sauer P320/M17/M18 (all variants) in our Pistol Clinics.\n–  Parents of youth attending\, please read our Message to Parents.\nSubject to state and local laws\, Instructors at your event may have discounted .22 ammo available. Reach out to the contact at the bottom of this page for availability.\nRange Fee:  $5.00 per person/day\, all Appleseed discounted shooters exempt!\nCamping Available:\nNot on site.\nHotels:\nSeveral in nearby Greenfield\, MA or Brattleboro\, VT. Check your favorite hotel website.\nDirections:\nThe range is at the Northernmost end of River Rd. in the Northwest Corner of Leyden\, MA\, right up against the MA/VT border. If you cross into VT you have gone too far\, though\, not by much.\nGPS: 42.731884\,-72.661812\nState Laws to be aware of:\nIt is the responsibility of attendees to know and comply with all State and Federal Firearms Laws.\nMassachusetts State Firearms Laws\nYour rifle must be locked unloaded in your trunk or other secured container. Handguns may be possessed ONLY with a Massachusetts Class A License To Carry with either ‘None’ or ‘All Lawful Purposes’ for Reason for Issuance. – if you’re from out of state\, you need a MA non-resident LTC. MA has NO reciprocity with any other state. No ‘assault weapons’ – we still have an AWB that is the same thing as the old Federal AWB. ARs cannot have a flash hider\, collapsible stock or a bayonet lug unless they are ‘pre-ban.’ High capacity magazines must be pre-ban as well. Non-residents CANNOT purchase ammo in this state. They have to bring it with them… or go to New Hampshire overnight. Check other State Laws.\nSpecifically\, we advise visitors to:\n1. Bring a printout out the relevant exemptions within MGL (Ch130\, S131G: https://malegislature.gov/Laws/GeneralLaws/PartI/TitleXX/Chapter140/Section131g) as well as a copy of the event registration.\n2. transport according to law (unloaded\, locked container or trunk)\n3. refuse to consent to any searches thereof.\nMisc:\nOur first Western Massachusetts location!  Inches from the VT border\, so Vermonters are definitely welcome too.\nCenterfire and Rimfire OK.\nQualified shooters with centerfire rifles will shoot out to 250 yards on Sunday.\nNo alcohol permitted\nFor more information contact:\nName: MA State Coordinator Email Address: MA@appleseedinfo.org
URL:https://gunstuff.tv/event/appleseed-80/
LOCATION:Leyden Rifle Club\, 2 River St\, Greenfield\, MA\, United States
GEO:42.583318;-72.605263
X-APPLE-STRUCTURED-LOCATION;VALUE=URI;X-ADDRESS=Leyden Rifle Club 2 River St Greenfield MA United States;X-APPLE-RADIUS=500;X-TITLE=2 River St:geo:-72.605263,42.583318
END:VEVENT
BEGIN:VEVENT
DTSTART;TZID=UTC:20260912T090000
DTEND;TZID=UTC:20260912T090000
DTSTAMP:20260421T145741
CREATED:20260110T165506Z
LAST-MODIFIED:20260412T110157Z
UID:10004122-1789203600-1789203600@gunstuff.tv
SUMMARY:Rimfire Known Distance
DESCRIPTION:Leyden\, MA – Leyden Rifle Club\nSeptember 12\, 2026 – September 13\, 2026\nThis is a Rimfire Known Distance Event. It is a 22LR (Rimfire) only event where the distances will be out to 100 yards or more based on the range. Only previous Appleseed attendees should sign up.\nCenterfire is NOT allowed at this event – 22 Rimfire Only.\nRegister Now\nAddress: River Road\, Leyden\, MA\nPlease Read:  How to Prepare for an Event\nSafety Notice:\n–  Keep ALL firearms in your vehicle until after the safety briefing and you are instructed to bring them to the firing line.\n–  No illegal firearms are allowed.\n–  At centerfire-friendly ranges\, rifle cartridges are limited to 8mm (rifle) or .45 caliber (pistol and pistol caliber carbines).\n–  Effective 8/8/2025\, Project Appleseed has temporarily suspended the SIG-Sauer P320/M17/M18 (all variants) in our Pistol Clinics.\n–  Parents of youth attending\, please read our Message to Parents.\nSubject to state and local laws\, Instructors at your event may have discounted .22 ammo available. Reach out to the contact at the bottom of this page for availability.\nRange Fee:  $5.00 per person/day\, all Appleseed discounted shooters exempt!\nCamping Available:\nNot on site.\nHotels:\nSeveral in nearby Greenfield\, MA or Brattleboro\, VT. Check your favorite hotel website.\nDirections:\nThe range is at the Northernmost end of River Rd. in the Northwest Corner of Leyden\, MA\, right up against the MA/VT border. If you cross into VT you have gone too far\, though\, not by much.\nGPS: 42.731884\,-72.661812\nState Laws to be aware of:\nIt is the responsibility of attendees to know and comply with all State and Federal Firearms Laws.\nMassachusetts State Firearms Laws\nYour rifle must be locked unloaded in your trunk or other secured container. Handguns may be possessed ONLY with a Massachusetts Class A License To Carry with either ‘None’ or ‘All Lawful Purposes’ for Reason for Issuance. – if you’re from out of state\, you need a MA non-resident LTC. MA has NO reciprocity with any other state. No ‘assault weapons’ – we still have an AWB that is the same thing as the old Federal AWB. ARs cannot have a flash hider\, collapsible stock or a bayonet lug unless they are ‘pre-ban.’ High capacity magazines must be pre-ban as well. Non-residents CANNOT purchase ammo in this state. They have to bring it with them… or go to New Hampshire overnight. Check other State Laws.\nSpecifically\, we advise visitors to:\n1. Bring a printout out the relevant exemptions within MGL (Ch130\, S131G: https://malegislature.gov/Laws/GeneralLaws/PartI/TitleXX/Chapter140/Section131g) as well as a copy of the event registration.\n2. transport according to law (unloaded\, locked container or trunk)\n3. refuse to consent to any searches thereof.\nMisc:\nOur first Western Massachusetts location!  Inches from the VT border\, so Vermonters are definitely welcome too.\nCenterfire and Rimfire OK.\nQualified shooters with centerfire rifles will shoot out to 250 yards on Sunday.\nNo alcohol permitted\nFor more information contact:\nName: MA State Coordinator Email Address: MA@appleseedinfo.org
URL:https://gunstuff.tv/event/rimfire-known-distance-10/
LOCATION:Leyden Rifle Club\, 2 River St\, Greenfield\, MA\, United States
GEO:42.583318;-72.605263
X-APPLE-STRUCTURED-LOCATION;VALUE=URI;X-ADDRESS=Leyden Rifle Club 2 River St Greenfield MA United States;X-APPLE-RADIUS=500;X-TITLE=2 River St:geo:-72.605263,42.583318
END:VEVENT
END:VCALENDAR