BEGIN:VCALENDAR
VERSION:2.0
PRODID:-//GunStuff TV - ECPv6.15.20//NONSGML v1.0//EN
CALSCALE:GREGORIAN
METHOD:PUBLISH
X-WR-CALNAME:GunStuff TV
X-ORIGINAL-URL:https://gunstuff.tv
X-WR-CALDESC:Events for GunStuff TV
REFRESH-INTERVAL;VALUE=DURATION:PT1H
X-Robots-Tag:noindex
X-PUBLISHED-TTL:PT1H
BEGIN:VTIMEZONE
TZID:UTC
BEGIN:STANDARD
TZOFFSETFROM:+0000
TZOFFSETTO:+0000
TZNAME:UTC
DTSTART:20250101T000000
END:STANDARD
END:VTIMEZONE
BEGIN:VEVENT
DTSTART;TZID=UTC:20260412T073000
DTEND;TZID=UTC:20260412T073000
DTSTAMP:20260424T085908
CREATED:20260107T013347Z
LAST-MODIFIED:20260401T070139Z
UID:10003820-1775979000-1775979000@gunstuff.tv
SUMMARY:Havasu Steel Challenge Apr 12 2026
DESCRIPTION:Havasu Steel Challenge Apr 12 2026\nDate: 4/12/26\nStart Time: 7:30 AM\nLocation:\nLake Havasu Steel Challenge (SCSA494)\n7200 Dub Campbell Parkway\nLake Havasu City\, AZ\nEvent Contact Information\nJon Breazeal\n928-208-1161\nhavasusteelchallenge@gmail.com\nMatch Information\nTier 1 Steel Challenge Match – shooting 6 stages\nSmoke & Hope\, Showdown\, Roundabout\, Accelerator\, Speed Option and Outer Limits\, or new Candidate Stage(s) (tbd)\nSTART TIME: Sign-in @ 7:30am / Match starts @ 8:00am\n1st gun $15\, additional gun(s) $5 each\nEvent Website\nhttps://www.fb.com/havasusteelchallenge
URL:https://gunstuff.tv/event/havasu-steel-challenge-apr-12-2026/
LOCATION:Lake Havasu Steel Challenge (SCSA494)\, 898 Campbell Rd\, Bullhead City\, AZ\, United States
GEO:35.189141;-114.52637
X-APPLE-STRUCTURED-LOCATION;VALUE=URI;X-ADDRESS=Lake Havasu Steel Challenge (SCSA494) 898 Campbell Rd Bullhead City AZ United States;X-APPLE-RADIUS=500;X-TITLE=898 Campbell Rd:geo:-114.52637,35.189141
END:VEVENT
BEGIN:VEVENT
DTSTART;TZID=UTC:20260322T083000
DTEND;TZID=UTC:20260322T083000
DTSTAMP:20260424T085908
CREATED:20260107T013346Z
LAST-MODIFIED:20260318T064634Z
UID:10003809-1774168200-1774168200@gunstuff.tv
SUMMARY:Havasu Steel Challenge Mar 22 2026 (4th Sunday)
DESCRIPTION:Havasu Steel Challenge Mar 22 2026 (4th Sunday)\nDate: 3/22/26\nStart Time: 8:30 AM\nLocation:\nLake Havasu Steel Challenge (SCSA494)\n7200 Dub Campbell Parkway\nLake Havasu City\, AZ\nEvent Contact Information\nJon Breazeal\n928-208-1161\nhavasusteelchallenge@gmail.com\nMatch Information\nTier 1 Steel Challenge Match – shooting 6 stages\n5 to Go\, Pendulum\, Smoke & Hope\, Showdown\, Roundabout\, Accelerator\, and/or two of the new Candidate Stages (tbd)\nSTART TIME: Sign-in @ 8:30am / Match starts @ 9:00am\n*2026 price increase: 1st gun $15\, additional gun(s) $5 each\nEvent Website\nhttps://www.fb.com/havasusteelchallenge
URL:https://gunstuff.tv/event/havasu-steel-challenge-mar-8-2026/
LOCATION:Lake Havasu Steel Challenge (SCSA494)\, 898 Campbell Rd\, Bullhead City\, AZ\, United States
GEO:35.189141;-114.52637
X-APPLE-STRUCTURED-LOCATION;VALUE=URI;X-ADDRESS=Lake Havasu Steel Challenge (SCSA494) 898 Campbell Rd Bullhead City AZ United States;X-APPLE-RADIUS=500;X-TITLE=898 Campbell Rd:geo:-114.52637,35.189141
END:VEVENT
BEGIN:VEVENT
DTSTART;TZID=UTC:20260208T083000
DTEND;TZID=UTC:20260208T083000
DTSTAMP:20260424T085908
CREATED:20260107T013345Z
LAST-MODIFIED:20260128T014748Z
UID:10003800-1770539400-1770539400@gunstuff.tv
SUMMARY:Havasu Steel Challenge Feb 8 2026
DESCRIPTION:Havasu Steel Challenge Feb 8 2026\nDate: 2/08/26\nStart Time: 8:30 AM\nLocation:\nLake Havasu Steel Challenge (SCSA494)\n7200 Dub Campbell Parkway\nLake Havasu City\, AZ\nEvent Contact Information\nJon Breazeal\n928-208-1161\nhavasusteelchallenge@gmail.com\nMatch Information\nTier 1 Steel Challenge Match – shooting 6 stages\n5 to Go\, Pendulum\, Smoke & Hope\, Showdown\, Roundabout\, Accelerator\, and/or two of the new Candidate Stages (tbd)\nSTART TIME: Sign-in @ 8:30am / Match starts @ 9:00am\n*2026 price increase: 1st gun $15\, additional gun(s) $5 each\nEvent Website\nhttps://www.fb.com/havasusteelchallenge
URL:https://gunstuff.tv/event/havasu-steel-challenge-feb-8-2026/
LOCATION:Lake Havasu Steel Challenge (SCSA494)\, 898 Campbell Rd\, Bullhead City\, AZ\, United States
GEO:35.189141;-114.52637
X-APPLE-STRUCTURED-LOCATION;VALUE=URI;X-ADDRESS=Lake Havasu Steel Challenge (SCSA494) 898 Campbell Rd Bullhead City AZ United States;X-APPLE-RADIUS=500;X-TITLE=898 Campbell Rd:geo:-114.52637,35.189141
END:VEVENT
END:VCALENDAR