BEGIN:VCALENDAR
VERSION:2.0
PRODID:-//GunStuff TV - ECPv6.15.20//NONSGML v1.0//EN
CALSCALE:GREGORIAN
METHOD:PUBLISH
X-ORIGINAL-URL:https://gunstuff.tv
X-WR-CALDESC:Events for GunStuff TV
REFRESH-INTERVAL;VALUE=DURATION:PT1H
X-Robots-Tag:noindex
X-PUBLISHED-TTL:PT1H
BEGIN:VTIMEZONE
TZID:UTC
BEGIN:STANDARD
TZOFFSETFROM:+0000
TZOFFSETTO:+0000
TZNAME:UTC
DTSTART:20250101T000000
END:STANDARD
END:VTIMEZONE
BEGIN:VEVENT
DTSTART;TZID=UTC:20260925T130000
DTEND;TZID=UTC:20260925T190000
DTSTAMP:20260422T222013
CREATED:20251005T192820Z
LAST-MODIFIED:20260421T084628Z
UID:10001774-1790341200-1790362800@gunstuff.tv
SUMMARY:RMSCA 2026 Annual Clay Shoot
DESCRIPTION:
URL:https://gunstuff.tv/event/rmsca-2025-annual-clay-shoot/
LOCATION:Kiowa Creek Sporting Club\, 48900 E Co Rd 30\, Strasburg\, CO\, United States
ORGANIZER;CN="Rocky Mountain Steel Construction Association":MAILTO:info@rmsca.org
GEO:39.636584;-104.416298
X-APPLE-STRUCTURED-LOCATION;VALUE=URI;X-ADDRESS=Kiowa Creek Sporting Club 48900 E Co Rd 30 Strasburg CO United States;X-APPLE-RADIUS=500;X-TITLE=48900 E Co Rd 30:geo:-104.416298,39.636584
END:VEVENT
BEGIN:VEVENT
DTSTART;TZID=UTC:20260925T130000
DTEND;TZID=UTC:20260925T190000
DTSTAMP:20260422T222013
CREATED:20251005T192820Z
LAST-MODIFIED:20260104T213126Z
UID:10001775-1790341200-1790362800@gunstuff.tv
SUMMARY:RMSCA 2025 Annual Clay Shoot
DESCRIPTION:
URL:https://gunstuff.tv/event/rmsca-2025-annual-clay-shoot-2/
LOCATION:Kiowa Creek Sporting Club\, 48900 E Co Rd 30\, Strasburg\, CO\, United States
GEO:39.636584;-104.416298
X-APPLE-STRUCTURED-LOCATION;VALUE=URI;X-ADDRESS=Kiowa Creek Sporting Club 48900 E Co Rd 30 Strasburg CO United States;X-APPLE-RADIUS=500;X-TITLE=48900 E Co Rd 30:geo:-104.416298,39.636584
END:VEVENT
END:VCALENDAR