BEGIN:VCALENDAR
VERSION:2.0
PRODID:-//GunStuff TV - ECPv6.15.20//NONSGML v1.0//EN
CALSCALE:GREGORIAN
METHOD:PUBLISH
X-ORIGINAL-URL:https://gunstuff.tv
X-WR-CALDESC:Events for GunStuff TV
REFRESH-INTERVAL;VALUE=DURATION:PT1H
X-Robots-Tag:noindex
X-PUBLISHED-TTL:PT1H
BEGIN:VTIMEZONE
TZID:UTC
BEGIN:STANDARD
TZOFFSETFROM:+0000
TZOFFSETTO:+0000
TZNAME:UTC
DTSTART:20250101T000000
END:STANDARD
END:VTIMEZONE
BEGIN:VEVENT
DTSTART;TZID=UTC:20260502T090000
DTEND;TZID=UTC:20260502T090000
DTSTAMP:20260424T102839
CREATED:20260107T013348Z
LAST-MODIFIED:20260418T174736Z
UID:10003825-1777712400-1777712400@gunstuff.tv
SUMMARY:ISRA SCSA Steel Challenge
DESCRIPTION:ISRA SCSA Steel Challenge\nDate: 5/02/26\nStart Time: 9:00 AM\nLocation:\nIllinois State Rifle Association Range (SCSA470)\n1589N 7000 West Rd\nBonfield\, IL\nEvent Contact Information\nJeff Davis\n708-476-3257\n3gngfn@gmail.com\nEvent Website\nhttps://practiscore.com/clubs/isra_range
URL:https://gunstuff.tv/event/isra-scsa-steel-challenge-3/
LOCATION:Illinois State Rifle Association Range (SCSA470)\, 1589 N 7000W Rd\, Bonfield\, IL\, United States
GEO:41.141026;-88.010679
X-APPLE-STRUCTURED-LOCATION;VALUE=URI;X-ADDRESS=Illinois State Rifle Association Range (SCSA470) 1589 N 7000W Rd Bonfield IL United States;X-APPLE-RADIUS=500;X-TITLE=1589 N 7000W Rd:geo:-88.010679,41.141026
END:VEVENT
BEGIN:VEVENT
DTSTART;TZID=UTC:20260606T090000
DTEND;TZID=UTC:20260606T090000
DTSTAMP:20260424T102839
CREATED:20260107T013348Z
LAST-MODIFIED:20260418T174740Z
UID:10003831-1780736400-1780736400@gunstuff.tv
SUMMARY:ISRA SCSA Steel Challenge
DESCRIPTION:ISRA SCSA Steel Challenge\nDate: 6/06/26\nStart Time: 9:00 AM\nLocation:\nIllinois State Rifle Association Range (SCSA470)\n1589N 7000 West Rd\nBonfield\, IL\nEvent Contact Information\nJeff Davis\n708-476-3257\n3gngfn@gmail.com\nEvent Website\nhttps://practiscore.com/clubs/isra_range
URL:https://gunstuff.tv/event/isra-scsa-steel-challenge-4/
LOCATION:Illinois State Rifle Association Range (SCSA470)\, 1589 N 7000W Rd\, Bonfield\, IL\, United States
GEO:41.141026;-88.010679
X-APPLE-STRUCTURED-LOCATION;VALUE=URI;X-ADDRESS=Illinois State Rifle Association Range (SCSA470) 1589 N 7000W Rd Bonfield IL United States;X-APPLE-RADIUS=500;X-TITLE=1589 N 7000W Rd:geo:-88.010679,41.141026
END:VEVENT
BEGIN:VEVENT
DTSTART;TZID=UTC:20260711T090000
DTEND;TZID=UTC:20260711T090000
DTSTAMP:20260424T102839
CREATED:20260107T013349Z
LAST-MODIFIED:20260418T174743Z
UID:10003837-1783760400-1783760400@gunstuff.tv
SUMMARY:ISRA SCSA Steel Challenge
DESCRIPTION:ISRA SCSA Steel Challenge\nDate: 7/11/26\nStart Time: 9:00 AM\nLocation:\nIllinois State Rifle Association Range (SCSA470)\n1589N 7000 West Rd\nBonfield\, IL\nEvent Contact Information\nJeff Davis\n708-476-3257\n3gngfn@gmail.com\nEvent Website\nhttps://practiscore.com/clubs/isra_range
URL:https://gunstuff.tv/event/isra-scsa-steel-challenge-5/
LOCATION:Illinois State Rifle Association Range (SCSA470)\, 1589 N 7000W Rd\, Bonfield\, IL\, United States
GEO:41.141026;-88.010679
X-APPLE-STRUCTURED-LOCATION;VALUE=URI;X-ADDRESS=Illinois State Rifle Association Range (SCSA470) 1589 N 7000W Rd Bonfield IL United States;X-APPLE-RADIUS=500;X-TITLE=1589 N 7000W Rd:geo:-88.010679,41.141026
END:VEVENT
BEGIN:VEVENT
DTSTART;TZID=UTC:20260801T090000
DTEND;TZID=UTC:20260801T090000
DTSTAMP:20260424T102839
CREATED:20260107T013349Z
LAST-MODIFIED:20260418T174745Z
UID:10003842-1785574800-1785574800@gunstuff.tv
SUMMARY:ISRA SCSA Steel Challenge
DESCRIPTION:ISRA SCSA Steel Challenge\nDate: 8/01/26\nStart Time: 9:00 AM\nLocation:\nIllinois State Rifle Association Range (SCSA470)\n1589N 7000 West Rd\nBonfield\, IL\nEvent Contact Information\nJeff Davis\n708-476-3257\n3 gngfn@gmail.com\nEvent Website\nhttps://practiscore.com/clubs/isra_range
URL:https://gunstuff.tv/event/isra-scsa-steel-challenge-6/
LOCATION:Illinois State Rifle Association Range (SCSA470)\, 1589 N 7000W Rd\, Bonfield\, IL\, United States
GEO:41.141026;-88.010679
X-APPLE-STRUCTURED-LOCATION;VALUE=URI;X-ADDRESS=Illinois State Rifle Association Range (SCSA470) 1589 N 7000W Rd Bonfield IL United States;X-APPLE-RADIUS=500;X-TITLE=1589 N 7000W Rd:geo:-88.010679,41.141026
END:VEVENT
BEGIN:VEVENT
DTSTART;TZID=UTC:20260905T090000
DTEND;TZID=UTC:20260905T090000
DTSTAMP:20260424T102839
CREATED:20260107T013350Z
LAST-MODIFIED:20260418T174747Z
UID:10003847-1788598800-1788598800@gunstuff.tv
SUMMARY:ISRA SCSA Steel Challenge
DESCRIPTION:ISRA SCSA Steel Challenge\nDate: 9/05/26\nStart Time: 9:00 AM\nLocation:\nIllinois State Rifle Association Range (SCSA470)\n1589N 7000 West Rd\nBonfield\, IL\nEvent Contact Information\nJeff Davis\n708-476-3257\n3gngfn@gmail.com\nEvent Website\nhttps://practiscore.com/clubs/isra_range
URL:https://gunstuff.tv/event/isra-scsa-steel-challenge-7/
LOCATION:Illinois State Rifle Association Range (SCSA470)\, 1589 N 7000W Rd\, Bonfield\, IL\, United States
GEO:41.141026;-88.010679
X-APPLE-STRUCTURED-LOCATION;VALUE=URI;X-ADDRESS=Illinois State Rifle Association Range (SCSA470) 1589 N 7000W Rd Bonfield IL United States;X-APPLE-RADIUS=500;X-TITLE=1589 N 7000W Rd:geo:-88.010679,41.141026
END:VEVENT
BEGIN:VEVENT
DTSTART;TZID=UTC:20261003T090000
DTEND;TZID=UTC:20261003T090000
DTSTAMP:20260424T102839
CREATED:20260107T013350Z
LAST-MODIFIED:20260418T174749Z
UID:10003851-1791018000-1791018000@gunstuff.tv
SUMMARY:ISRA SCSA Steel Challenge
DESCRIPTION:ISRA SCSA Steel Challenge\nDate: 10/03/26\nStart Time: 9:00 AM\nLocation:\nIllinois State Rifle Association Range (SCSA470)\n1589N 7000 West Rd\nBonfield\, IL\nEvent Contact Information\nJeff Davis\n708-476-3257\n3gngfn@gmail.com\nEvent Website\nhttps://practiscore.com/clubs/isra_range
URL:https://gunstuff.tv/event/isra-scsa-steel-challenge-8/
LOCATION:Illinois State Rifle Association Range (SCSA470)\, 1589 N 7000W Rd\, Bonfield\, IL\, United States
GEO:41.141026;-88.010679
X-APPLE-STRUCTURED-LOCATION;VALUE=URI;X-ADDRESS=Illinois State Rifle Association Range (SCSA470) 1589 N 7000W Rd Bonfield IL United States;X-APPLE-RADIUS=500;X-TITLE=1589 N 7000W Rd:geo:-88.010679,41.141026
END:VEVENT
BEGIN:VEVENT
DTSTART;TZID=UTC:20261107T090000
DTEND;TZID=UTC:20261107T090000
DTSTAMP:20260424T102839
CREATED:20260107T013350Z
LAST-MODIFIED:20260418T174751Z
UID:10003854-1794042000-1794042000@gunstuff.tv
SUMMARY:ISRA SCSA Steel Challenge
DESCRIPTION:ISRA SCSA Steel Challenge\nDate: 11/07/26\nStart Time: 9:00 AM\nLocation:\nIllinois State Rifle Association Range (SCSA470)\n1589N 7000 West Rd\nBonfield\, IL\nEvent Contact Information\nJeff Davis\n708-476-3257\n3gngfn@gmail.com\nEvent Website\nhttps://practiscore.com/clubs/isra_range
URL:https://gunstuff.tv/event/isra-scsa-steel-challenge-9/
LOCATION:Illinois State Rifle Association Range (SCSA470)\, 1589 N 7000W Rd\, Bonfield\, IL\, United States
GEO:41.141026;-88.010679
X-APPLE-STRUCTURED-LOCATION;VALUE=URI;X-ADDRESS=Illinois State Rifle Association Range (SCSA470) 1589 N 7000W Rd Bonfield IL United States;X-APPLE-RADIUS=500;X-TITLE=1589 N 7000W Rd:geo:-88.010679,41.141026
END:VEVENT
END:VCALENDAR