BEGIN:VCALENDAR
VERSION:2.0
PRODID:-//GunStuff TV - ECPv6.15.20//NONSGML v1.0//EN
CALSCALE:GREGORIAN
METHOD:PUBLISH
X-ORIGINAL-URL:https://gunstuff.tv
X-WR-CALDESC:Events for GunStuff TV
REFRESH-INTERVAL;VALUE=DURATION:PT1H
X-Robots-Tag:noindex
X-PUBLISHED-TTL:PT1H
BEGIN:VTIMEZONE
TZID:UTC
BEGIN:STANDARD
TZOFFSETFROM:+0000
TZOFFSETTO:+0000
TZNAME:UTC
DTSTART:20250101T000000
END:STANDARD
END:VTIMEZONE
BEGIN:VEVENT
DTSTART;TZID=UTC:20260418T150000
DTEND;TZID=UTC:20260418T193000
DTSTAMP:20260424T073905
CREATED:20260414T200210Z
LAST-MODIFIED:20260414T200210Z
UID:10007651-1776524400-1776540600@gunstuff.tv
SUMMARY:NRL22 Canada - Sherwood Park Fish and Game in Alberta - Apr COF on April 18 2026
DESCRIPTION:The NRL22 is a fun and cost effective way to get into precision rifle shooting! The group at SPFGA are easy-going and more than happy to welcome both new- and guest-shooters.\nThis is a .22lr event shooting off of various barricades and props\, at target sizes ranging from .25″ to 6″ at varying distances.\nGear requirements: .22lr (bolt-action or semi-auto) with a detachable box magazine with 1 magazine\, 2 would be preferred. A magnified optic is not required\, though is strongly recommended.\n!!!!!!!! New for 2025 at Sherwood Park Fish & Game NRL22 events !!!!!!!!\nThere will be an extra practice stage set up\, in addition to the five from that month’s course of fire. This stage is intended for new competitors\, and those still learning the ropes alike\, to practice fundamentals before the match begins. If you intend to make use of this practice stage\, please plan to be at the range for 9:00am (an hour before the match begins)\, and notify one of the match director’s in advance to ensure your access to the facilities. Additionally\, we understand there is an element of intimidation to those first few matches\, and we encourage potentially shy shooters not to worry this community is very helpful and you are in great company to learn.\nNo rifle\, no ammo? No problem! We understand that this is an expensive shooting sport to begin with\, and acquiring gear up front can be intimidating and costly. We are able to provide a loaner rifle\, supplementary ammunition and any other necessary gear for first-time shooters. We are happy to offer this for the first few matches for new shooters\, though please do not abuse our charity! If you will require a loaner rifle\, please contact one of the match director’s in advance.\n-8:00am: match setup (feel free to show up early and pitch in!)\n-9:00am: Match briefing and zero\n-10:00am: monthly NRL22 match begins\n-matches will proceed rain or shine\, unless otherwise notified\n-Round count: 75 minimum\n-Safety equipment: hearing protection and chamber flag\n-Note: Non-members must pay a once-per-day $25 guest fee to access the SPFGA property. Card only\, please DO NOT bring cash.\n-Match directors:\n-Lowell Niven (lowellniven@hotmail.com)\n-Todd Laughlin (todd.laughlin@hotmail.com)\nMonthly Course of Fire can be found here: https://nrl22canada.ca/\nHope to see you at the match\, come see what your .22 can do!
URL:https://gunstuff.tv/event/nrl22-canada-sherwood-park-fish-and-game-in-alberta-apr-cof-on-april-18-2026/
LOCATION:Highway 33 East\, Sherwood Park AB\, Canada
END:VEVENT
END:VCALENDAR