BEGIN:VCALENDAR
VERSION:2.0
PRODID:-//GunStuff TV - ECPv6.15.20//NONSGML v1.0//EN
CALSCALE:GREGORIAN
METHOD:PUBLISH
X-WR-CALNAME:GunStuff TV
X-ORIGINAL-URL:https://gunstuff.tv
X-WR-CALDESC:Events for GunStuff TV
REFRESH-INTERVAL;VALUE=DURATION:PT1H
X-Robots-Tag:noindex
X-PUBLISHED-TTL:PT1H
BEGIN:VTIMEZONE
TZID:UTC
BEGIN:STANDARD
TZOFFSETFROM:+0000
TZOFFSETTO:+0000
TZNAME:UTC
DTSTART:20250101T000000
END:STANDARD
END:VTIMEZONE
BEGIN:VEVENT
DTSTART;TZID=UTC:20260425T160000
DTEND;TZID=UTC:20260425T213000
DTSTAMP:20260424T085533
CREATED:20260421T200328Z
LAST-MODIFIED:20260421T200328Z
UID:10008362-1777132800-1777152600@gunstuff.tv
SUMMARY:NRL22 Canada - Buffalo Target Shooters Association in AB - April COF on April 25 2026
DESCRIPTION:Arrive: 8:45 am\nSight-in: 9:00 am  – 9:30 am\nSafety briefing and set-up: 9:30 am – 10:00 am\nMatch begins: 10:00 am\n***Absolutely no hyper-velocity ammunition***\nQuestions: email Dale at dagtay@gmail.com
URL:https://gunstuff.tv/event/nrl22-canada-buffalo-target-shooters-association-in-ab-april-cof-on-april-25-2026/
LOCATION:Highway 33 East\, Calgary AB\, Canada
END:VEVENT
END:VCALENDAR