BEGIN:VCALENDAR
VERSION:2.0
PRODID:-//GunStuff TV - ECPv6.15.20//NONSGML v1.0//EN
CALSCALE:GREGORIAN
METHOD:PUBLISH
X-ORIGINAL-URL:https://gunstuff.tv
X-WR-CALDESC:Events for GunStuff TV
REFRESH-INTERVAL;VALUE=DURATION:PT1H
X-Robots-Tag:noindex
X-PUBLISHED-TTL:PT1H
BEGIN:VTIMEZONE
TZID:UTC
BEGIN:STANDARD
TZOFFSETFROM:+0000
TZOFFSETTO:+0000
TZNAME:UTC
DTSTART:20250101T000000
END:STANDARD
END:VTIMEZONE
BEGIN:VEVENT
DTSTART;TZID=UTC:20260425T073000
DTEND;TZID=UTC:20260426T153000
DTSTAMP:20260422T070413
CREATED:20260421T200353Z
LAST-MODIFIED:20260421T200353Z
UID:10008595-1777102200-1777217400@gunstuff.tv
SUMMARY:XPSC Spring Action Air L2 Championship 2026
DESCRIPTION:XPSC Welcomes you to the Spring Action Air Level 2 Championship!\nThe match will consist of 10 Stages shot both indoors and in our outdoor range space.\nLevel 2 IPSC Sanctioned Match\nUKPSA Short gun competition licence required for all UKPSA members!\nIf you require a short gun safety course please contact paul@xpsc.org.uk and we will see what we can do to accommodate.\nPre match – Saturday 25th April – for Crew and Match Officials ONLY\nMain Match – Sunday 26th April – Open to all\nDoors will be open from 08:00 with match briefing at 08:50 ready for first rounds downrange at 09:00\nAny questions please email Match Director Paul Wyborn – paul@xpsc.org.uk
URL:https://gunstuff.tv/event/xpsc-spring-action-air-l2-championship-2026/
LOCATION:\, High Wycombe Buckinghamshire\, United Kingdom
END:VEVENT
END:VCALENDAR