BEGIN:VCALENDAR
VERSION:2.0
PRODID:-//GunStuff TV - ECPv6.15.20//NONSGML v1.0//EN
CALSCALE:GREGORIAN
METHOD:PUBLISH
X-WR-CALNAME:GunStuff TV
X-ORIGINAL-URL:https://gunstuff.tv
X-WR-CALDESC:Events for GunStuff TV
REFRESH-INTERVAL;VALUE=DURATION:PT1H
X-Robots-Tag:noindex
X-PUBLISHED-TTL:PT1H
BEGIN:VTIMEZONE
TZID:UTC
BEGIN:STANDARD
TZOFFSETFROM:+0000
TZOFFSETTO:+0000
TZNAME:UTC
DTSTART:20250101T000000
END:STANDARD
END:VTIMEZONE
BEGIN:VEVENT
DTSTART;TZID=UTC:20260418T130000
DTEND;TZID=UTC:20260418T203000
DTSTAMP:20260424T073627
CREATED:20260414T200217Z
LAST-MODIFIED:20260414T200217Z
UID:10007710-1776517200-1776544200@gunstuff.tv
SUMMARY:NSRC PRM April 18th\, 2026
DESCRIPTION:Gate opens at 8:00 AM and check in starts at 8:10 AM. Match fee is $30.00 cash only.  PLEASE HAVE EXACT CHANGE. Match Brief and Safety meeting at 8:45 AM.  Shooting Starts at 9:00 AM sharp. Match will consist of 8-9 stages\, 400-800 yards. You will need 90-100 rounds total. You must have a chamber flag with you as well. When you drive down Green Spring Rd it looks like a dead end and there are No Trespassing signs (don’t worry)\, keep driving past them (((*****10 MPH maximum*****))) in and out. This will bring you to the open gate for the range. Hope to see you there!\nAlso check your emails the night before the match for any possible match updates or changes.  Early season matches are dependent on range conditions.
URL:https://gunstuff.tv/event/nsrc-prm-april-18th-2026/
LOCATION:Green Spring Road\, Redwing MN\, United States
END:VEVENT
END:VCALENDAR