BEGIN:VCALENDAR
VERSION:2.0
PRODID:-//GunStuff TV - ECPv6.15.20//NONSGML v1.0//EN
CALSCALE:GREGORIAN
METHOD:PUBLISH
X-ORIGINAL-URL:https://gunstuff.tv
X-WR-CALDESC:Events for GunStuff TV
REFRESH-INTERVAL;VALUE=DURATION:PT1H
X-Robots-Tag:noindex
X-PUBLISHED-TTL:PT1H
BEGIN:VTIMEZONE
TZID:UTC
BEGIN:STANDARD
TZOFFSETFROM:+0000
TZOFFSETTO:+0000
TZNAME:UTC
DTSTART:20250101T000000
END:STANDARD
END:VTIMEZONE
BEGIN:VEVENT
DTSTART;TZID=UTC:20260424T160000
DTEND;TZID=UTC:20260426T120000
DTSTAMP:20260421T173826
CREATED:20260421T200348Z
LAST-MODIFIED:20260421T200348Z
UID:10008543-1777046400-1777204800@gunstuff.tv
SUMMARY:BST GTG (Get to Grips) Tactical Training and Sortie April 24-26th
DESCRIPTION:Friday night 18h00 check-in\, equipment check\, weigh-in and program\nSaturday – Get to Grips – dedicated platform training – Rifle\, Shotgun\, Handgun and Physical movement coaching.\nSunday – The sortie – various exercises modelled on the main event in August 2026\nWe start early and finish late. Catering – on and off the range is in your hands.\nYou will need access to…\nGun and Gear\n* Handgun / Shotgun / Rifle\n* Holsters (kydex with adjustable/permanent retention)\n* Slings for Rifle / Shotgun (optional)\n* Magazines minimum of 3\n* Magazine pouches / ammunition carriers\n* Chamber flag for Rifle and Shotgun\n* PPE\n* IFAK / First Aid kit / OTC medicines if prone to issues\n* Weighted vest / Plate carrier / Bullet Proof /Ruck Sack – weighted to your category. (UW/LW/MW/EW)\nOptional (nice to haves)\n* Dump pouch\n* Knee pads\n* Elbow pads\n* Battle belt\n* Camel back\n* Gloves\n* Buff\n* Range cart\n——————————————————————————————————\nIn order to secure your spot for this event please pay your deposit (R500) for the GTG as well as your accommodation options selected to…\nGecko Rock\nBusiness Cheque Account\nFNB\n622 716 33599\nReference: “GTG-04-2026-Yourlastname”\nKindly whatsapp or send POP to sharon@geckorock.co.za or whatsapp 082 493 8733\nPayment options are available\, please make contact with us below.\nJonathan Deal – 076 838 5150\nSharon Deal – 082 493 8733\nTravis Deal – 082 821 3688\nWe look forward to welcoming you and growing the warrior within.
URL:https://gunstuff.tv/event/bst-gtg-get-to-grips-tactical-training-and-sortie-april-24-26th/
LOCATION:Gecko Rock Private Nature Reserve\, Worcester Western Cape\, South Africa
END:VEVENT
END:VCALENDAR