BEGIN:VCALENDAR
VERSION:2.0
PRODID:-//GunStuff TV - ECPv6.15.20//NONSGML v1.0//EN
CALSCALE:GREGORIAN
METHOD:PUBLISH
X-WR-CALNAME:GunStuff TV
X-ORIGINAL-URL:https://gunstuff.tv
X-WR-CALDESC:Events for GunStuff TV
REFRESH-INTERVAL;VALUE=DURATION:PT1H
X-Robots-Tag:noindex
X-PUBLISHED-TTL:PT1H
BEGIN:VTIMEZONE
TZID:UTC
BEGIN:STANDARD
TZOFFSETFROM:+0000
TZOFFSETTO:+0000
TZNAME:UTC
DTSTART:20250101T000000
END:STANDARD
END:VTIMEZONE
BEGIN:VEVENT
DTSTART;TZID=UTC:20260418T060000
DTEND;TZID=UTC:20260419T160000
DTSTAMP:20260421T055710
CREATED:20260414T200216Z
LAST-MODIFIED:20260414T200216Z
UID:10007694-1776492000-1776614400@gunstuff.tv
SUMMARY:2 Pr - 9°Regional Championship Piemonte L.S.S.A. CSEN 2026
DESCRIPTION:Quota di partecipazione: € 50\,00\nVersamento: entro il 15 aprile 2026 a mezzo bonifico bancario intestato\na: Ass. Sportiva CUNEO COMBAT CLUB.\nIBAN: IT73C0843946010000160111483 Banca di Caraglio del Cuneese e\ndella riviera dei Fiori Ag. Di Borgo San Dalmazzo\nSi prega di rispettare i termini delle iscrizioni\, che si intendono perfezionate\nsolo al ricevimento della quota prevista; trascorsi 7 giorni dalla prenotazione\neffettuata su Practiscore\, la stessa sarà annullata a favore di altri tiratori.
URL:https://gunstuff.tv/event/2-pr-9regional-championship-piemonte-l-s-s-a-csen-2026/
LOCATION:Fraz. Ricchiardo\, Sommariva del Bosco CN\, Italy
END:VEVENT
END:VCALENDAR