BEGIN:VCALENDAR
VERSION:2.0
PRODID:-//GunStuff TV - ECPv6.15.20//NONSGML v1.0//EN
CALSCALE:GREGORIAN
METHOD:PUBLISH
X-WR-CALNAME:GunStuff TV
X-ORIGINAL-URL:https://gunstuff.tv
X-WR-CALDESC:Events for GunStuff TV
REFRESH-INTERVAL;VALUE=DURATION:PT1H
X-Robots-Tag:noindex
X-PUBLISHED-TTL:PT1H
BEGIN:VTIMEZONE
TZID:America/New_York
BEGIN:DAYLIGHT
TZOFFSETFROM:-0500
TZOFFSETTO:-0400
TZNAME:EDT
DTSTART:20250309T070000
END:DAYLIGHT
BEGIN:STANDARD
TZOFFSETFROM:-0400
TZOFFSETTO:-0500
TZNAME:EST
DTSTART:20251102T060000
END:STANDARD
BEGIN:DAYLIGHT
TZOFFSETFROM:-0500
TZOFFSETTO:-0400
TZNAME:EDT
DTSTART:20260308T070000
END:DAYLIGHT
BEGIN:STANDARD
TZOFFSETFROM:-0400
TZOFFSETTO:-0500
TZNAME:EST
DTSTART:20261101T060000
END:STANDARD
BEGIN:DAYLIGHT
TZOFFSETFROM:-0500
TZOFFSETTO:-0400
TZNAME:EDT
DTSTART:20270314T070000
END:DAYLIGHT
BEGIN:STANDARD
TZOFFSETFROM:-0400
TZOFFSETTO:-0500
TZNAME:EST
DTSTART:20271107T060000
END:STANDARD
END:VTIMEZONE
BEGIN:VEVENT
DTSTART;TZID=America/New_York:20260328T080000
DTEND;TZID=America/New_York:20260328T120000
DTSTAMP:20260422T050808
CREATED:20260109T190153Z
LAST-MODIFIED:20260327T200129Z
UID:10003913-1774684800-1774699200@gunstuff.tv
SUMMARY:MRPC @ Ft Meade
DESCRIPTION:Club Shoot\, Practical Rifle\, Weaponcraft
URL:https://gunstuff.tv/event/mrpc-ft-meade-3/
LOCATION:Fort Meade\, Range Road
END:VEVENT
BEGIN:VEVENT
DTSTART;TZID=America/New_York:20260314T080000
DTEND;TZID=America/New_York:20260314T120000
DTSTAMP:20260422T050808
CREATED:20260109T190153Z
LAST-MODIFIED:20260313T194628Z
UID:10003912-1773475200-1773489600@gunstuff.tv
SUMMARY:MRPC @ Fort Meade
DESCRIPTION:Club Shoot\, Club Rifle
URL:https://gunstuff.tv/event/mrpc-fort-meade-2/
LOCATION:Fort Meade\, Range Road
END:VEVENT
BEGIN:VEVENT
DTSTART;TZID=America/New_York:20260221T070000
DTEND;TZID=America/New_York:20260221T110000
DTSTAMP:20260422T050808
CREATED:20260109T190153Z
LAST-MODIFIED:20260220T193141Z
UID:10003911-1771657200-1771671600@gunstuff.tv
SUMMARY:MRPC @ Fort Meade
DESCRIPTION:Club Shoot\, Club Rifle\, Weaponcraft
URL:https://gunstuff.tv/event/mrpc-fort-meade/
LOCATION:Fort Meade\, Range Road
END:VEVENT
END:VCALENDAR