BEGIN:VCALENDAR
VERSION:2.0
PRODID:-//GunStuff TV - ECPv6.15.20//NONSGML v1.0//EN
CALSCALE:GREGORIAN
METHOD:PUBLISH
X-WR-CALNAME:GunStuff TV
X-ORIGINAL-URL:https://gunstuff.tv
X-WR-CALDESC:Events for GunStuff TV
REFRESH-INTERVAL;VALUE=DURATION:PT1H
X-Robots-Tag:noindex
X-PUBLISHED-TTL:PT1H
BEGIN:VTIMEZONE
TZID:America/New_York
BEGIN:DAYLIGHT
TZOFFSETFROM:-0500
TZOFFSETTO:-0400
TZNAME:EDT
DTSTART:20250309T070000
END:DAYLIGHT
BEGIN:STANDARD
TZOFFSETFROM:-0400
TZOFFSETTO:-0500
TZNAME:EST
DTSTART:20251102T060000
END:STANDARD
BEGIN:DAYLIGHT
TZOFFSETFROM:-0500
TZOFFSETTO:-0400
TZNAME:EDT
DTSTART:20260308T070000
END:DAYLIGHT
BEGIN:STANDARD
TZOFFSETFROM:-0400
TZOFFSETTO:-0500
TZNAME:EST
DTSTART:20261101T060000
END:STANDARD
BEGIN:DAYLIGHT
TZOFFSETFROM:-0500
TZOFFSETTO:-0400
TZNAME:EDT
DTSTART:20270314T070000
END:DAYLIGHT
BEGIN:STANDARD
TZOFFSETFROM:-0400
TZOFFSETTO:-0500
TZNAME:EST
DTSTART:20271107T060000
END:STANDARD
END:VTIMEZONE
BEGIN:VEVENT
DTSTART;TZID=America/New_York:20260422T190000
DTEND;TZID=America/New_York:20260422T210000
DTSTAMP:20260423T005947
CREATED:20251207T181648Z
LAST-MODIFIED:20260419T190243Z
UID:10003449-1776884400-1776891600@gunstuff.tv
SUMMARY:Wednesday Night Trap League
DESCRIPTION:https://www.fxrgc.org/shotgun/wednesday-night-trap-league/ \nShotgun Fields 1-8.
URL:https://gunstuff.tv/event/wednesday-night-trap-league-14/
LOCATION:Fields 1-8
END:VEVENT
BEGIN:VEVENT
DTSTART;TZID=America/New_York:20260415T190000
DTEND;TZID=America/New_York:20260415T210000
DTSTAMP:20260423T005947
CREATED:20251207T181647Z
LAST-MODIFIED:20260412T184739Z
UID:10003448-1776279600-1776286800@gunstuff.tv
SUMMARY:Wednesday Night Trap League
DESCRIPTION:https://www.fxrgc.org/shotgun/wednesday-night-trap-league/ \nShotgun Fields 1-8.
URL:https://gunstuff.tv/event/wednesday-night-trap-league-13/
LOCATION:Fields 1-8
END:VEVENT
BEGIN:VEVENT
DTSTART;TZID=America/New_York:20260408T190000
DTEND;TZID=America/New_York:20260408T210000
DTSTAMP:20260423T005947
CREATED:20251207T181647Z
LAST-MODIFIED:20260405T184710Z
UID:10003447-1775674800-1775682000@gunstuff.tv
SUMMARY:Wednesday Night Trap League
DESCRIPTION:https://www.fxrgc.org/shotgun/wednesday-night-trap-league/ \nShotgun Fields 1-8.
URL:https://gunstuff.tv/event/wednesday-night-trap-league-12/
LOCATION:Fields 1-8
END:VEVENT
BEGIN:VEVENT
DTSTART;TZID=America/New_York:20260401T190000
DTEND;TZID=America/New_York:20260401T210000
DTSTAMP:20260423T005947
CREATED:20251207T181647Z
LAST-MODIFIED:20260329T184630Z
UID:10003446-1775070000-1775077200@gunstuff.tv
SUMMARY:Wednesday Night Trap League
DESCRIPTION:https://www.fxrgc.org/shotgun/wednesday-night-trap-league/ \nShotgun Fields 1-8.
URL:https://gunstuff.tv/event/wednesday-night-trap-league-11/
LOCATION:Fields 1-8
END:VEVENT
BEGIN:VEVENT
DTSTART;TZID=America/New_York:20260325T190000
DTEND;TZID=America/New_York:20260325T210000
DTSTAMP:20260423T005947
CREATED:20251207T181647Z
LAST-MODIFIED:20260322T184643Z
UID:10003445-1774465200-1774472400@gunstuff.tv
SUMMARY:Wednesday Night Trap League
DESCRIPTION:https://www.fxrgc.org/shotgun/wednesday-night-trap-league/ \nShotgun Fields 1-8.
URL:https://gunstuff.tv/event/wednesday-night-trap-league-10/
LOCATION:Fields 1-8
END:VEVENT
BEGIN:VEVENT
DTSTART;TZID=America/New_York:20260318T190000
DTEND;TZID=America/New_York:20260318T210000
DTSTAMP:20260423T005947
CREATED:20251207T181646Z
LAST-MODIFIED:20260315T183129Z
UID:10003444-1773860400-1773867600@gunstuff.tv
SUMMARY:Wednesday Night Trap League
DESCRIPTION:https://www.fxrgc.org/shotgun/wednesday-night-trap-league/ \nShotgun Fields 1-8.
URL:https://gunstuff.tv/event/wednesday-night-trap-league-9/
LOCATION:Fields 1-8
END:VEVENT
BEGIN:VEVENT
DTSTART;TZID=America/New_York:20260311T190000
DTEND;TZID=America/New_York:20260311T210000
DTSTAMP:20260423T005947
CREATED:20251207T181646Z
LAST-MODIFIED:20260308T183130Z
UID:10003442-1773255600-1773262800@gunstuff.tv
SUMMARY:Wednesday Night Trap League
DESCRIPTION:https://www.fxrgc.org/shotgun/wednesday-night-trap-league/ \nShotgun Fields 1-8.
URL:https://gunstuff.tv/event/wednesday-night-trap-league-8/
LOCATION:Fields 1-8
END:VEVENT
END:VCALENDAR